From mboxrd@z Thu Jan 1 00:00:00 1970 Return-Path: Received: from mails.dpdk.org (mails.dpdk.org [217.70.189.124]) by inbox.dpdk.org (Postfix) with ESMTP id 7EB9F46ADB for ; Wed, 2 Jul 2025 00:37:15 +0200 (CEST) Received: from mails.dpdk.org (localhost [127.0.0.1]) by mails.dpdk.org (Postfix) with ESMTP id 79E2E40298; Wed, 2 Jul 2025 00:37:15 +0200 (CEST) Received: from mail-io1-f99.google.com (mail-io1-f99.google.com [209.85.166.99]) by mails.dpdk.org (Postfix) with ESMTP id 7DEFF40298 for ; Wed, 2 Jul 2025 00:37:14 +0200 (CEST) Received: by mail-io1-f99.google.com with SMTP id ca18e2360f4ac-875dd57d63bso260810439f.0 for ; Tue, 01 Jul 2025 15:37:14 -0700 (PDT) DKIM-Signature: v=1; a=rsa-sha256; c=relaxed/relaxed; d=iol.unh.edu; s=unh-iol; t=1751409434; x=1752014234; darn=dpdk.org; h=references:in-reply-to:cc:to:from:subject:message-id:date:from:to :cc:subject:date:message-id:reply-to; bh=Ku/JB1ey0Xq6vq4XUEEXL8ZRz9pDxec1+GPwM4o3G2k=; b=QqUSDC3FbKNRWnADBPAbR9LAGdDt8uFyJCoX+DrWgqMGw/f+LtRVnXdkyICqOyNjk5 Wc3ZTS1OG7eQK1iyL9kC/EPBFjGmAkNcWI7AOtYlL7JoYJX5CwRVNb323kNNWeiPDObR drW1fnC0fMlbNZSjGa9payaqSfAou8z+AFgDk= X-Google-DKIM-Signature: v=1; a=rsa-sha256; c=relaxed/relaxed; d=1e100.net; s=20230601; t=1751409434; x=1752014234; h=references:in-reply-to:cc:to:from:subject:message-id:date :x-gm-message-state:from:to:cc:subject:date:message-id:reply-to; bh=Ku/JB1ey0Xq6vq4XUEEXL8ZRz9pDxec1+GPwM4o3G2k=; b=gBnQt6WCM5K+CDpok4M97K2vTA5ZZ/mkNryUd8/IZ3Rm0Rr8CBTE3pF2AbJaiDOhtF eYKjKQCcKvjY0k/YreYigFH1NHzU43m26YrZTu8lc/jMkqlfCWQyCw/njacogC4buJ7L VcwLBEx8QjRBasIlsVI7Ee3FONxD9T2VrGa+vOyOz3mAUvM5zsEOn+qnBkT/QPDDghYQ wHC3T6ZbXF9JRXHCXjJl6zB4mtgBlQXr+/GbPqQvb8e5xgpWlkWCrx2cU0NPCJgPNzxe Nvk85tkPY7D4RKzv+J+WCytdJn3Zbs5b6SIB/lUkr9mtxoiqmeiRYy9IAIEpGu5MOe2W eRkg== X-Gm-Message-State: AOJu0Yyf5i3Ul1N2HUaUy7n+Yl171lZMshfI2DabaM6v1SFGmkRxcaia cljjqgPVSPrP7XKiFDVR9o8dx/0aeQvl+bxNQ7pny4jcO+jJaYxD4I24vGtOz/hZ0UurSSS3mU2 j6NsXCXluOVjOLtisC//IpnUYRSv7MLO6PAXQBoLDJod3gN4W+708cYUifQ4o X-Gm-Gg: ASbGncuMM0+pmfGtNQonPUlQDiyRF3eCVGRRvBFGURV9zk5ZVA6h7hqt6ztys9pU31R mZzKptzNPc7YOf92EqvFlIOnR5zxDUcK2wNeDGppJDoBgWu7/OjFgRX2ORx+hlHzzHQn1Ne9rVP IS7C1AU3DoxOZRuuxMUzNssTkBU9ACUkMvbmTxbhJH2XCaHdmTX08YvymAUmSAGDhoshkZUq8ke tq1Q1uHqadRiHHaST18hp240dmS8lg1u+iIGgFIF8Sb/KgkuJDtWoW+fRF8j/lEbyXdnwa0Ui93 Ggw/o35Acb7wo6GIQnXViH0r3GXG9xbT0kbg5IQuCtu6siM= X-Google-Smtp-Source: AGHT+IEF9zdabgintETYKALYHCp23FQ1BqoNHbhmNEVmj4P1EfHuB7cXPd6uH4W5ZVP9grwLPOZ6QvX7FIbW X-Received: by 2002:a05:6602:3799:b0:876:adc1:44e5 with SMTP id ca18e2360f4ac-876c7b50697mr40365539f.3.1751409433707; Tue, 01 Jul 2025 15:37:13 -0700 (PDT) Received: from postal.iol.unh.edu (postal.iol.unh.edu. [2606:4100:3880:1234::84]) by smtp-relay.gmail.com with ESMTPS id ca18e2360f4ac-87687b3d3edsm44841539f.27.2025.07.01.15.37.13 (version=TLS1_2 cipher=ECDHE-ECDSA-AES128-GCM-SHA256 bits=128/128); Tue, 01 Jul 2025 15:37:13 -0700 (PDT) X-Relaying-Domain: iol.unh.edu Date: Tue, 01 Jul 2025 15:37:13 -0700 (PDT) Message-ID: <68646319.050a0220.1e9c8b.8a66SMTPIN_ADDED_MISSING@mx.google.com> Received: from [172.21.0.6] (unknown [172.18.0.240]) by postal.iol.unh.edu (Postfix) with ESMTP id 367066051830; Tue, 1 Jul 2025 18:37:13 -0400 (EDT) Subject: |SUCCESS| pw154913 [PATCH] test/event: disable vector adapter test From: dpdklab@iol.unh.edu To: Test Report Cc: dpdk-test-reports@iol.unh.edu In-Reply-To: <20250701131524.2493132-1-thomas@monjalon.net> References: <20250701131524.2493132-1-thomas@monjalon.net> Content-Type: text/plain X-BeenThere: test-report@dpdk.org X-Mailman-Version: 2.1.29 Precedence: list List-Id: automatic DPDK test reports List-Unsubscribe: , List-Archive: List-Post: List-Help: List-Subscribe: , Errors-To: test-report-bounces@dpdk.org Test-Label: iol-abi-testing Test-Status: SUCCESS http://dpdk.org/patch/154913 _Testing PASS_ Submitter: Thomas Monjalon Date: Tuesday, July 01 2025 13:15:24 DPDK git baseline: Repo:dpdk Branch: master CommitID:20460dcffd08a4680f881c39916ae783ee830374 154913 --> testing pass Upstream job id: Generic-DPDK-Compile-ABI#132615 Test environment and result as below: +-------------------------------+----------+ | Environment | abi_test | +===============================+==========+ | CentOS Stream 9 | PASS | +-------------------------------+----------+ | CentOS Stream 10 | PASS | +-------------------------------+----------+ | Debian GNU/Linux 12 | PASS | +-------------------------------+----------+ | Fedora Linux 40 | PASS | +-------------------------------+----------+ | openSUSE Leap 15.6 | PASS | +-------------------------------+----------+ | Red Hat Enterprise Linux 8.10 | PASS | +-------------------------------+----------+ | Fedora Linux 41 | PASS | +-------------------------------+----------+ | Red Hat Enterprise Linux 9.5 | PASS | +-------------------------------+----------+ | Ubuntu 24.04 | PASS | +-------------------------------+----------+ | Ubuntu 22.04 | PASS | +-------------------------------+----------+ CentOS Stream 9 Kernel: 5.15 Compiler: gcc gcc (GCC) 11.5.0 20240719 (Red Hat 11.5.0-7) CentOS Stream 10 Kernel: 5.15 Compiler: gcc gcc (GCC) 14.2.1 20250110 (Red Hat 14.2.1-8) Debian GNU/Linux 12 Kernel: 5.15 Compiler: gcc gcc (Debian 12.2.0-14+deb12u1) 12.2.0 Fedora Linux 40 Kernel: 5.15 Compiler: clang gcc (GCC) 14.2.1 20240912 (Red Hat 14.2.1-3) openSUSE Leap 15.6 Kernel: 5.15 Compiler: gcc gcc (SUSE Linux) 7.5.0 Red Hat Enterprise Linux 8.10 Kernel: 5.15 Compiler: gcc gcc (GCC) 8.5.0 20210514 (Red Hat 8.5.0-22) Fedora Linux 41 Kernel: 5.15 Compiler: clang gcc (GCC) 14.3.1 20250523 (Red Hat 14.3.1-1) Red Hat Enterprise Linux 9.5 Kernel: 5.15 Compiler: gcc gcc (GCC) 11.5.0 20240719 (Red Hat 11.5.0-2) Ubuntu 24.04 Kernel: 5.15 Compiler: gcc gcc (Ubuntu 13.3.0-6ubuntu2~24.04) 13.3.0 Ubuntu 22.04 Kernel: 5.15 Compiler: gcc gcc (Ubuntu 11.4.0-1ubuntu1~22.04) 11.4.0 To view detailed results, visit: https://lab.dpdk.org/results/dashboard/patchsets/33556/ UNH-IOL DPDK Community Lab To manage your email subscriptions, visit: https://lab.dpdk.org/results/dashboard/preferences/subscriptions/