From mboxrd@z Thu Jan 1 00:00:00 1970 Return-Path: Received: from mails.dpdk.org (mails.dpdk.org [217.70.189.124]) by inbox.dpdk.org (Postfix) with ESMTP id 8E6AA46ADB for ; Wed, 2 Jul 2025 00:37:31 +0200 (CEST) Received: from mails.dpdk.org (localhost [127.0.0.1]) by mails.dpdk.org (Postfix) with ESMTP id 8813B40298; Wed, 2 Jul 2025 00:37:31 +0200 (CEST) Received: from mail-yb1-f225.google.com (mail-yb1-f225.google.com [209.85.219.225]) by mails.dpdk.org (Postfix) with ESMTP id 7834140298 for ; Wed, 2 Jul 2025 00:37:30 +0200 (CEST) Received: by mail-yb1-f225.google.com with SMTP id 3f1490d57ef6-e7d9d480e6cso2890567276.2 for ; Tue, 01 Jul 2025 15:37:30 -0700 (PDT) DKIM-Signature: v=1; a=rsa-sha256; c=relaxed/relaxed; d=iol.unh.edu; s=unh-iol; t=1751409450; x=1752014250; darn=dpdk.org; h=references:in-reply-to:cc:to:from:subject:message-id:date:from:to :cc:subject:date:message-id:reply-to; bh=iVVSzEXJ3Y+u/zAmcubp6TCKMLWwYxkRKsHOJDW9Wiw=; b=cdJ4Mu2GZ1CElAU9bZ0woB8CdIkQA/NmQXo06WnSo2ruRuc4tIWEWjLyASgB+BdTYK EBd9cI0x/P6qbVL24wzK6suxUKUNO/Y4FuqWI05LpTwZtTkbvSfxU70SMSob9ze/sV0z GZH2sA+oWtpqpVM7ruljgMkSNAelTTXWb3qIQ= X-Google-DKIM-Signature: v=1; a=rsa-sha256; c=relaxed/relaxed; d=1e100.net; s=20230601; t=1751409450; x=1752014250; h=references:in-reply-to:cc:to:from:subject:message-id:date :x-gm-message-state:from:to:cc:subject:date:message-id:reply-to; bh=iVVSzEXJ3Y+u/zAmcubp6TCKMLWwYxkRKsHOJDW9Wiw=; b=q57VnktRANMFLnt9rh5CHwed15ZLCarL+ai+aVFKxFjBupbpF3o02hsgFR8PfDHIyM 7qXzOsJBiSbkuI57cRiDKaKIMMuUhymN3tlSEW0PI/ZcAD4nUpkRfTdeqL0F/siBeORb WgvzsYokf/AUI7zGe771HLV8vEw7udtFXbNPJTQlO5nDooz7UpxjX/cd/WdjuaTGaE+N yFveScf3WKQvcdNaLWYf5O22WQvkidgZZoihiVPqIdN2gX+1/FBLZqs/3Yt/2vzDEAZL Gz4uLjYCblFDVg3Bu4E8zE/IHnSM58LpgRa1snayjRX7gUQJ593+EU2WHO+FnjtfQoQF 6OCQ== X-Gm-Message-State: AOJu0Yx+uWYPzIKpIlHn8qylSp5j8qHsh6NDWo3dS94mbvzlr+ayGPkC /zRCv8w7utvc91J39SjXw/LIILh047ADM7Dc6u0DmH+AWdcszJ1MNoyJjfY2K0HZjj5QmR6C1c3 rNgIxRMibuQfhB8M9To72Eht6uENZlE0Q00uv6ZRRJiSIdCcTSWFZv673GwpD X-Gm-Gg: ASbGncsmQBTlV3dD1zuZuFRirDTaRYWccr+4YcyGo8PWWfdXNI+VQbgHHCntX39PFJ5 1WzWSdasgHSk1klv4kI8jPsKpC0Z7wZeuT96SoCLRj9Azcr8F0QOtnRNFqUSfarWOLEe7XtKXkp gs67lcx7JYZIvMcm8rppsjbbNP+VnXxSpI6GIim0eNtIm2afLk3RqismOwyxZKvP7WO8rdpho+g WPvHEYpLK9CsRBoplzhEolaP44RWsjbj2LSku2RcBeNplfrcRnBpPMV/nneNpfZX5FbHFgx7h9l QHhPbkKE86go69mwI0Ez3O6crmXM2i9hzQ42OZ7bNK6HyD4= X-Google-Smtp-Source: AGHT+IFll/Pg1z/7Ca6E5kXUpVHpb3D6C38TDMjIu4DU02w34J57dRXYFnwIgpVaq0SUkVLiFsJtJjARYGUR X-Received: by 2002:a05:690c:c94:b0:714:13:357a with SMTP id 00721157ae682-7164d3f1415mr7657547b3.20.1751409449891; Tue, 01 Jul 2025 15:37:29 -0700 (PDT) Received: from postal.iol.unh.edu (postal.iol.unh.edu. [2606:4100:3880:1234::84]) by smtp-relay.gmail.com with ESMTPS id 00721157ae682-71515cba6dbsm4118187b3.40.2025.07.01.15.37.29 (version=TLS1_2 cipher=ECDHE-ECDSA-AES128-GCM-SHA256 bits=128/128); Tue, 01 Jul 2025 15:37:29 -0700 (PDT) X-Relaying-Domain: iol.unh.edu Date: Tue, 01 Jul 2025 15:37:29 -0700 (PDT) Message-ID: <68646329.050a0220.32c10d.6dbcSMTPIN_ADDED_MISSING@mx.google.com> Received: from [172.21.0.5] (unknown [172.18.0.240]) by postal.iol.unh.edu (Postfix) with ESMTP id 8ED876051830; Tue, 1 Jul 2025 18:37:29 -0400 (EDT) Subject: |SUCCESS| pw154913 [PATCH] test/event: disable vector adapter test From: dpdklab@iol.unh.edu To: Test Report Cc: dpdk-test-reports@iol.unh.edu In-Reply-To: <20250701131524.2493132-1-thomas@monjalon.net> References: <20250701131524.2493132-1-thomas@monjalon.net> Content-Type: text/plain X-BeenThere: test-report@dpdk.org X-Mailman-Version: 2.1.29 Precedence: list List-Id: automatic DPDK test reports List-Unsubscribe: , List-Archive: List-Post: List-Help: List-Subscribe: , Errors-To: test-report-bounces@dpdk.org Test-Label: iol-abi-testing Test-Status: SUCCESS http://dpdk.org/patch/154913 _Testing PASS_ Submitter: Thomas Monjalon Date: Tuesday, July 01 2025 13:15:24 DPDK git baseline: Repo:dpdk Branch: master CommitID:20460dcffd08a4680f881c39916ae783ee830374 154913 --> testing pass Upstream job id: Generic-DPDK-Compile-ABI#132610 Test environment and result as below: +-------------------------------+----------+ | Environment | abi_test | +===============================+==========+ | CentOS Stream 9 | PASS | +-------------------------------+----------+ | CentOS Stream 10 | PASS | +-------------------------------+----------+ | Debian GNU/Linux 12 | PASS | +-------------------------------+----------+ | Fedora Linux 40 | PASS | +-------------------------------+----------+ | openSUSE Leap 15.6 | PASS | +-------------------------------+----------+ | Red Hat Enterprise Linux 8.10 | PASS | +-------------------------------+----------+ | Fedora Linux 41 | PASS | +-------------------------------+----------+ | Red Hat Enterprise Linux 9.5 | PASS | +-------------------------------+----------+ | Ubuntu 24.04 | PASS | +-------------------------------+----------+ | Ubuntu 22.04 | PASS | +-------------------------------+----------+ CentOS Stream 9 Kernel: 5.15 Compiler: gcc gcc (GCC) 11.5.0 20240719 (Red Hat 11.5.0-7) CentOS Stream 10 Kernel: 5.15 Compiler: gcc gcc (GCC) 14.2.1 20250110 (Red Hat 14.2.1-8) Debian GNU/Linux 12 Kernel: 5.15 Compiler: gcc gcc (Debian 12.2.0-14+deb12u1) 12.2.0 Fedora Linux 40 Kernel: 5.15 Compiler: clang gcc (GCC) 14.2.1 20240912 (Red Hat 14.2.1-3) openSUSE Leap 15.6 Kernel: 5.15 Compiler: gcc gcc (SUSE Linux) 7.5.0 Red Hat Enterprise Linux 8.10 Kernel: 5.15 Compiler: gcc gcc (GCC) 8.5.0 20210514 (Red Hat 8.5.0-22) Fedora Linux 41 Kernel: 5.15 Compiler: clang gcc (GCC) 14.3.1 20250523 (Red Hat 14.3.1-1) Red Hat Enterprise Linux 9.5 Kernel: 5.15 Compiler: gcc gcc (GCC) 11.5.0 20240719 (Red Hat 11.5.0-2) Ubuntu 24.04 Kernel: 5.15 Compiler: gcc gcc (Ubuntu 13.3.0-6ubuntu2~24.04) 13.3.0 Ubuntu 22.04 Kernel: 5.15 Compiler: gcc gcc (Ubuntu 11.4.0-1ubuntu1~22.04) 11.4.0 To view detailed results, visit: https://lab.dpdk.org/results/dashboard/patchsets/33556/ UNH-IOL DPDK Community Lab To manage your email subscriptions, visit: https://lab.dpdk.org/results/dashboard/preferences/subscriptions/