From mboxrd@z Thu Jan 1 00:00:00 1970 Return-Path: Received: from mails.dpdk.org (mails.dpdk.org [217.70.189.124]) by inbox.dpdk.org (Postfix) with ESMTP id 9C36D46ADB for ; Wed, 2 Jul 2025 00:37:38 +0200 (CEST) Received: from mails.dpdk.org (localhost [127.0.0.1]) by mails.dpdk.org (Postfix) with ESMTP id 964BB40298; Wed, 2 Jul 2025 00:37:38 +0200 (CEST) Received: from mail-yb1-f228.google.com (mail-yb1-f228.google.com [209.85.219.228]) by mails.dpdk.org (Postfix) with ESMTP id EF2F940298 for ; Wed, 2 Jul 2025 00:37:36 +0200 (CEST) Received: by mail-yb1-f228.google.com with SMTP id 3f1490d57ef6-e7569ccf04cso3076475276.0 for ; Tue, 01 Jul 2025 15:37:36 -0700 (PDT) DKIM-Signature: v=1; a=rsa-sha256; c=relaxed/relaxed; d=iol.unh.edu; s=unh-iol; t=1751409456; x=1752014256; darn=dpdk.org; h=references:in-reply-to:cc:to:from:subject:message-id:date:from:to :cc:subject:date:message-id:reply-to; bh=XhiqeroREUlEjGD5ZnS7LY8YvxrGb2fWn8f94G6ZjVg=; b=elDKj9Qr2weT2UGkkGcdEXd3WUVk03GfvgAhU+kdd+lNfcQA9reM2DfXEHfwK38SkZ wrDZJguusL0ywiazBAjQwCkWpl+8C5DZUo9owsxoAwkPm35wm3vdg/dHzoIL7t8U69pK 5lxNfGp/zv1zBvwvRQyyKRciq1ZdKoeQD6l2w= X-Google-DKIM-Signature: v=1; a=rsa-sha256; c=relaxed/relaxed; d=1e100.net; s=20230601; t=1751409456; x=1752014256; h=references:in-reply-to:cc:to:from:subject:message-id:date :x-gm-message-state:from:to:cc:subject:date:message-id:reply-to; bh=XhiqeroREUlEjGD5ZnS7LY8YvxrGb2fWn8f94G6ZjVg=; b=Sor8GPS2ePaRsEnTxuQDKjhhP9T9DxE/ZO2nxkKWExO+RIKtsFZjnC/XH31t5EvJkO TxoG2gUQ6J6oT87grwRl5UsrI6HRhWhkELR5VkANxC7m5EPB0lKEGhKWSJIVZvyHS+bG BlJkSciTKqey7B8j1q/zfxUGuKpxI8Gogq++R8/3gMQIoxAoYQSmPUxPjux5hBVle/fQ 5xqyjEaa+bgwUnG1+Qmo2mqdwPEF5EjjszK1eilavcPWMAwGoiu/YmzM/EHNlyZ+nmKE UAC+YSl8sZ7HdNB2ZmfGXibK5mYSi9/l9zpYTJ+LYqmoZU+Zj+skG5DZtf5iQvB7IGB7 g3ag== X-Gm-Message-State: AOJu0YwTpcEWgqBjmCb4PNWMk4QSqDk30H+ajI9+sw9NYxglGWMrc4vr uc/4geX45lsEkHn8F4SnREzXaaSa0lKSo8mK5/gtohcUtmBLldfVluSP/ED6qAylFVGm1BXlYTO 2Ls9TlZqKf6aQIjxIcXY4u0rxE7ZVP67j2tnAh1KWfwisQtubzOgtXFoSGXJz X-Gm-Gg: ASbGncvDI3IsB6xaLYaFuWxaWPtqgc2TNL+nffsMLjxABSS57G1H35rO74Sxejto3Lq zpjQqUHAiCJ+PL0PUR8CQCliz3af86zkSQpRroOdHqQBYj47NP2wa7mY5Z8y/UUTbzYwJKkjgYZ PtU4VjMgm1rQ0ObUKj8AGI0w8kHwnVpD6uWu6drEwYxR6YfXBCPe7xYsDu0tOjAKaqpX2MMj4H8 9qAahT0SSNe5bkTL2s8oyPET2/rK2LvpBG/ksvOH2qQLWwzRxfMjPxskGSDcZViPEJ1MxfpVOde h9aEKIqAACsZteoXoJn+sBYEba0RtlPNB86C9OeR/04tHAc= X-Google-Smtp-Source: AGHT+IHCL9QiwiSXVN+mk0g1bfM4sieHyYug+3WzVVLTighdtc5ufiGox6WDiADipCJMJJHp1DCdIH+9qqcG X-Received: by 2002:a05:6902:1546:b0:e84:471b:48f8 with SMTP id 3f1490d57ef6-e897e20ccf2mr786765276.47.1751409456345; Tue, 01 Jul 2025 15:37:36 -0700 (PDT) Received: from postal.iol.unh.edu (postal.iol.unh.edu. [2606:4100:3880:1234::84]) by smtp-relay.gmail.com with ESMTPS id 3f1490d57ef6-e87a6b754ecsm531154276.12.2025.07.01.15.37.36 (version=TLS1_2 cipher=ECDHE-ECDSA-AES128-GCM-SHA256 bits=128/128); Tue, 01 Jul 2025 15:37:36 -0700 (PDT) X-Relaying-Domain: iol.unh.edu Date: Tue, 01 Jul 2025 15:37:36 -0700 (PDT) Message-ID: <68646330.250a0220.94513.ca9dSMTPIN_ADDED_MISSING@mx.google.com> Received: from [172.21.0.7] (unknown [172.18.0.240]) by postal.iol.unh.edu (Postfix) with ESMTP id D945F6051830; Tue, 1 Jul 2025 18:37:35 -0400 (EDT) Subject: |SUCCESS| pw154913 [PATCH] test/event: disable vector adapter test From: dpdklab@iol.unh.edu To: Test Report Cc: dpdk-test-reports@iol.unh.edu In-Reply-To: <20250701131524.2493132-1-thomas@monjalon.net> References: <20250701131524.2493132-1-thomas@monjalon.net> Content-Type: text/plain X-BeenThere: test-report@dpdk.org X-Mailman-Version: 2.1.29 Precedence: list List-Id: automatic DPDK test reports List-Unsubscribe: , List-Archive: List-Post: List-Help: List-Subscribe: , Errors-To: test-report-bounces@dpdk.org Test-Label: iol-abi-testing Test-Status: SUCCESS http://dpdk.org/patch/154913 _Testing PASS_ Submitter: Thomas Monjalon Date: Tuesday, July 01 2025 13:15:24 DPDK git baseline: Repo:dpdk Branch: master CommitID:20460dcffd08a4680f881c39916ae783ee830374 154913 --> testing pass Upstream job id: Generic-DPDK-Compile-ABI#132616 Test environment and result as below: +-------------------------------+----------+ | Environment | abi_test | +===============================+==========+ | CentOS Stream 9 | PASS | +-------------------------------+----------+ | CentOS Stream 10 | PASS | +-------------------------------+----------+ | Debian GNU/Linux 12 | PASS | +-------------------------------+----------+ | Fedora Linux 40 | PASS | +-------------------------------+----------+ | openSUSE Leap 15.6 | PASS | +-------------------------------+----------+ | Red Hat Enterprise Linux 8.10 | PASS | +-------------------------------+----------+ | Fedora Linux 41 | PASS | +-------------------------------+----------+ | Red Hat Enterprise Linux 9.5 | PASS | +-------------------------------+----------+ | Ubuntu 24.04 | PASS | +-------------------------------+----------+ | Ubuntu 22.04 | PASS | +-------------------------------+----------+ CentOS Stream 9 Kernel: 5.15 Compiler: gcc gcc (GCC) 11.5.0 20240719 (Red Hat 11.5.0-7) CentOS Stream 10 Kernel: 5.15 Compiler: gcc gcc (GCC) 14.2.1 20250110 (Red Hat 14.2.1-8) Debian GNU/Linux 12 Kernel: 5.15 Compiler: gcc gcc (Debian 12.2.0-14+deb12u1) 12.2.0 Fedora Linux 40 Kernel: 5.15 Compiler: clang gcc (GCC) 14.2.1 20240912 (Red Hat 14.2.1-3) openSUSE Leap 15.6 Kernel: 5.15 Compiler: gcc gcc (SUSE Linux) 7.5.0 Red Hat Enterprise Linux 8.10 Kernel: 5.15 Compiler: gcc gcc (GCC) 8.5.0 20210514 (Red Hat 8.5.0-22) Fedora Linux 41 Kernel: 5.15 Compiler: clang gcc (GCC) 14.3.1 20250523 (Red Hat 14.3.1-1) Red Hat Enterprise Linux 9.5 Kernel: 5.15 Compiler: gcc gcc (GCC) 11.5.0 20240719 (Red Hat 11.5.0-2) Ubuntu 24.04 Kernel: 5.15 Compiler: gcc gcc (Ubuntu 13.3.0-6ubuntu2~24.04) 13.3.0 Ubuntu 22.04 Kernel: 5.15 Compiler: gcc gcc (Ubuntu 11.4.0-1ubuntu1~22.04) 11.4.0 To view detailed results, visit: https://lab.dpdk.org/results/dashboard/patchsets/33556/ UNH-IOL DPDK Community Lab To manage your email subscriptions, visit: https://lab.dpdk.org/results/dashboard/preferences/subscriptions/