From mboxrd@z Thu Jan 1 00:00:00 1970 Return-Path: Received: from mails.dpdk.org (mails.dpdk.org [217.70.189.124]) by inbox.dpdk.org (Postfix) with ESMTP id A949846ADB for ; Wed, 2 Jul 2025 00:37:41 +0200 (CEST) Received: from mails.dpdk.org (localhost [127.0.0.1]) by mails.dpdk.org (Postfix) with ESMTP id A409C40298; Wed, 2 Jul 2025 00:37:41 +0200 (CEST) Received: from mail-vs1-f100.google.com (mail-vs1-f100.google.com [209.85.217.100]) by mails.dpdk.org (Postfix) with ESMTP id 2811D40298 for ; Wed, 2 Jul 2025 00:37:40 +0200 (CEST) Received: by mail-vs1-f100.google.com with SMTP id ada2fe7eead31-4e9c689d538so946288137.0 for ; Tue, 01 Jul 2025 15:37:40 -0700 (PDT) DKIM-Signature: v=1; a=rsa-sha256; c=relaxed/relaxed; d=iol.unh.edu; s=unh-iol; t=1751409459; x=1752014259; darn=dpdk.org; h=references:in-reply-to:cc:to:from:subject:message-id:date:from:to :cc:subject:date:message-id:reply-to; bh=jZxn7dk6zGoYmn8botcaIg99hx9XP4n2AgK0q5gOCqE=; b=WWijiCPzLNfbC8C+uD9RcnLMwSN4dSGSExEHwuf0omOz5WkR/qqOnLDO0vTPpjZYxv iFJ2IMjchannHxzOFhfFhu/VJxxGKuoDlUcKpeD0kbb0teLB+2pWeyr2boiFIA7bsDWV mHYzUhbLgT+Vh+uY8tKuX6F3WOsweNvy3VRY0= X-Google-DKIM-Signature: v=1; a=rsa-sha256; c=relaxed/relaxed; d=1e100.net; s=20230601; t=1751409459; x=1752014259; h=references:in-reply-to:cc:to:from:subject:message-id:date :x-gm-message-state:from:to:cc:subject:date:message-id:reply-to; bh=jZxn7dk6zGoYmn8botcaIg99hx9XP4n2AgK0q5gOCqE=; b=wIdUVaTRSRSowqGEKn6quPvDG3eSoKN7g53HZVRTiTBKwZz9qt1rQGG8T14hePlIuW x1TE141nrQrbjPjwyykpLzDJR7Q8LeJ77xKUmriT4p8athwg8bd69BqilbPU5i7YTvCu xXiN125lrEistRsYaU2oihBXNzkBSKIYE+l774yMeyB2q5elmfIhx7Q1lOR4yoQFSmI6 u2L0NaOSq4DCzA+IUETnhBeTYJqWPYhZi5ETSP2revMEPKJMxJ6w/tEq+5c+e0aldg+b qvzrTFq+HoLL1PFiPcV6jgKaEZDZCqhJV507jJhS6ZtBBHOQdrbEDekI8hhbcDlm+OUE 9VeA== X-Gm-Message-State: AOJu0YxPlL9AiND1Wtp9w2qvu4bUNNY37OJN72ix2iZJgKl0ogpLr+97 J6NKNvxoLtLMhQeqa+xn2gdvITC+9JAFHIZHWTfQUdu5TCWNLB32C8exb0ZvYrFFWjgSl40PT2m 7U6ii1QoJ5sikIXxwqB81B/Me+RXYtGEtWeKhAOeZwGC4 X-Gm-Gg: ASbGncupGDxz4ikwgKXC1WfU7ok1vMrxfe8zdxbUciWLd1sS0yoUmxiiEufiv5eYf5N EBBNB9MjvLGE6dl34INwdYApAO3nXIVJSkwcazR15nWrJzn+Z1e7YGNWhOHVyeNkJucKDOiIERz rdq9t22NxT65YdMHbRC/1YqBq5fUU93YoT8jnsfa6+W6Sge7LQIcGyKYgj/UHX+EmHXzk6zHzZ2 2vgWD35p3F61luoRuwN8e3UtdEi2ps6yaIU2bRkgnGBiM50gDen4Qn0zQizrwX1sNaMjwwgaLud Mr3oVVU17jpYQUrB1s25Y2JB75JqjRnKHy1R4qYVmJTVN7+N76R0fBY7M1CE8PqwLKeaqQ== X-Google-Smtp-Source: AGHT+IEgeEJD1s1kt9Rqs7NdENj5RNLrKNp06gU5Ut3qhhmHgVZnWjnydnkFNmKn5OtWDYd+ODeIoGoer6s/ X-Received: by 2002:a05:6102:8097:b0:4eb:f8aa:9c36 with SMTP id ada2fe7eead31-4f160fbb4c8mr235093137.4.1751409459469; Tue, 01 Jul 2025 15:37:39 -0700 (PDT) Received: from postal.iol.unh.edu (postal.iol.unh.edu. [132.177.123.84]) by smtp-relay.gmail.com with ESMTPS id a1e0cc1a2514c-884d1d46de3sm216465241.10.2025.07.01.15.37.39 (version=TLS1_2 cipher=ECDHE-ECDSA-AES128-GCM-SHA256 bits=128/128); Tue, 01 Jul 2025 15:37:39 -0700 (PDT) X-Relaying-Domain: iol.unh.edu Date: Tue, 01 Jul 2025 15:37:39 -0700 (PDT) Message-ID: <68646333.050a0220.37fbf4.b25dSMTPIN_ADDED_MISSING@mx.google.com> Received: from [172.21.0.6] (unknown [172.18.0.240]) by postal.iol.unh.edu (Postfix) with ESMTP id 2A88B6051830; Tue, 1 Jul 2025 18:37:39 -0400 (EDT) Subject: |SUCCESS| pw154902 [PATCH] net/mlx5: fix masked indirect age action From: dpdklab@iol.unh.edu To: Test Report Cc: dpdk-test-reports@iol.unh.edu In-Reply-To: <20250701103253.318225-1-dsosnowski@nvidia.com> References: <20250701103253.318225-1-dsosnowski@nvidia.com> Content-Type: text/plain X-BeenThere: test-report@dpdk.org X-Mailman-Version: 2.1.29 Precedence: list List-Id: automatic DPDK test reports List-Unsubscribe: , List-Archive: List-Post: List-Help: List-Subscribe: , Errors-To: test-report-bounces@dpdk.org Test-Label: iol-compile-arm64-testing Test-Status: SUCCESS http://dpdk.org/patch/154902 _Testing PASS_ Submitter: Dariusz Sosnowski Date: Tuesday, July 01 2025 10:32:53 DPDK git baseline: Repo:dpdk Branch: master CommitID:5c0c1a13c34aa57c6e18f9ba852a9b5807c58b72 154902 --> testing pass Upstream job id: Generic-DPDK-Compile-Meson#404235 Test environment and result as below: +------------------------------+--------------------+ | Environment | dpdk_meson_compile | +==============================+====================+ | Red Hat Enterprise Linux 9.5 | PASS | +------------------------------+--------------------+ | Ubuntu 20.04 | PASS | +------------------------------+--------------------+ | Fedora Linux 40 | PASS | +------------------------------+--------------------+ | Debian GNU/Linux 12 | PASS | +------------------------------+--------------------+ | Fedora Linux 41 | PASS | +------------------------------+--------------------+ | Ubuntu 24.04 | PASS | +------------------------------+--------------------+ | CentOS Stream 10 | PASS | +------------------------------+--------------------+ | CentOS Stream 9 | PASS | +------------------------------+--------------------+ | Ubuntu 22.04 | PASS | +------------------------------+--------------------+ Red Hat Enterprise Linux 9.5 Kernel: 5.4 Compiler: gcc gcc (GCC) 11.5.0 20240719 (Red Hat 11.5.0-2) Ubuntu 20.04 Kernel: 5.15 Compiler: aarch64-linux-gnu-gcc gcc (Ubuntu 9.4.0-1ubuntu1~20.04.2) 9.4.0 Fedora Linux 40 Kernel: 5.4 Compiler: gcc gcc (GCC) 14.2.1 20240912 (Red Hat 14.2.1-3) Debian GNU/Linux 12 Kernel: 5.4 Compiler: gcc gcc (Debian 12.2.0-14+deb12u1) 12.2.0 Fedora Linux 41 Kernel: 5.4 Compiler: gcc gcc (GCC) 14.3.1 20250523 (Red Hat 14.3.1-1) Ubuntu 24.04 Kernel: 5.4 Compiler: gcc gcc (Ubuntu 13.3.0-6ubuntu2~24.04) 13.3.0 CentOS Stream 10 Kernel: 5.4 Compiler: gcc gcc (GCC) 14.2.1 20250110 (Red Hat 14.2.1-8) CentOS Stream 9 Kernel: 5.4 Compiler: gcc gcc (GCC) 11.5.0 20240719 (Red Hat 11.5.0-7) Ubuntu 22.04 Kernel: 5.4 Compiler: gcc gcc (Ubuntu 11.4.0-1ubuntu1~22.04) 11.4.0 To view detailed results, visit: https://lab.dpdk.org/results/dashboard/patchsets/33553/ UNH-IOL DPDK Community Lab To manage your email subscriptions, visit: https://lab.dpdk.org/results/dashboard/preferences/subscriptions/