From mboxrd@z Thu Jan 1 00:00:00 1970 Return-Path: Received: from mails.dpdk.org (mails.dpdk.org [217.70.189.124]) by inbox.dpdk.org (Postfix) with ESMTP id CBE4046ABB for ; Wed, 2 Jul 2025 00:38:38 +0200 (CEST) Received: from mails.dpdk.org (localhost [127.0.0.1]) by mails.dpdk.org (Postfix) with ESMTP id C51F040298; Wed, 2 Jul 2025 00:38:38 +0200 (CEST) Received: from mail-il1-f227.google.com (mail-il1-f227.google.com [209.85.166.227]) by mails.dpdk.org (Postfix) with ESMTP id A160240298 for ; Wed, 2 Jul 2025 00:38:37 +0200 (CEST) Received: by mail-il1-f227.google.com with SMTP id e9e14a558f8ab-3de39d642a9so51399185ab.1 for ; Tue, 01 Jul 2025 15:38:37 -0700 (PDT) DKIM-Signature: v=1; a=rsa-sha256; c=relaxed/relaxed; d=iol.unh.edu; s=unh-iol; t=1751409517; x=1752014317; darn=dpdk.org; h=references:in-reply-to:cc:to:from:subject:message-id:date:from:to :cc:subject:date:message-id:reply-to; bh=bwNvtTe5pc939vfJsljcJgqJWoaSysNChFqej1VOQGw=; b=KsuRC7gGuGawgH5dx1aiDENzadP4zpXO3YQT74aPMlYaW6YRynYvophVhhm/E4CXY0 x8EFLv80p/WkTdPlVEkuAtdKDnHRXiPDXp+H3c+XXlJF63Ed/61xSyCHKERUCl/z+6JP 3jun2xYsawnvoHiSPc1gkHEWsaK0LwnYQWJXU= X-Google-DKIM-Signature: v=1; a=rsa-sha256; c=relaxed/relaxed; d=1e100.net; s=20230601; t=1751409517; x=1752014317; h=references:in-reply-to:cc:to:from:subject:message-id:date :x-gm-message-state:from:to:cc:subject:date:message-id:reply-to; bh=bwNvtTe5pc939vfJsljcJgqJWoaSysNChFqej1VOQGw=; b=LF1dkQfPLuE5sCs4I90S72EysA3PaGo72mdn11a2Hu/EzHEMfcbettKUg2p6O4DD3J a2MNiSsV5XQBW+rWb8qAO82R63x0uLa8GqKT8B1h5utHKuNDV72ctKdchC4Jt8YILFPw rx/BE1ttZE5WiP7KaxL3VZRajjJ1aqMV4S93AUv5WqQjVi5owTFlNRbZvtJz+kJZulqG a0ezJ0J/p+SZ/f23TMpKuPR1+/yUZznsC1pM0rZMr19JLl/0fIlQ2XNOkDpYuiJB8YUx A+G2n8ds243jy/V6QilHPo3x8OyNiMoLC1iErn0iaexktu0JSxkBGl6Eq2THAOy/mL76 iGxw== X-Gm-Message-State: AOJu0Yx35ps2uczl1m0ubLyjTvU9TbAXP0R1pAasUe2Iq2lilAwvirfO zIWE22v6ogvo/1HkS1aPaFfef790LIHujoLYAbAzcUG8itOvw14XJGMYKYZisHAGY6M02AgaHmh fjnZZXm9v72LH8R6xIoCz0UrN1LBCCEi6Lgfukg5HMRTv X-Gm-Gg: ASbGncuG7f8a180wmmzBsbVNrsorJ9QDmmkIeczK9+GZNJAWiyeEBtVSR6/cHXSFq4W cwBsREChrwIebDdCpmbCRPGUmprXb2sEgF6OS4k75HQpQAe6XrnermsERNt+h9Hrvifss3vyBlk zvOqarpA5/dVxRu4dqGPeUwi9Xi3Cehc5FYDyZaHZV7hTRj/o5wBxR9GtNFZNpzSsmhOgPdz4qX DLXEHrA32xIrwawCkjJ4oLMAfYUWWRyVFpphGoU89lh2Oto7Mcw4XszKJ/Jny17uv+xwDN4IvfF I1Mfb8mqfW6Bc4ghvy50z1qpqo52KTwRV0IIyTBsySZ9JBQJ9CwQ5w0SL9BCCnRufMnl3A== X-Google-Smtp-Source: AGHT+IHwjRemKHFAkqtP2YOVdpokFg8SO2Rs94YI/l3gPLJ8izhERLLJKpkZUmoM75DznM3AwA3l20GhF/I2 X-Received: by 2002:a05:6e02:170c:b0:3dd:f813:64c5 with SMTP id e9e14a558f8ab-3e054a2b972mr9212645ab.22.1751409516977; Tue, 01 Jul 2025 15:38:36 -0700 (PDT) Received: from postal.iol.unh.edu (postal.iol.unh.edu. [132.177.123.84]) by smtp-relay.gmail.com with ESMTPS id e9e14a558f8ab-3df4a0c377fsm6249395ab.57.2025.07.01.15.38.36 (version=TLS1_2 cipher=ECDHE-ECDSA-AES128-GCM-SHA256 bits=128/128); Tue, 01 Jul 2025 15:38:36 -0700 (PDT) X-Relaying-Domain: iol.unh.edu Date: Tue, 01 Jul 2025 15:38:36 -0700 (PDT) Message-ID: <6864636c.050a0220.1dc15b.2e4eSMTPIN_ADDED_MISSING@mx.google.com> Received: from [172.21.0.9] (unknown [172.18.0.240]) by postal.iol.unh.edu (Postfix) with ESMTP id 7EE1B6051830; Tue, 1 Jul 2025 18:38:36 -0400 (EDT) Subject: |SUCCESS| pw154913 [PATCH] test/event: disable vector adapter test From: dpdklab@iol.unh.edu To: Test Report Cc: dpdk-test-reports@iol.unh.edu In-Reply-To: <20250701131524.2493132-1-thomas@monjalon.net> References: <20250701131524.2493132-1-thomas@monjalon.net> Content-Type: text/plain X-BeenThere: test-report@dpdk.org X-Mailman-Version: 2.1.29 Precedence: list List-Id: automatic DPDK test reports List-Unsubscribe: , List-Archive: List-Post: List-Help: List-Subscribe: , Errors-To: test-report-bounces@dpdk.org Test-Label: iol-abi-testing Test-Status: SUCCESS http://dpdk.org/patch/154913 _Testing PASS_ Submitter: Thomas Monjalon Date: Tuesday, July 01 2025 13:15:24 DPDK git baseline: Repo:dpdk Branch: master CommitID:20460dcffd08a4680f881c39916ae783ee830374 154913 --> testing pass Upstream job id: Generic-DPDK-Compile-ABI#132618 Test environment and result as below: +-------------------------------+----------+ | Environment | abi_test | +===============================+==========+ | CentOS Stream 9 | PASS | +-------------------------------+----------+ | CentOS Stream 10 | PASS | +-------------------------------+----------+ | Debian GNU/Linux 12 | PASS | +-------------------------------+----------+ | Fedora Linux 40 | PASS | +-------------------------------+----------+ | openSUSE Leap 15.6 | PASS | +-------------------------------+----------+ | Red Hat Enterprise Linux 8.10 | PASS | +-------------------------------+----------+ | Fedora Linux 41 | PASS | +-------------------------------+----------+ | Red Hat Enterprise Linux 9.5 | PASS | +-------------------------------+----------+ | Ubuntu 24.04 | PASS | +-------------------------------+----------+ | Ubuntu 22.04 | PASS | +-------------------------------+----------+ CentOS Stream 9 Kernel: 5.15 Compiler: gcc gcc (GCC) 11.5.0 20240719 (Red Hat 11.5.0-7) CentOS Stream 10 Kernel: 5.15 Compiler: gcc gcc (GCC) 14.2.1 20250110 (Red Hat 14.2.1-8) Debian GNU/Linux 12 Kernel: 5.15 Compiler: gcc gcc (Debian 12.2.0-14+deb12u1) 12.2.0 Fedora Linux 40 Kernel: 5.15 Compiler: clang gcc (GCC) 14.2.1 20240912 (Red Hat 14.2.1-3) openSUSE Leap 15.6 Kernel: 5.15 Compiler: gcc gcc (SUSE Linux) 7.5.0 Red Hat Enterprise Linux 8.10 Kernel: 5.15 Compiler: gcc gcc (GCC) 8.5.0 20210514 (Red Hat 8.5.0-22) Fedora Linux 41 Kernel: 5.15 Compiler: clang gcc (GCC) 14.3.1 20250523 (Red Hat 14.3.1-1) Red Hat Enterprise Linux 9.5 Kernel: 5.15 Compiler: gcc gcc (GCC) 11.5.0 20240719 (Red Hat 11.5.0-2) Ubuntu 24.04 Kernel: 5.15 Compiler: gcc gcc (Ubuntu 13.3.0-6ubuntu2~24.04) 13.3.0 Ubuntu 22.04 Kernel: 5.15 Compiler: gcc gcc (Ubuntu 11.4.0-1ubuntu1~22.04) 11.4.0 To view detailed results, visit: https://lab.dpdk.org/results/dashboard/patchsets/33556/ UNH-IOL DPDK Community Lab To manage your email subscriptions, visit: https://lab.dpdk.org/results/dashboard/preferences/subscriptions/