From: dpdklab@iol.unh.edu
To: Test Report <test-report@dpdk.org>
Cc: dpdk-test-reports@iol.unh.edu
Subject: |WARNING| pw154905-154912 [PATCH] [v5,9/9] bus/dpaa: optimize qman e
Date: Tue, 01 Jul 2025 15:38:42 -0700 (PDT) [thread overview]
Message-ID: <68646372.050a0220.16ba0e.7514SMTPIN_ADDED_MISSING@mx.google.com> (raw)
In-Reply-To: <20250701113707.2793004-10-vanshika.shukla@nxp.com>
Test-Label: iol-compile-amd64-testing
Test-Status: WARNING
http://dpdk.org/patch/154912
_Testing issues_
Submitter: Vanshika Shukla <vanshika.shukla@nxp.com>
Date: Tuesday, July 01 2025 11:37:07
DPDK git baseline: Repo:dpdk
Branch: master
CommitID:3e081a0c03a5cb71555dba06a920d57e75dd09c9
154905-154912 --> testing issues
Upstream job id: Generic-DPDK-Compile-Meson#404278
Test environment and result as below:
+-------------------------------+--------------------+-------------------+------------------+-------------------+-------------------------+----------------------+
| Environment | dpdk_meson_compile | dpdk_compile_spdk | dpdk_compile_ovs | dpdk_msvc_compile | dpdk_llvm_clang_compile | dpdk_mingw64_compile |
+===============================+====================+===================+==================+===================+=========================+======================+
| CentOS Stream 9 | PASS | PASS | SKIPPED | SKIPPED | SKIPPED | SKIPPED |
+-------------------------------+--------------------+-------------------+------------------+-------------------+-------------------------+----------------------+
| Debian GNU/Linux 12 | PASS | PASS | SKIPPED | SKIPPED | SKIPPED | SKIPPED |
+-------------------------------+--------------------+-------------------+------------------+-------------------+-------------------------+----------------------+
| CentOS Stream 10 | PASS | SKIPPED | SKIPPED | SKIPPED | SKIPPED | SKIPPED |
+-------------------------------+--------------------+-------------------+------------------+-------------------+-------------------------+----------------------+
| Fedora Linux 40 | PASS | PASS | SKIPPED | SKIPPED | SKIPPED | SKIPPED |
+-------------------------------+--------------------+-------------------+------------------+-------------------+-------------------------+----------------------+
| Fedora Linux 41 | PASS | WARN | PASS | SKIPPED | SKIPPED | SKIPPED |
+-------------------------------+--------------------+-------------------+------------------+-------------------+-------------------------+----------------------+
| openSUSE Leap 15.6 | PASS | SKIPPED | SKIPPED | SKIPPED | SKIPPED | SKIPPED |
+-------------------------------+--------------------+-------------------+------------------+-------------------+-------------------------+----------------------+
| Red Hat Enterprise Linux 8.10 | PASS | SKIPPED | SKIPPED | SKIPPED | SKIPPED | SKIPPED |
+-------------------------------+--------------------+-------------------+------------------+-------------------+-------------------------+----------------------+
| Ubuntu 20.04 | PASS | SKIPPED | SKIPPED | SKIPPED | SKIPPED | SKIPPED |
+-------------------------------+--------------------+-------------------+------------------+-------------------+-------------------------+----------------------+
| Red Hat Enterprise Linux 9.5 | PASS | SKIPPED | SKIPPED | SKIPPED | SKIPPED | SKIPPED |
+-------------------------------+--------------------+-------------------+------------------+-------------------+-------------------------+----------------------+
| Ubuntu 22.04 | PASS | PASS | SKIPPED | SKIPPED | SKIPPED | SKIPPED |
+-------------------------------+--------------------+-------------------+------------------+-------------------+-------------------------+----------------------+
| Ubuntu 24.04 | PASS | PASS | PASS | SKIPPED | SKIPPED | SKIPPED |
+-------------------------------+--------------------+-------------------+------------------+-------------------+-------------------------+----------------------+
| FreeBSD 14.2 | PASS | SKIPPED | SKIPPED | SKIPPED | SKIPPED | SKIPPED |
+-------------------------------+--------------------+-------------------+------------------+-------------------+-------------------------+----------------------+
| Alpine Linux 3.22.0 | PASS | SKIPPED | SKIPPED | SKIPPED | SKIPPED | SKIPPED |
+-------------------------------+--------------------+-------------------+------------------+-------------------+-------------------------+----------------------+
| Windows Server 2022 | SKIPPED | SKIPPED | SKIPPED | PASS | PASS | PASS |
+-------------------------------+--------------------+-------------------+------------------+-------------------+-------------------------+----------------------+
==== 20 line log output for Fedora Linux 41 (dpdk_compile_spdk): ====
--- Failed to get log output ---
==== End log output ====
CentOS Stream 9
Kernel: 5.15
Compiler: gcc gcc (GCC) 11.5.0 20240719 (Red Hat 11.5.0-7)
Debian GNU/Linux 12
Kernel: 5.15
Compiler: gcc gcc (Debian 12.2.0-14+deb12u1) 12.2.0
CentOS Stream 10
Kernel: 5.15
Compiler: gcc gcc (GCC) 14.2.1 20250110 (Red Hat 14.2.1-8)
Fedora Linux 40
Kernel: 5.15
Compiler: clang gcc (GCC) 14.2.1 20240912 (Red Hat 14.2.1-3)
Fedora Linux 41
Kernel: 5.15
Compiler: gcc gcc (GCC) 14.3.1 20250523 (Red Hat 14.3.1-1)
openSUSE Leap 15.6
Kernel: 5.15
Compiler: gcc gcc (SUSE Linux) 7.5.0
Red Hat Enterprise Linux 8.10
Kernel: 5.15
Compiler: gcc gcc (GCC) 8.5.0 20210514 (Red Hat 8.5.0-22)
Ubuntu 20.04
Kernel: 4.19
Compiler: gcc gcc (Ubuntu 9.4.0-1ubuntu1~20.04.2) 9.4.0
Red Hat Enterprise Linux 9.5
Kernel: 5.15
Compiler: gcc gcc (GCC) 11.5.0 20240719 (Red Hat 11.5.0-2)
Ubuntu 22.04
Kernel: 5.15
Compiler: gcc gcc (Ubuntu 11.4.0-1ubuntu1~22.04) 11.4.0
Ubuntu 24.04
Kernel: 5.15
Compiler: gcc gcc (Ubuntu 13.3.0-6ubuntu2~24.04) 13.3.0
FreeBSD 14.2
Kernel: 14.2-RELEASE
Compiler: clang 18.1.6
Alpine Linux 3.22.0
Kernel: 5.15
Compiler: gcc gcc (Alpine 14.2.0) 14.2.0
Windows Server 2022
Kernel: 10.0.20348.2031
Compiler: clang 15.0.7, gcc 14.1.0 (MinGW), and MSVC VS 19.39.33521
To view detailed results, visit:
https://lab.dpdk.org/results/dashboard/patchsets/33555/
UNH-IOL DPDK Community Lab
To manage your email subscriptions, visit:
https://lab.dpdk.org/results/dashboard/preferences/subscriptions/
next prev parent reply other threads:[~2025-07-01 22:38 UTC|newest]
Thread overview: 21+ messages / expand[flat|nested] mbox.gz Atom feed top
[not found] <20250701113707.2793004-10-vanshika.shukla@nxp.com>
2025-07-01 11:05 ` |SUCCESS| pw154905-154912 [v5 9/9] bus/dpaa: optimize qman enqueue check qemudev
2025-07-01 11:10 ` qemudev
2025-07-01 11:37 ` |SUCCESS| pw154912 " checkpatch
2025-07-01 13:03 ` 0-day Robot
2025-07-01 15:13 ` |SUCCESS| pw154905-154912 [PATCH] [v5,9/9] bus/dpaa: optimize qman e dpdklab
2025-07-01 15:23 ` dpdklab
2025-07-01 15:23 ` dpdklab
2025-07-01 15:48 ` dpdklab
2025-07-01 15:53 ` dpdklab
2025-07-01 17:16 ` |PENDING| " dpdklab
2025-07-01 18:14 ` dpdklab
2025-07-01 18:51 ` dpdklab
2025-07-01 19:30 ` |SUCCESS| " dpdklab
2025-07-01 19:42 ` dpdklab
2025-07-01 21:22 ` dpdklab
2025-07-01 21:23 ` dpdklab
2025-07-01 21:23 ` dpdklab
2025-07-01 22:01 ` dpdklab
2025-07-01 22:02 ` dpdklab
2025-07-01 22:38 ` dpdklab [this message]
2025-07-02 2:52 ` dpdklab
Reply instructions:
You may reply publicly to this message via plain-text email
using any one of the following methods:
* Save the following mbox file, import it into your mail client,
and reply-to-all from there: mbox
Avoid top-posting and favor interleaved quoting:
https://en.wikipedia.org/wiki/Posting_style#Interleaved_style
* Reply using the --to, --cc, and --in-reply-to
switches of git-send-email(1):
git send-email \
--in-reply-to=68646372.050a0220.16ba0e.7514SMTPIN_ADDED_MISSING@mx.google.com \
--to=dpdklab@iol.unh.edu \
--cc=dpdk-test-reports@iol.unh.edu \
--cc=test-report@dpdk.org \
/path/to/YOUR_REPLY
https://kernel.org/pub/software/scm/git/docs/git-send-email.html
* If your mail client supports setting the In-Reply-To header
via mailto: links, try the mailto: link
Be sure your reply has a Subject: header at the top and a blank line
before the message body.
This is a public inbox, see mirroring instructions
for how to clone and mirror all data and code used for this inbox;
as well as URLs for NNTP newsgroup(s).