From mboxrd@z Thu Jan 1 00:00:00 1970 Return-Path: Received: from mails.dpdk.org (mails.dpdk.org [217.70.189.124]) by inbox.dpdk.org (Postfix) with ESMTP id DC33B46ABB for ; Wed, 2 Jul 2025 00:38:44 +0200 (CEST) Received: from mails.dpdk.org (localhost [127.0.0.1]) by mails.dpdk.org (Postfix) with ESMTP id D6C0040298; Wed, 2 Jul 2025 00:38:44 +0200 (CEST) Received: from mail-qt1-f227.google.com (mail-qt1-f227.google.com [209.85.160.227]) by mails.dpdk.org (Postfix) with ESMTP id 5604840298 for ; Wed, 2 Jul 2025 00:38:43 +0200 (CEST) Received: by mail-qt1-f227.google.com with SMTP id d75a77b69052e-4a44b0ed780so45978811cf.3 for ; Tue, 01 Jul 2025 15:38:43 -0700 (PDT) DKIM-Signature: v=1; a=rsa-sha256; c=relaxed/relaxed; d=iol.unh.edu; s=unh-iol; t=1751409523; x=1752014323; darn=dpdk.org; h=references:in-reply-to:cc:to:from:subject:message-id:date:from:to :cc:subject:date:message-id:reply-to; bh=BEbKyINpOwOMxa0lbRMPw9oIYkUnmVUhtUYPx9Kv/Xs=; b=Eiz8Zwm2WqQW45pxcVmFmbQXfcmBChQHuy4y8xbMB5Q9UClPwI8Sba5EDUDIOKfJcI ceHigjGAs0dKJwgXlsN7JUM/43RGe3ygqweQuCQheTuh//W/35qEjHAWqSvWVhBJvZ+l lvBeacHoUPYqalSsQ6IKtAQT1BbSvOYPQlGH4= X-Google-DKIM-Signature: v=1; a=rsa-sha256; c=relaxed/relaxed; d=1e100.net; s=20230601; t=1751409523; x=1752014323; h=references:in-reply-to:cc:to:from:subject:message-id:date :x-gm-message-state:from:to:cc:subject:date:message-id:reply-to; bh=BEbKyINpOwOMxa0lbRMPw9oIYkUnmVUhtUYPx9Kv/Xs=; b=kezjI92vsi2U92qu94gla7J5kAy8hAew8S6DDt5noeLGlWlfzpnedTB193af4+Xy04 p2prvRDIE/n6SKgwIuLKkwrLbX7G9fCJfjzNLC43lGnIncv6OtCvwEm+/gsIQ70JDaI/ qht9/UYKtW+A3svFcWZFp4b1vf9282O5iSIu1MIacCbbEnCqt9pvhPNaXxT/C2GyqvIK 2pqLJTzMcwVRvMVEl1VT+LzHrv4t8fUx9wq2exp/ks8odGzbJg5fLIoPMPX4ynyRZU5G 2tQXwxYCPTCWlZpLDPlzmiBaQPldAVguQFJKSJRCQv/PtIfEOoh/RXcIyLEjQ/5whQPq NxKw== X-Gm-Message-State: AOJu0Yy6AABJZRODb8VpnH04vn8vT/K31EidCwtAKdvx1uKjBW+XR4AW L624QYet5Uwjhqj10+kFF4PdsjqcP9nnz8NH9tF0sWseq1pjXm4Ny1h1czIZNSROEfAUSE1rBei 9x22K4RXJrtRE1CBC8AZ5d8n4whzErYsZouyxUAWMMRxz X-Gm-Gg: ASbGncuMVdMNux6QZ0Kg8S+v0KzCq8h9crMJGu2h+L/SGSDaV6hUznAe9NNFUHMuIhE hBt8FJM1Exq3bR9Odw+G5J/5BT7Tj+Xeg3BY8iwM5DB8Os1dTpwmMYQCxTkYRjxBd75rDLXyfBm /Zh/NOrHRhnV8h55bjiziUB+N9DMu72P97/YWJydvnH6CRm887t3cbYaXr4Itai0EzpyJwEzEJw 4bgKGURpTKrucfSWmO7ISKRJvP0Zvdnrx/W/UgqRYHllVWmVBDy47wHnZFWJ48IPaZ2R7ipj1gU Z+c56bGyToSbjN3/6EJ0qpjWZr/L5rAB10QNlMHAmKDBrXlDsskj1bW8Xuy4MtjgzWOJ/Q== X-Google-Smtp-Source: AGHT+IFCJIbJGXiQ34o7vDchpys3feu3AXCkeRo81OmIxISBoHTd7h1rRVH02yuUS8AwQySTpVa1U0KtxwBb X-Received: by 2002:a05:622a:1aa2:b0:4a6:f0da:82ab with SMTP id d75a77b69052e-4a9769f03c6mr14687451cf.52.1751409522706; Tue, 01 Jul 2025 15:38:42 -0700 (PDT) Received: from postal.iol.unh.edu (postal.iol.unh.edu. [132.177.123.84]) by smtp-relay.gmail.com with ESMTPS id d75a77b69052e-4a7fc1c0f8dsm4399211cf.15.2025.07.01.15.38.42 (version=TLS1_2 cipher=ECDHE-ECDSA-AES128-GCM-SHA256 bits=128/128); Tue, 01 Jul 2025 15:38:42 -0700 (PDT) X-Relaying-Domain: iol.unh.edu Date: Tue, 01 Jul 2025 15:38:42 -0700 (PDT) Message-ID: <68646372.050a0220.16ba0e.7514SMTPIN_ADDED_MISSING@mx.google.com> Received: from [172.21.0.8] (unknown [172.18.0.240]) by postal.iol.unh.edu (Postfix) with ESMTP id 6BCDB6051830; Tue, 1 Jul 2025 18:38:42 -0400 (EDT) Subject: |WARNING| pw154905-154912 [PATCH] [v5,9/9] bus/dpaa: optimize qman e From: dpdklab@iol.unh.edu To: Test Report Cc: dpdk-test-reports@iol.unh.edu In-Reply-To: <20250701113707.2793004-10-vanshika.shukla@nxp.com> References: <20250701113707.2793004-10-vanshika.shukla@nxp.com> Content-Type: text/plain X-BeenThere: test-report@dpdk.org X-Mailman-Version: 2.1.29 Precedence: list List-Id: automatic DPDK test reports List-Unsubscribe: , List-Archive: List-Post: List-Help: List-Subscribe: , Errors-To: test-report-bounces@dpdk.org Test-Label: iol-compile-amd64-testing Test-Status: WARNING http://dpdk.org/patch/154912 _Testing issues_ Submitter: Vanshika Shukla Date: Tuesday, July 01 2025 11:37:07 DPDK git baseline: Repo:dpdk Branch: master CommitID:3e081a0c03a5cb71555dba06a920d57e75dd09c9 154905-154912 --> testing issues Upstream job id: Generic-DPDK-Compile-Meson#404278 Test environment and result as below: +-------------------------------+--------------------+-------------------+------------------+-------------------+-------------------------+----------------------+ | Environment | dpdk_meson_compile | dpdk_compile_spdk | dpdk_compile_ovs | dpdk_msvc_compile | dpdk_llvm_clang_compile | dpdk_mingw64_compile | +===============================+====================+===================+==================+===================+=========================+======================+ | CentOS Stream 9 | PASS | PASS | SKIPPED | SKIPPED | SKIPPED | SKIPPED | +-------------------------------+--------------------+-------------------+------------------+-------------------+-------------------------+----------------------+ | Debian GNU/Linux 12 | PASS | PASS | SKIPPED | SKIPPED | SKIPPED | SKIPPED | +-------------------------------+--------------------+-------------------+------------------+-------------------+-------------------------+----------------------+ | CentOS Stream 10 | PASS | SKIPPED | SKIPPED | SKIPPED | SKIPPED | SKIPPED | +-------------------------------+--------------------+-------------------+------------------+-------------------+-------------------------+----------------------+ | Fedora Linux 40 | PASS | PASS | SKIPPED | SKIPPED | SKIPPED | SKIPPED | +-------------------------------+--------------------+-------------------+------------------+-------------------+-------------------------+----------------------+ | Fedora Linux 41 | PASS | WARN | PASS | SKIPPED | SKIPPED | SKIPPED | +-------------------------------+--------------------+-------------------+------------------+-------------------+-------------------------+----------------------+ | openSUSE Leap 15.6 | PASS | SKIPPED | SKIPPED | SKIPPED | SKIPPED | SKIPPED | +-------------------------------+--------------------+-------------------+------------------+-------------------+-------------------------+----------------------+ | Red Hat Enterprise Linux 8.10 | PASS | SKIPPED | SKIPPED | SKIPPED | SKIPPED | SKIPPED | +-------------------------------+--------------------+-------------------+------------------+-------------------+-------------------------+----------------------+ | Ubuntu 20.04 | PASS | SKIPPED | SKIPPED | SKIPPED | SKIPPED | SKIPPED | +-------------------------------+--------------------+-------------------+------------------+-------------------+-------------------------+----------------------+ | Red Hat Enterprise Linux 9.5 | PASS | SKIPPED | SKIPPED | SKIPPED | SKIPPED | SKIPPED | +-------------------------------+--------------------+-------------------+------------------+-------------------+-------------------------+----------------------+ | Ubuntu 22.04 | PASS | PASS | SKIPPED | SKIPPED | SKIPPED | SKIPPED | +-------------------------------+--------------------+-------------------+------------------+-------------------+-------------------------+----------------------+ | Ubuntu 24.04 | PASS | PASS | PASS | SKIPPED | SKIPPED | SKIPPED | +-------------------------------+--------------------+-------------------+------------------+-------------------+-------------------------+----------------------+ | FreeBSD 14.2 | PASS | SKIPPED | SKIPPED | SKIPPED | SKIPPED | SKIPPED | +-------------------------------+--------------------+-------------------+------------------+-------------------+-------------------------+----------------------+ | Alpine Linux 3.22.0 | PASS | SKIPPED | SKIPPED | SKIPPED | SKIPPED | SKIPPED | +-------------------------------+--------------------+-------------------+------------------+-------------------+-------------------------+----------------------+ | Windows Server 2022 | SKIPPED | SKIPPED | SKIPPED | PASS | PASS | PASS | +-------------------------------+--------------------+-------------------+------------------+-------------------+-------------------------+----------------------+ ==== 20 line log output for Fedora Linux 41 (dpdk_compile_spdk): ==== --- Failed to get log output --- ==== End log output ==== CentOS Stream 9 Kernel: 5.15 Compiler: gcc gcc (GCC) 11.5.0 20240719 (Red Hat 11.5.0-7) Debian GNU/Linux 12 Kernel: 5.15 Compiler: gcc gcc (Debian 12.2.0-14+deb12u1) 12.2.0 CentOS Stream 10 Kernel: 5.15 Compiler: gcc gcc (GCC) 14.2.1 20250110 (Red Hat 14.2.1-8) Fedora Linux 40 Kernel: 5.15 Compiler: clang gcc (GCC) 14.2.1 20240912 (Red Hat 14.2.1-3) Fedora Linux 41 Kernel: 5.15 Compiler: gcc gcc (GCC) 14.3.1 20250523 (Red Hat 14.3.1-1) openSUSE Leap 15.6 Kernel: 5.15 Compiler: gcc gcc (SUSE Linux) 7.5.0 Red Hat Enterprise Linux 8.10 Kernel: 5.15 Compiler: gcc gcc (GCC) 8.5.0 20210514 (Red Hat 8.5.0-22) Ubuntu 20.04 Kernel: 4.19 Compiler: gcc gcc (Ubuntu 9.4.0-1ubuntu1~20.04.2) 9.4.0 Red Hat Enterprise Linux 9.5 Kernel: 5.15 Compiler: gcc gcc (GCC) 11.5.0 20240719 (Red Hat 11.5.0-2) Ubuntu 22.04 Kernel: 5.15 Compiler: gcc gcc (Ubuntu 11.4.0-1ubuntu1~22.04) 11.4.0 Ubuntu 24.04 Kernel: 5.15 Compiler: gcc gcc (Ubuntu 13.3.0-6ubuntu2~24.04) 13.3.0 FreeBSD 14.2 Kernel: 14.2-RELEASE Compiler: clang 18.1.6 Alpine Linux 3.22.0 Kernel: 5.15 Compiler: gcc gcc (Alpine 14.2.0) 14.2.0 Windows Server 2022 Kernel: 10.0.20348.2031 Compiler: clang 15.0.7, gcc 14.1.0 (MinGW), and MSVC VS 19.39.33521 To view detailed results, visit: https://lab.dpdk.org/results/dashboard/patchsets/33555/ UNH-IOL DPDK Community Lab To manage your email subscriptions, visit: https://lab.dpdk.org/results/dashboard/preferences/subscriptions/