From mboxrd@z Thu Jan 1 00:00:00 1970 Return-Path: Received: from mails.dpdk.org (mails.dpdk.org [217.70.189.124]) by inbox.dpdk.org (Postfix) with ESMTP id 1B3EB46ABB for ; Wed, 2 Jul 2025 00:39:19 +0200 (CEST) Received: from mails.dpdk.org (localhost [127.0.0.1]) by mails.dpdk.org (Postfix) with ESMTP id 106C640298; Wed, 2 Jul 2025 00:39:19 +0200 (CEST) Received: from mail-qk1-f226.google.com (mail-qk1-f226.google.com [209.85.222.226]) by mails.dpdk.org (Postfix) with ESMTP id 92EA340298 for ; Wed, 2 Jul 2025 00:39:17 +0200 (CEST) Received: by mail-qk1-f226.google.com with SMTP id af79cd13be357-7d2107eb668so1027562785a.1 for ; Tue, 01 Jul 2025 15:39:17 -0700 (PDT) DKIM-Signature: v=1; a=rsa-sha256; c=relaxed/relaxed; d=iol.unh.edu; s=unh-iol; t=1751409557; x=1752014357; darn=dpdk.org; h=references:in-reply-to:cc:to:from:subject:message-id:date:from:to :cc:subject:date:message-id:reply-to; bh=eNm7vNwRi69BowbuBLUZQFNXP8k7MX8Yer+goEpzYAA=; b=Ib4NKPwFvciaRAPfD0Ph9aT3LuFuWYy/rShIlqwKiw2N4kRyQ/jYfmCiYhLySfGo1H r+eehyWeaNg1YVe3qfbo1Fw8rMoMiEF2oyKeuyI09tvGjEJQW7PXmXNNPfctCOV9H4t9 JP8JRHVnE4fajYsYhrWRjDQLP0kPBjFIC63oI= X-Google-DKIM-Signature: v=1; a=rsa-sha256; c=relaxed/relaxed; d=1e100.net; s=20230601; t=1751409557; x=1752014357; h=references:in-reply-to:cc:to:from:subject:message-id:date :x-gm-message-state:from:to:cc:subject:date:message-id:reply-to; bh=eNm7vNwRi69BowbuBLUZQFNXP8k7MX8Yer+goEpzYAA=; b=hLR39ZyAOHQxaL56CE4Ooeu2uqaLOwJNe/qCjpBwsJZ847Z902lhBPwgT+A1phHFcd RmeERMdF2jRuPUM2jk2npIYT1aSFOz4K9n1GJSUxB6RxtXHx/aSyGdTKxM3tt//Ppz4Z eyEmWXGbGnvrBtGIkNYlnds5ns4t6OdVY7COcQxj0S83/L8rjacmbNvcQJA1/95Sq4lJ IRLNKYACSUKSykEm6MRkoZGtkrFgsRx8zkx6BGdokBpnq9h80eyLGv2sbQl7EJy95r3r oGlvuisgmJNQfMwYNFmAqWfOARKdSsytqCFXs/x6cIEg4a0jh0IV0aCQvkCg8Q4lY+lB 0Sig== X-Gm-Message-State: AOJu0YyyerYr/5Jg653cuCanU2X/nxPCxUa97JJJ1A1qVndJX69r+6pI KxdmpxnBebnuG5+YOSpw5/RTO+m/7AMuDkXuJtZzh65tsE3nIuAKsoz41ELUopbOkTrU0/YrUIJ NYWjYqvCRJ/uGvB+RYcevTN15E9kZGOuBCfp7ZRRZ9IlT X-Gm-Gg: ASbGncsF15Ms3JEcVS6DG1jzx+BTqk1cUZWJ0KkO55cS3unD4WQJgT1zfe2X0y3BWWI h1ue/AIpTJmXUhmPzhri97Ha1WDgGwO5n9KXwf9sh13t9VTOcxhmksQJmQUlSLL9NwYNSms916/ DHIwSC7ZVyYNMSoDpw+tz5AsEpeu8Q+tjmkbMbgNVk8A+MkrON+XFqkH9AYO3T7cskIRyDy8W+o I6HD30NN3W2rRgG+BE/GEV4yo5tBt32mldPn1t1nVTjnKhmu/DL0K05SAuEbjIIGelFmiPwmpIZ e2MrbXa0/onNBEbFDLbAEC9ncPrEsbR6KZIEhN7Nw3PSGOZAaiberAuX0ThPLI4fOmsCzw== X-Google-Smtp-Source: AGHT+IEZS7Cm7jgEyhgSPBOH7NwrUoFkaBxFtvjE4f8s++ms5lv1WQrc+8sFhch1nLNRZrd9qVfsi8LcBk7/ X-Received: by 2002:a05:620a:2b43:b0:7c5:9fd3:a90b with SMTP id af79cd13be357-7d5c473dd87mr124416185a.47.1751409556987; Tue, 01 Jul 2025 15:39:16 -0700 (PDT) Received: from postal.iol.unh.edu (postal.iol.unh.edu. [132.177.123.84]) by smtp-relay.gmail.com with ESMTPS id 6a1803df08f44-6fd77184429sm6734726d6.11.2025.07.01.15.39.16 (version=TLS1_2 cipher=ECDHE-ECDSA-AES128-GCM-SHA256 bits=128/128); Tue, 01 Jul 2025 15:39:16 -0700 (PDT) X-Relaying-Domain: iol.unh.edu Date: Tue, 01 Jul 2025 15:39:16 -0700 (PDT) Message-ID: <68646394.050a0220.1446eb.3de3SMTPIN_ADDED_MISSING@mx.google.com> Received: from [172.21.0.6] (unknown [172.18.0.240]) by postal.iol.unh.edu (Postfix) with ESMTP id AD90C6051830; Tue, 1 Jul 2025 18:39:16 -0400 (EDT) Subject: |SUCCESS| pw154913 [PATCH] test/event: disable vector adapter test From: dpdklab@iol.unh.edu To: Test Report Cc: dpdk-test-reports@iol.unh.edu In-Reply-To: <20250701131524.2493132-1-thomas@monjalon.net> References: <20250701131524.2493132-1-thomas@monjalon.net> Content-Type: text/plain X-BeenThere: test-report@dpdk.org X-Mailman-Version: 2.1.29 Precedence: list List-Id: automatic DPDK test reports List-Unsubscribe: , List-Archive: List-Post: List-Help: List-Subscribe: , Errors-To: test-report-bounces@dpdk.org Test-Label: iol-abi-testing Test-Status: SUCCESS http://dpdk.org/patch/154913 _Testing PASS_ Submitter: Thomas Monjalon Date: Tuesday, July 01 2025 13:15:24 DPDK git baseline: Repo:dpdk Branch: master CommitID:20460dcffd08a4680f881c39916ae783ee830374 154913 --> testing pass Upstream job id: Generic-DPDK-Compile-ABI#132614 Test environment and result as below: +-------------------------------+----------+ | Environment | abi_test | +===============================+==========+ | CentOS Stream 9 | PASS | +-------------------------------+----------+ | CentOS Stream 10 | PASS | +-------------------------------+----------+ | Debian GNU/Linux 12 | PASS | +-------------------------------+----------+ | Fedora Linux 40 | PASS | +-------------------------------+----------+ | openSUSE Leap 15.6 | PASS | +-------------------------------+----------+ | Red Hat Enterprise Linux 8.10 | PASS | +-------------------------------+----------+ | Fedora Linux 41 | PASS | +-------------------------------+----------+ | Red Hat Enterprise Linux 9.5 | PASS | +-------------------------------+----------+ | Ubuntu 24.04 | PASS | +-------------------------------+----------+ | Ubuntu 22.04 | PASS | +-------------------------------+----------+ CentOS Stream 9 Kernel: 5.15 Compiler: gcc gcc (GCC) 11.5.0 20240719 (Red Hat 11.5.0-7) CentOS Stream 10 Kernel: 5.15 Compiler: gcc gcc (GCC) 14.2.1 20250110 (Red Hat 14.2.1-8) Debian GNU/Linux 12 Kernel: 5.15 Compiler: gcc gcc (Debian 12.2.0-14+deb12u1) 12.2.0 Fedora Linux 40 Kernel: 5.15 Compiler: clang gcc (GCC) 14.2.1 20240912 (Red Hat 14.2.1-3) openSUSE Leap 15.6 Kernel: 5.15 Compiler: gcc gcc (SUSE Linux) 7.5.0 Red Hat Enterprise Linux 8.10 Kernel: 5.15 Compiler: gcc gcc (GCC) 8.5.0 20210514 (Red Hat 8.5.0-22) Fedora Linux 41 Kernel: 5.15 Compiler: clang gcc (GCC) 14.3.1 20250523 (Red Hat 14.3.1-1) Red Hat Enterprise Linux 9.5 Kernel: 5.15 Compiler: gcc gcc (GCC) 11.5.0 20240719 (Red Hat 11.5.0-2) Ubuntu 24.04 Kernel: 5.15 Compiler: gcc gcc (Ubuntu 13.3.0-6ubuntu2~24.04) 13.3.0 Ubuntu 22.04 Kernel: 5.15 Compiler: gcc gcc (Ubuntu 11.4.0-1ubuntu1~22.04) 11.4.0 To view detailed results, visit: https://lab.dpdk.org/results/dashboard/patchsets/33556/ UNH-IOL DPDK Community Lab To manage your email subscriptions, visit: https://lab.dpdk.org/results/dashboard/preferences/subscriptions/