From mboxrd@z Thu Jan 1 00:00:00 1970 Return-Path: Received: from mails.dpdk.org (mails.dpdk.org [217.70.189.124]) by inbox.dpdk.org (Postfix) with ESMTP id 35C9846ABB for ; Wed, 2 Jul 2025 00:39:28 +0200 (CEST) Received: from mails.dpdk.org (localhost [127.0.0.1]) by mails.dpdk.org (Postfix) with ESMTP id 254F340298; Wed, 2 Jul 2025 00:39:28 +0200 (CEST) Received: from mail-yb1-f228.google.com (mail-yb1-f228.google.com [209.85.219.228]) by mails.dpdk.org (Postfix) with ESMTP id C5A8C40298 for ; Wed, 2 Jul 2025 00:39:26 +0200 (CEST) Received: by mail-yb1-f228.google.com with SMTP id 3f1490d57ef6-e81f8679957so3053680276.2 for ; Tue, 01 Jul 2025 15:39:26 -0700 (PDT) DKIM-Signature: v=1; a=rsa-sha256; c=relaxed/relaxed; d=iol.unh.edu; s=unh-iol; t=1751409566; x=1752014366; darn=dpdk.org; h=references:in-reply-to:cc:to:from:subject:message-id:date:from:to :cc:subject:date:message-id:reply-to; bh=wCawajs0odtYZBCqee9EuTcVQ+bsTSjYxkFE9odG4ow=; b=DRJQctyFuGQ36R0mSOR4XXacuTpCvAJTu+9Y8gDBsZ6BTJbMSLOMEAGWlr+h9eEpMJ ZxXEA5lgtnKwxgi1NwlWk+LCdO6LRl9uT+hUY5x+wt68CMjBK9ox0tgiFHGI/uRJKq+o oVSs/IsuRPzNjpVUw4PrARjQWoyKDBJbXYR5I= X-Google-DKIM-Signature: v=1; a=rsa-sha256; c=relaxed/relaxed; d=1e100.net; s=20230601; t=1751409566; x=1752014366; h=references:in-reply-to:cc:to:from:subject:message-id:date :x-gm-message-state:from:to:cc:subject:date:message-id:reply-to; bh=wCawajs0odtYZBCqee9EuTcVQ+bsTSjYxkFE9odG4ow=; b=Q06on6QSnI9n07uihjooIZ55QsgmVjMN+pd93jB37rsktVluGCxnRQsb/fgC9UeWcE 5sR4BPy3J5sPni/C2wUcVd+ikXvaw8B5Znp1YqNiQQyf9ubng5qMz0uQjOyhzpJYDDsp e9K+d6E1kgAUJ/HAD9Tif9nya6naCUgSub9TyFuSGNu7WdtZIcPlrV3tm8b++mMFMcLP LuoJy8TwRMZ9QOMrPtMZ0eTMBofqOQTVV/M4iqaMgPTc/o6FaQktPSBgprAtnIOLffYC 85z0+PyxP+O/vIOj5BoSJtIOsZfIyogXKPWG1znKom7CtLK2aTRHVSi+znbi9qtWDHeO YY4g== X-Gm-Message-State: AOJu0YwszS6TObXevjcWwkIZp7o8Kt5r2nsKEDS3ptapD8LI9bW23Hrk aPzNlyQN8K395v6YIFT+W0SdXToiNq2uavjYel1OEj9/BzJ4QfvO8wLznPBA/PrK8VSn07xYl9R BB59z/qXNrF0M1PbUhr4k9UU32lm4Bwgd2QJPi3//gy7gqiiOUc+VGfv8bBrN X-Gm-Gg: ASbGncsVLmgpyvKHIqNTEh6uH3CMXNDLU4nMxBxg0fcxdwaZ0om6HHkMLpFarIyqf+K mbor81PJ7Wtf93XsAduQKJtMhaGolx2f6ILPXqCuY97+EQe30o8qxBDoRb465uG3O4gLjeQf/5k Qm1HoHJzobqriwtvBb96GFdmWEssWyfuQh3/jCvz+t+nz5shds/GLIJ/fpXOjW9q7rZY9v7rMXC 5NUnU/DtAIUoE2zEFCYq/94QQsm1RN3NqjUJh8t3gEqr/gkMY1XaWO5V8LClIh0IJQgeLhHIkpG rmzKy8MksjCG2CSvnSKT7IHJmuM/NDn/9Bax1V/uFRnBdBU= X-Google-Smtp-Source: AGHT+IEi3fBP5YdvRemZLLbgeXdQELdj9hY/40zldBwylD7WoToALC47M6abXGMTRZWNE1qaZiN1r+uJmfWI X-Received: by 2002:a05:6902:2845:b0:e85:eac6:7ae5 with SMTP id 3f1490d57ef6-e897e1401ecmr757188276.9.1751409566157; Tue, 01 Jul 2025 15:39:26 -0700 (PDT) Received: from postal.iol.unh.edu (postal.iol.unh.edu. [2606:4100:3880:1234::84]) by smtp-relay.gmail.com with ESMTPS id 3f1490d57ef6-e87a6b4d719sm532394276.3.2025.07.01.15.39.26 (version=TLS1_2 cipher=ECDHE-ECDSA-AES128-GCM-SHA256 bits=128/128); Tue, 01 Jul 2025 15:39:26 -0700 (PDT) X-Relaying-Domain: iol.unh.edu Date: Tue, 01 Jul 2025 15:39:26 -0700 (PDT) Message-ID: <6864639e.250a0220.354ef0.c53dSMTPIN_ADDED_MISSING@mx.google.com> Received: from [172.21.0.5] (unknown [172.18.0.240]) by postal.iol.unh.edu (Postfix) with ESMTP id D031C6051830; Tue, 1 Jul 2025 18:39:25 -0400 (EDT) Subject: |SUCCESS| pw154903 [PATCH] ci: check C++ headers with clang From: dpdklab@iol.unh.edu To: Test Report Cc: dpdk-test-reports@iol.unh.edu In-Reply-To: <20250701113146.1268492-1-david.marchand@redhat.com> References: <20250701113146.1268492-1-david.marchand@redhat.com> Content-Type: text/plain X-BeenThere: test-report@dpdk.org X-Mailman-Version: 2.1.29 Precedence: list List-Id: automatic DPDK test reports List-Unsubscribe: , List-Archive: List-Post: List-Help: List-Subscribe: , Errors-To: test-report-bounces@dpdk.org Test-Label: iol-abi-testing Test-Status: SUCCESS http://dpdk.org/patch/154903 _Testing PASS_ Submitter: David Marchand Date: Tuesday, July 01 2025 11:31:46 DPDK git baseline: Repo:dpdk Branch: master CommitID:20460dcffd08a4680f881c39916ae783ee830374 154903 --> testing pass Upstream job id: Generic-DPDK-Compile-ABI#132622 Test environment and result as below: +-------------------------------+----------+ | Environment | abi_test | +===============================+==========+ | CentOS Stream 9 | PASS | +-------------------------------+----------+ | CentOS Stream 10 | PASS | +-------------------------------+----------+ | Fedora Linux 40 | PASS | +-------------------------------+----------+ | Fedora Linux 41 | PASS | +-------------------------------+----------+ | openSUSE Leap 15.6 | PASS | +-------------------------------+----------+ | Red Hat Enterprise Linux 9.5 | PASS | +-------------------------------+----------+ | Ubuntu 24.04 | PASS | +-------------------------------+----------+ | Red Hat Enterprise Linux 8.10 | PASS | +-------------------------------+----------+ | Ubuntu 22.04 | PASS | +-------------------------------+----------+ | Debian GNU/Linux 12 | PASS | +-------------------------------+----------+ CentOS Stream 9 Kernel: 5.15 Compiler: gcc gcc (GCC) 11.5.0 20240719 (Red Hat 11.5.0-7) CentOS Stream 10 Kernel: 5.15 Compiler: gcc gcc (GCC) 14.2.1 20250110 (Red Hat 14.2.1-8) Fedora Linux 40 Kernel: 5.15 Compiler: clang gcc (GCC) 14.2.1 20240912 (Red Hat 14.2.1-3) Fedora Linux 41 Kernel: 5.15 Compiler: gcc gcc (GCC) 14.3.1 20250523 (Red Hat 14.3.1-1) openSUSE Leap 15.6 Kernel: 5.15 Compiler: gcc gcc (SUSE Linux) 7.5.0 Red Hat Enterprise Linux 9.5 Kernel: 5.15 Compiler: gcc gcc (GCC) 11.5.0 20240719 (Red Hat 11.5.0-2) Ubuntu 24.04 Kernel: 5.15 Compiler: gcc gcc (Ubuntu 13.3.0-6ubuntu2~24.04) 13.3.0 Red Hat Enterprise Linux 8.10 Kernel: 5.15 Compiler: gcc gcc (GCC) 8.5.0 20210514 (Red Hat 8.5.0-22) Ubuntu 22.04 Kernel: 5.15 Compiler: gcc gcc (Ubuntu 11.4.0-1ubuntu1~22.04) 11.4.0 Debian GNU/Linux 12 Kernel: 5.15 Compiler: gcc gcc (Debian 12.2.0-14+deb12u1) 12.2.0 To view detailed results, visit: https://lab.dpdk.org/results/dashboard/patchsets/33554/ UNH-IOL DPDK Community Lab To manage your email subscriptions, visit: https://lab.dpdk.org/results/dashboard/preferences/subscriptions/