From mboxrd@z Thu Jan 1 00:00:00 1970 Return-Path: Received: from mails.dpdk.org (mails.dpdk.org [217.70.189.124]) by inbox.dpdk.org (Postfix) with ESMTP id 59B5F46ABB for ; Wed, 2 Jul 2025 00:39:30 +0200 (CEST) Received: from mails.dpdk.org (localhost [127.0.0.1]) by mails.dpdk.org (Postfix) with ESMTP id 52EE440298; Wed, 2 Jul 2025 00:39:30 +0200 (CEST) Received: from mail-pl1-f228.google.com (mail-pl1-f228.google.com [209.85.214.228]) by mails.dpdk.org (Postfix) with ESMTP id 55ECC40298 for ; Wed, 2 Jul 2025 00:39:29 +0200 (CEST) Received: by mail-pl1-f228.google.com with SMTP id d9443c01a7336-237311f5a54so34556665ad.2 for ; Tue, 01 Jul 2025 15:39:29 -0700 (PDT) DKIM-Signature: v=1; a=rsa-sha256; c=relaxed/relaxed; d=iol.unh.edu; s=unh-iol; t=1751409568; x=1752014368; darn=dpdk.org; h=references:in-reply-to:cc:to:from:subject:message-id:date:from:to :cc:subject:date:message-id:reply-to; bh=cPeAlzfa7RfqVjFQB1YzW8b3+Va+C8LpJfOin6Pt2DY=; b=WvxjOc+U0HLA08QXTXt+/xCnMFyxChtZ/nlXwlpsl1lOkbG5vVRNEDQxD3xCycb7RP mhJO8vTzCJKfJqusNmwFfx/CGjWUiTYQMc6rHQi5mAtBlG4gtv/Xe7+GFsv0eyeiznxW /HR5GTesmmgKyNcaQrgb7g0AHbl/V8tdbQ+Dg= X-Google-DKIM-Signature: v=1; a=rsa-sha256; c=relaxed/relaxed; d=1e100.net; s=20230601; t=1751409568; x=1752014368; h=references:in-reply-to:cc:to:from:subject:message-id:date :x-gm-message-state:from:to:cc:subject:date:message-id:reply-to; bh=cPeAlzfa7RfqVjFQB1YzW8b3+Va+C8LpJfOin6Pt2DY=; b=VqcJuYuCFI0HryrmTB6T2lGbaLgX6dGw6OMMfNvCAnhmh6WT63h70Svf18BU6q7UoP +fb8Z+AKKLwBcR0ui3RmHq+vSeNgitzqpbUdK4kB9mWPCPQA/Ju54fZ4tlHnoRJ5ztvu emjZDkKYq7Er6DuFYMJXLkH6/OFgd4nWGrmznwS0zBQ59Pq3pHsN2BRuYtKqql50Epgt YA0o+0UxFr0gphG8QditzBFRmydBbLnxn+ZZIoE6Ec84tt9U8Shb+by6JwBOerBIo2Ws wQjAWqX4iss1YJZof98ncDN6L0hXPBHeDoj9TViVGTIDvbE4oaV9Ww7rdqtGdre1lysc /R0g== X-Gm-Message-State: AOJu0Yy6++Nga1X1QqaEbdMiJDfh5MvCQpM+SIwh0mXrGMAzm3e/1qAx TvE/in25rc2CZwMaxL8cjI90tmYObeyZg6+/ke1XsrSDJtcmxLTIWLmegCQAGNuY8VCQTv7qU14 +99kraR6sm3CABWfl0No9Cp4CZtHCed3Dp3s4CtEtUNIP X-Gm-Gg: ASbGncuSFwM7h/pxY2/lgyWDZiheGekY87NprSAJGyXiTOHQMkrte5Omq571NtyXvtd Fnssi1+hyAQ+6LRdUTqoPL2y9HI/DpYkGA3wDEPcOhMLrkYY661p2PQK4WYXD5ZAl88w0slRpz+ ezWxykvA+Q9ZrbIUV7+lqiCPEKvv65tjEzUmMFDstVH24wgCrlsx7MeVDw8T0G2cDJDv4lWyNLD ZyJm98jtbvKNXs6KUn0Hq9NH4piXOmmJ6N7cfUMJUvlEwR3fKxO8Gr0z8l8nzexCv2GXtGZWWZl kpk70jaPvZkIfk0ibVr9cVsUTqa2fU8rmsQ9hsT5/Bqz9yppTYgubIbMevtzl4sgNkQtMA== X-Google-Smtp-Source: AGHT+IFB6VRnob3iEkUKdTRYwyL6EnioQOi4ZKoCS82V3PwpyWFR5bylWXF9ZP0iaYFQCqTSRclxGP4lKB2t X-Received: by 2002:a17:903:11c3:b0:234:8e78:ce8a with SMTP id d9443c01a7336-23c6e5de776mr5748875ad.48.1751409568576; Tue, 01 Jul 2025 15:39:28 -0700 (PDT) Received: from postal.iol.unh.edu (postal.iol.unh.edu. [132.177.123.84]) by smtp-relay.gmail.com with ESMTPS id d9443c01a7336-23acb2f2299sm6134335ad.45.2025.07.01.15.39.28 (version=TLS1_2 cipher=ECDHE-ECDSA-AES128-GCM-SHA256 bits=128/128); Tue, 01 Jul 2025 15:39:28 -0700 (PDT) X-Relaying-Domain: iol.unh.edu Date: Tue, 01 Jul 2025 15:39:28 -0700 (PDT) Message-ID: <686463a0.170a0220.2587fe.1d8cSMTPIN_ADDED_MISSING@mx.google.com> Received: from [172.21.0.8] (unknown [172.18.0.240]) by postal.iol.unh.edu (Postfix) with ESMTP id 1656C6051830; Tue, 1 Jul 2025 18:39:28 -0400 (EDT) Subject: |SUCCESS| pw154893-154898 [PATCH] [v3,6/6] net/hns3: VF support mult From: dpdklab@iol.unh.edu To: Test Report Cc: dpdk-test-reports@iol.unh.edu In-Reply-To: <20250701091004.531704-7-huangdengdui@huawei.com> References: <20250701091004.531704-7-huangdengdui@huawei.com> Content-Type: text/plain X-BeenThere: test-report@dpdk.org X-Mailman-Version: 2.1.29 Precedence: list List-Id: automatic DPDK test reports List-Unsubscribe: , List-Archive: List-Post: List-Help: List-Subscribe: , Errors-To: test-report-bounces@dpdk.org Test-Label: iol-abi-testing Test-Status: SUCCESS http://dpdk.org/patch/154898 _Testing PASS_ Submitter: Dengdui Huang Date: Tuesday, July 01 2025 09:10:04 DPDK git baseline: Repo:dpdk Branch: master CommitID:77864da82f25a9e1e43c14b2cba68c2049a3ee3e 154893-154898 --> testing pass Upstream job id: Generic-DPDK-Compile-ABI#132620 Test environment and result as below: +-------------------------------+----------+ | Environment | abi_test | +===============================+==========+ | CentOS Stream 9 | PASS | +-------------------------------+----------+ | CentOS Stream 10 | PASS | +-------------------------------+----------+ | Debian GNU/Linux 12 | PASS | +-------------------------------+----------+ | Fedora Linux 40 | PASS | +-------------------------------+----------+ | Fedora Linux 41 | PASS | +-------------------------------+----------+ | Red Hat Enterprise Linux 8.10 | PASS | +-------------------------------+----------+ | Red Hat Enterprise Linux 9.5 | PASS | +-------------------------------+----------+ | Ubuntu 22.04 | PASS | +-------------------------------+----------+ | Ubuntu 24.04 | PASS | +-------------------------------+----------+ | openSUSE Leap 15.6 | PASS | +-------------------------------+----------+ CentOS Stream 9 Kernel: 5.15 Compiler: gcc gcc (GCC) 11.5.0 20240719 (Red Hat 11.5.0-7) CentOS Stream 10 Kernel: 5.15 Compiler: gcc gcc (GCC) 14.2.1 20250110 (Red Hat 14.2.1-8) Debian GNU/Linux 12 Kernel: 5.15 Compiler: gcc gcc (Debian 12.2.0-14+deb12u1) 12.2.0 Fedora Linux 40 Kernel: 5.15 Compiler: clang gcc (GCC) 14.2.1 20240912 (Red Hat 14.2.1-3) Fedora Linux 41 Kernel: 5.15 Compiler: clang gcc (GCC) 14.3.1 20250523 (Red Hat 14.3.1-1) Red Hat Enterprise Linux 8.10 Kernel: 5.15 Compiler: gcc gcc (GCC) 8.5.0 20210514 (Red Hat 8.5.0-22) Red Hat Enterprise Linux 9.5 Kernel: 5.15 Compiler: gcc gcc (GCC) 11.5.0 20240719 (Red Hat 11.5.0-2) Ubuntu 22.04 Kernel: 5.15 Compiler: gcc gcc (Ubuntu 11.4.0-1ubuntu1~22.04) 11.4.0 Ubuntu 24.04 Kernel: 5.15 Compiler: gcc gcc (Ubuntu 13.3.0-6ubuntu2~24.04) 13.3.0 openSUSE Leap 15.6 Kernel: 5.15 Compiler: gcc gcc (SUSE Linux) 7.5.0 To view detailed results, visit: https://lab.dpdk.org/results/dashboard/patchsets/33551/ UNH-IOL DPDK Community Lab To manage your email subscriptions, visit: https://lab.dpdk.org/results/dashboard/preferences/subscriptions/