From mboxrd@z Thu Jan 1 00:00:00 1970 Return-Path: Received: from mails.dpdk.org (mails.dpdk.org [217.70.189.124]) by inbox.dpdk.org (Postfix) with ESMTP id 6E7A846ABB for ; Wed, 2 Jul 2025 00:39:55 +0200 (CEST) Received: from mails.dpdk.org (localhost [127.0.0.1]) by mails.dpdk.org (Postfix) with ESMTP id 66E2640298; Wed, 2 Jul 2025 00:39:55 +0200 (CEST) Received: from mail-ot1-f99.google.com (mail-ot1-f99.google.com [209.85.210.99]) by mails.dpdk.org (Postfix) with ESMTP id 050F040298 for ; Wed, 2 Jul 2025 00:39:54 +0200 (CEST) Received: by mail-ot1-f99.google.com with SMTP id 46e09a7af769-73b0efea175so2007003a34.0 for ; Tue, 01 Jul 2025 15:39:53 -0700 (PDT) DKIM-Signature: v=1; a=rsa-sha256; c=relaxed/relaxed; d=iol.unh.edu; s=unh-iol; t=1751409593; x=1752014393; darn=dpdk.org; h=references:in-reply-to:cc:to:from:subject:message-id:date:from:to :cc:subject:date:message-id:reply-to; bh=tkwpPUJWsWp0v7rIH9y4e9000g59MjUcKZAB5NpE728=; b=iw8oA9Cj9NX7d44oT2/AF/lZHoRJ0Wva29ypnMQMPQndra5cStbPYyoUJDIT6/wsma lLuM7qTOVt7rggr/Ov9OVqQq4QVvVt9aqg6NF9MZoQ5gSBxoFcAZcZk1WRar4t1l7fAM iQPEnkRKxjfsGU1lO7CMz3p2yN5GZvrELUiak= X-Google-DKIM-Signature: v=1; a=rsa-sha256; c=relaxed/relaxed; d=1e100.net; s=20230601; t=1751409593; x=1752014393; h=references:in-reply-to:cc:to:from:subject:message-id:date :x-gm-message-state:from:to:cc:subject:date:message-id:reply-to; bh=tkwpPUJWsWp0v7rIH9y4e9000g59MjUcKZAB5NpE728=; b=p1yeGlqDFsNqzF9CpExIWgAlIXGhr99fAAz7oH1pFDSimp83amGNfM3xqbYIvWNvEN h2Ltt6kapGxD+4JfrvoiI5kzJxhgfFPUuYQhzza2Qmb4Jj8uvrKCanW6B7CAzBRyLX9S lXGPZ4qopNcMuoWwUI2yve0DgxnHH4wvaPnNmXau8T+9kixPYV86FMAGBaIXoUEp3FEg Hz9Mggyb5vjINB1d83XO1C4UXAgQla/bWQu2i6Fh2SNiOPrj1F+I63RIXqQYQNKFVx0l Cd25IgkTVGKmhgNvw3+5bNUlbWnQU8wDR/wR2WFkoUOcSyLuic+yFrkO4dpZP7CLPK6u odhg== X-Gm-Message-State: AOJu0YxK908FcwEY7XVLcTvsMD6u4dFa+3bPo6vqfS0oYZI2J3wfUlqP DfVrw7YogZKrkwqDDJwwi1V1t7gbHPtfHO4ljw2qZF9z5CbMNW9Job38Q/Hiz+lCshrDO7TRhAI aj6QxVdy+pCc4BSizWO7zI0awoMYCTcN6ph1TSBdO3kBD X-Gm-Gg: ASbGnct4bY+s0C0kt5SnCxL4Dn57fBpciq8Ach1O9VDEwFSOdZlayAQu9w0rrACMZne tFMTI+r92+qEo85E2plCrv8Blq2kbsB30dWlUQwZCkbgGgOQMP9DpmLjYRJgXT8Gin0713AaFUA 6IuQmcus7C06jBuC9648rZPglJ/VImtm095lGAAhVHyA5U6oPnVa8u2Juuj8028+4UDdnvlt99i lpyNAj7OobDKCXMAb2ArHpGWDLDV7Mlu9gTtwwAhvN/wuz4c1vY0oL4147QCyldWiK+FpNCfqx0 ZevwQ4ZvtHr5bKpnm+kfEC4YFq0MuWTS5yCHcACsuQ3bUXrrvYs5APxRJYR5TtaG/fEktw== X-Google-Smtp-Source: AGHT+IF4WX5QSCByT8t0V8l/pWLvdmzu3AztWTqvXLMQtv3SbCk2YVxJG5ccYX7tP7YuwKnajE8s3KOVWjxO X-Received: by 2002:a05:6830:658d:b0:735:bab9:c5c1 with SMTP id 46e09a7af769-73b4cbf2355mr759978a34.22.1751409593224; Tue, 01 Jul 2025 15:39:53 -0700 (PDT) Received: from postal.iol.unh.edu (postal.iol.unh.edu. [132.177.123.84]) by smtp-relay.gmail.com with ESMTPS id 586e51a60fabf-2efd5043786sm748388fac.36.2025.07.01.15.39.53 (version=TLS1_2 cipher=ECDHE-ECDSA-AES128-GCM-SHA256 bits=128/128); Tue, 01 Jul 2025 15:39:53 -0700 (PDT) X-Relaying-Domain: iol.unh.edu Date: Tue, 01 Jul 2025 15:39:53 -0700 (PDT) Message-ID: <686463b9.050a0220.102481.9670SMTPIN_ADDED_MISSING@mx.google.com> Received: from [172.21.0.6] (unknown [172.18.0.240]) by postal.iol.unh.edu (Postfix) with ESMTP id B13546051830; Tue, 1 Jul 2025 18:39:52 -0400 (EDT) Subject: |SUCCESS| pw154913 [PATCH] test/event: disable vector adapter test From: dpdklab@iol.unh.edu To: Test Report Cc: dpdk-test-reports@iol.unh.edu In-Reply-To: <20250701131524.2493132-1-thomas@monjalon.net> References: <20250701131524.2493132-1-thomas@monjalon.net> Content-Type: text/plain X-BeenThere: test-report@dpdk.org X-Mailman-Version: 2.1.29 Precedence: list List-Id: automatic DPDK test reports List-Unsubscribe: , List-Archive: List-Post: List-Help: List-Subscribe: , Errors-To: test-report-bounces@dpdk.org Test-Label: iol-abi-testing Test-Status: SUCCESS http://dpdk.org/patch/154913 _Testing PASS_ Submitter: Thomas Monjalon Date: Tuesday, July 01 2025 13:15:24 DPDK git baseline: Repo:dpdk Branch: master CommitID:20460dcffd08a4680f881c39916ae783ee830374 154913 --> testing pass Upstream job id: Generic-DPDK-Compile-ABI#132624 Test environment and result as below: +-------------------------------+----------+ | Environment | abi_test | +===============================+==========+ | CentOS Stream 9 | PASS | +-------------------------------+----------+ | CentOS Stream 10 | PASS | +-------------------------------+----------+ | Debian GNU/Linux 12 | PASS | +-------------------------------+----------+ | Fedora Linux 40 | PASS | +-------------------------------+----------+ | Fedora Linux 41 | PASS | +-------------------------------+----------+ | openSUSE Leap 15.6 | PASS | +-------------------------------+----------+ | Red Hat Enterprise Linux 8.10 | PASS | +-------------------------------+----------+ | Red Hat Enterprise Linux 9.5 | PASS | +-------------------------------+----------+ | Ubuntu 22.04 | PASS | +-------------------------------+----------+ | Ubuntu 24.04 | PASS | +-------------------------------+----------+ CentOS Stream 9 Kernel: 5.15 Compiler: gcc gcc (GCC) 11.5.0 20240719 (Red Hat 11.5.0-7) CentOS Stream 10 Kernel: 5.15 Compiler: gcc gcc (GCC) 14.2.1 20250110 (Red Hat 14.2.1-8) Debian GNU/Linux 12 Kernel: 5.15 Compiler: gcc gcc (Debian 12.2.0-14+deb12u1) 12.2.0 Fedora Linux 40 Kernel: 5.15 Compiler: clang gcc (GCC) 14.2.1 20240912 (Red Hat 14.2.1-3) Fedora Linux 41 Kernel: 5.15 Compiler: clang gcc (GCC) 14.3.1 20250523 (Red Hat 14.3.1-1) openSUSE Leap 15.6 Kernel: 5.15 Compiler: gcc gcc (SUSE Linux) 7.5.0 Red Hat Enterprise Linux 8.10 Kernel: 5.15 Compiler: gcc gcc (GCC) 8.5.0 20210514 (Red Hat 8.5.0-22) Red Hat Enterprise Linux 9.5 Kernel: 5.15 Compiler: gcc gcc (GCC) 11.5.0 20240719 (Red Hat 11.5.0-2) Ubuntu 22.04 Kernel: 5.15 Compiler: gcc gcc (Ubuntu 11.4.0-1ubuntu1~22.04) 11.4.0 Ubuntu 24.04 Kernel: 5.15 Compiler: gcc gcc (Ubuntu 13.3.0-6ubuntu2~24.04) 13.3.0 To view detailed results, visit: https://lab.dpdk.org/results/dashboard/patchsets/33556/ UNH-IOL DPDK Community Lab To manage your email subscriptions, visit: https://lab.dpdk.org/results/dashboard/preferences/subscriptions/