From mboxrd@z Thu Jan 1 00:00:00 1970 Return-Path: Received: from mails.dpdk.org (mails.dpdk.org [217.70.189.124]) by inbox.dpdk.org (Postfix) with ESMTP id A8CA946ABB for ; Wed, 2 Jul 2025 00:40:45 +0200 (CEST) Received: from mails.dpdk.org (localhost [127.0.0.1]) by mails.dpdk.org (Postfix) with ESMTP id 9A05140298; Wed, 2 Jul 2025 00:40:45 +0200 (CEST) Received: from mail-pl1-f227.google.com (mail-pl1-f227.google.com [209.85.214.227]) by mails.dpdk.org (Postfix) with ESMTP id 7019640298 for ; Wed, 2 Jul 2025 00:40:44 +0200 (CEST) Received: by mail-pl1-f227.google.com with SMTP id d9443c01a7336-234b440afa7so62834025ad.0 for ; Tue, 01 Jul 2025 15:40:44 -0700 (PDT) DKIM-Signature: v=1; a=rsa-sha256; c=relaxed/relaxed; d=iol.unh.edu; s=unh-iol; t=1751409643; x=1752014443; darn=dpdk.org; h=references:in-reply-to:cc:to:from:subject:message-id:date:from:to :cc:subject:date:message-id:reply-to; bh=qPfp97IliayzygcrIt320vZxXZQvp8eoKO+zSzLXEQw=; b=jQvO9OWi5+79+kqVaBtYydD5J8ORKJVNwOBE1iTvb16hMjlyWrPujVuyhSR9mKQ/oZ 4FjZ5OZRcoHWPXrc9waJZBWQnLeaRe3aP338HwEcp/BS/2043rYkfenRxoMHSCStyRIl mDU1zBTCkdURa8ZqErMPTiGPOCp0MM4MkvKd8= X-Google-DKIM-Signature: v=1; a=rsa-sha256; c=relaxed/relaxed; d=1e100.net; s=20230601; t=1751409643; x=1752014443; h=references:in-reply-to:cc:to:from:subject:message-id:date :x-gm-message-state:from:to:cc:subject:date:message-id:reply-to; bh=qPfp97IliayzygcrIt320vZxXZQvp8eoKO+zSzLXEQw=; b=SidzBuSRDmrgvQkhbPD2bGeFDBCjsIdelS0oMBeLku6AaWNrnGhii+yK4QnT/zbWDl IftnxIvv9NKoasSUKRMoIg1ptO5UkwL0V+2edWfJpU2jeK6Dm/NGMG00R+ATmIX3J9q5 hVH35GXaTI9cKXt5uBZSeNOfp5VmuwxjtLWG6cERvNpE+EZskqSs5VWvb67MKtYbhQ6+ MQQeGLPhA7EaIwnZSZDk8Z3xkZjTVV8zAphmNHV8mdrE4pMu8sZkSUzsYKFlupXpn5GV aJJO7HFNhy6T1Z9myM0uI/lHfHN94xldWos0v2FXAL5JWzu2OePZ6OLhQr/IHX8UNTwO 5boQ== X-Gm-Message-State: AOJu0YzEpXrFdQfIh9na12fb9X6eD6QheZfNqq3JFpSlWhrEGPxGC2k6 cE0cMtJj6+09jLMN8XgNnKaPa4DbkmTK1WbVmedv50rfEuLR6vPzEIOXBnT420aSL3vJq8fMEce fZxoz132kU0F1d6zfZ64MKeInpjbfC92s6m7OvuTDyQYk X-Gm-Gg: ASbGncuusf4SdiFANXDJkM9VpIGDERYaCVdzuuKD5P5qvTPBMO5ad8xwIyiy4LvdODW RXO5nymkBsBtZ2DDoAzLKe2LYi51Kr3cUHORx/KiIvflAeteBIO6tmYLbAslUwvRkc9QQmCyuUI ubgd2pXdn3vnEMnvTCUyGybnCuKvNQSWV4fv+R6rioG2vprdf7KHQW2ZgPDI6NY4kzX0CkCh0rY MlpECkPdWC29LUT4mzAgkl6UuoSof+HiAvZK3KLBOtZeRT7qRTlpnaIZKQlS/EZSSnkvZAoAsAR aTjyAPENACqlsVzgkWOPD+Z48NhVVGabnE/CSoKdp8e0nRdAeLBSaRVa6jbxCcaaarxqpA== X-Google-Smtp-Source: AGHT+IGO9ssq46WeMFwfiEl0Fdh5gsqR5rp8rqJhBDclIhxxPvebvutNPB4R2XLydTNbTE2s/VqFq2EKSRHZ X-Received: by 2002:a17:902:f682:b0:235:f1e4:3383 with SMTP id d9443c01a7336-23c6e4e1723mr4815645ad.7.1751409643569; Tue, 01 Jul 2025 15:40:43 -0700 (PDT) Received: from postal.iol.unh.edu (postal.iol.unh.edu. [132.177.123.84]) by smtp-relay.gmail.com with ESMTPS id d9443c01a7336-23acb39a863sm6242885ad.123.2025.07.01.15.40.43 (version=TLS1_2 cipher=ECDHE-ECDSA-AES128-GCM-SHA256 bits=128/128); Tue, 01 Jul 2025 15:40:43 -0700 (PDT) X-Relaying-Domain: iol.unh.edu Date: Tue, 01 Jul 2025 15:40:43 -0700 (PDT) Message-ID: <686463eb.170a0220.119ef2.2c72SMTPIN_ADDED_MISSING@mx.google.com> Received: from [172.21.0.5] (unknown [172.18.0.240]) by postal.iol.unh.edu (Postfix) with ESMTP id 0FE6D6051830; Tue, 1 Jul 2025 18:40:43 -0400 (EDT) Subject: |SUCCESS| pw154913 [PATCH] test/event: disable vector adapter test From: dpdklab@iol.unh.edu To: Test Report Cc: dpdk-test-reports@iol.unh.edu In-Reply-To: <20250701131524.2493132-1-thomas@monjalon.net> References: <20250701131524.2493132-1-thomas@monjalon.net> Content-Type: text/plain X-BeenThere: test-report@dpdk.org X-Mailman-Version: 2.1.29 Precedence: list List-Id: automatic DPDK test reports List-Unsubscribe: , List-Archive: List-Post: List-Help: List-Subscribe: , Errors-To: test-report-bounces@dpdk.org Test-Label: iol-abi-testing Test-Status: SUCCESS http://dpdk.org/patch/154913 _Testing PASS_ Submitter: Thomas Monjalon Date: Tuesday, July 01 2025 13:15:24 DPDK git baseline: Repo:dpdk Branch: master CommitID:20460dcffd08a4680f881c39916ae783ee830374 154913 --> testing pass Upstream job id: Generic-DPDK-Compile-ABI#132630 Test environment and result as below: +-------------------------------+----------+ | Environment | abi_test | +===============================+==========+ | CentOS Stream 9 | PASS | +-------------------------------+----------+ | CentOS Stream 10 | PASS | +-------------------------------+----------+ | Debian GNU/Linux 12 | PASS | +-------------------------------+----------+ | Fedora Linux 40 | PASS | +-------------------------------+----------+ | Fedora Linux 41 | PASS | +-------------------------------+----------+ | openSUSE Leap 15.6 | PASS | +-------------------------------+----------+ | Red Hat Enterprise Linux 8.10 | PASS | +-------------------------------+----------+ | Red Hat Enterprise Linux 9.5 | PASS | +-------------------------------+----------+ | Ubuntu 22.04 | PASS | +-------------------------------+----------+ | Ubuntu 24.04 | PASS | +-------------------------------+----------+ CentOS Stream 9 Kernel: 5.15 Compiler: gcc gcc (GCC) 11.5.0 20240719 (Red Hat 11.5.0-7) CentOS Stream 10 Kernel: 5.15 Compiler: gcc gcc (GCC) 14.2.1 20250110 (Red Hat 14.2.1-8) Debian GNU/Linux 12 Kernel: 5.15 Compiler: gcc gcc (Debian 12.2.0-14+deb12u1) 12.2.0 Fedora Linux 40 Kernel: 5.15 Compiler: clang gcc (GCC) 14.2.1 20240912 (Red Hat 14.2.1-3) Fedora Linux 41 Kernel: 5.15 Compiler: clang gcc (GCC) 14.3.1 20250523 (Red Hat 14.3.1-1) openSUSE Leap 15.6 Kernel: 5.15 Compiler: gcc gcc (SUSE Linux) 7.5.0 Red Hat Enterprise Linux 8.10 Kernel: 5.15 Compiler: gcc gcc (GCC) 8.5.0 20210514 (Red Hat 8.5.0-22) Red Hat Enterprise Linux 9.5 Kernel: 5.15 Compiler: gcc gcc (GCC) 11.5.0 20240719 (Red Hat 11.5.0-2) Ubuntu 22.04 Kernel: 5.15 Compiler: gcc gcc (Ubuntu 11.4.0-1ubuntu1~22.04) 11.4.0 Ubuntu 24.04 Kernel: 5.15 Compiler: gcc gcc (Ubuntu 13.3.0-6ubuntu2~24.04) 13.3.0 To view detailed results, visit: https://lab.dpdk.org/results/dashboard/patchsets/33556/ UNH-IOL DPDK Community Lab To manage your email subscriptions, visit: https://lab.dpdk.org/results/dashboard/preferences/subscriptions/