From mboxrd@z Thu Jan 1 00:00:00 1970 Return-Path: Received: from mails.dpdk.org (mails.dpdk.org [217.70.189.124]) by inbox.dpdk.org (Postfix) with ESMTP id 00EE746ABB for ; Wed, 2 Jul 2025 00:41:10 +0200 (CEST) Received: from mails.dpdk.org (localhost [127.0.0.1]) by mails.dpdk.org (Postfix) with ESMTP id DD84840298; Wed, 2 Jul 2025 00:41:09 +0200 (CEST) Received: from mail-pf1-f228.google.com (mail-pf1-f228.google.com [209.85.210.228]) by mails.dpdk.org (Postfix) with ESMTP id C7B0D40298 for ; Wed, 2 Jul 2025 00:41:07 +0200 (CEST) Received: by mail-pf1-f228.google.com with SMTP id d2e1a72fcca58-748e63d4b05so2539703b3a.2 for ; Tue, 01 Jul 2025 15:41:07 -0700 (PDT) DKIM-Signature: v=1; a=rsa-sha256; c=relaxed/relaxed; d=iol.unh.edu; s=unh-iol; t=1751409667; x=1752014467; darn=dpdk.org; h=references:in-reply-to:cc:to:from:subject:message-id:date:from:to :cc:subject:date:message-id:reply-to; bh=CaiVC6WfUwyw1PU4u/Sl8/LcYyJK1SOm/VRlL2tHu9c=; b=FKinCWou1QgBR82G9PpXtq0VNGFiA1VcCYiqi0tLNv4rJaXjyl4S3yXVK2UFDZpNru jGT10PycZ0vwsUzRvlNmmDi4RvmZBHnnUVvHA/zjlt0YBz6aAWhRcf4/zTeh5PlKabz8 4EKFhZPycuRM/7om1zKZ6/KCLuWIGCawQLTsU= X-Google-DKIM-Signature: v=1; a=rsa-sha256; c=relaxed/relaxed; d=1e100.net; s=20230601; t=1751409667; x=1752014467; h=references:in-reply-to:cc:to:from:subject:message-id:date :x-gm-message-state:from:to:cc:subject:date:message-id:reply-to; bh=CaiVC6WfUwyw1PU4u/Sl8/LcYyJK1SOm/VRlL2tHu9c=; b=K9UJIU6DFI5TXnGJxZ1IPd1F4ehAcT6epgPRtI+8byiX/Rd0gpTt/uFCAC8xIwysUm YZUFzcdEFRNu7ODXOLZQJ8ft3BgA1AHNomREWUW5vnarlpbNDEbCMgI2Sb+wwEYOoKL8 Auv3bbEkdcTbJk+0r6wePqLt+tR0VXOZFtkwdapud01UiEvAAQXDnZHSRiH1QzcFJ0cP 4MZaVRFhaAGq/3GYt18aCt8ih0ZMcHWNnjju3Vyp2MCioxYz00dVTxS3UGTg0B+JfeVg zRWNgpkn86E10juVetfcwZTqBL3w4N5friqo2ZNs6CO4J+yC1FIoSfG1iFaWapViZRMj YDOg== X-Gm-Message-State: AOJu0YzZ66GG6DZV8Dvxa7BzHyb/EeTSD6wWmiE6aYHewz6xELM6ygck pRIPZL0QObiDH22kVKVc0dETFE5D1Jx+grxJ8t49xiFte/cBkHhCv5yI09PHdsJIXKX9Q4PT6tr DI61Lo0UDxUFc2J28GMffxiuIib5K7EwVXARgngN6xG7l X-Gm-Gg: ASbGncsEXWOy6UWby/7vG2/+cY5EE+FfecONXyxcE4YBRdp5/aOX2ebc2aIObIoXYxY 6CnGFZiVdmKVUDoMaCYN8bK4ZFV1jhJh2TnZ78mKpydcOiSwDVfaGckg9VYw3ydz2/2cGNubUA3 96I/O16NZ03I5EpETy7Mw7ATpEJyyq19mJw527Lhi6wp3GTDAFPxTzBk6dWuKYCVEkHW8aLz2N9 VQTzHvq04bP877so/2thdf03hvoi0Xs95t71FB1memSRsbFdz0Un+ox+pGnlcySU+pu9daydMMT T7spREN9g1YLH208w/Wckv62QSLKXlatRuuJ/F8yOBliIj4yUCgJ6xZz3ztBu2KA77qVZg== X-Google-Smtp-Source: AGHT+IFySLuCnKFlb3kbpMJN2gk/azVMweH+ky1aBRNeOue0FY88NxPuWKGCBdju3PGqabQtXS9EAuqUuM54 X-Received: by 2002:a05:6a21:6da1:b0:21a:de8e:44b4 with SMTP id adf61e73a8af0-222d7df085bmr1417758637.16.1751409666930; Tue, 01 Jul 2025 15:41:06 -0700 (PDT) Received: from postal.iol.unh.edu (postal.iol.unh.edu. [132.177.123.84]) by smtp-relay.gmail.com with ESMTPS id 41be03b00d2f7-b34e321d7a8sm533036a12.22.2025.07.01.15.41.06 (version=TLS1_2 cipher=ECDHE-ECDSA-AES128-GCM-SHA256 bits=128/128); Tue, 01 Jul 2025 15:41:06 -0700 (PDT) X-Relaying-Domain: iol.unh.edu Date: Tue, 01 Jul 2025 15:41:06 -0700 (PDT) Message-ID: <68646402.630a0220.29e602.d6b7SMTPIN_ADDED_MISSING@mx.google.com> Received: from [172.21.0.5] (unknown [172.18.0.240]) by postal.iol.unh.edu (Postfix) with ESMTP id 36D106051830; Tue, 1 Jul 2025 18:41:06 -0400 (EDT) Subject: |SUCCESS| pw154889-154890 [PATCH] [v2,6/6] net/hns3: VF support mult From: dpdklab@iol.unh.edu To: Test Report Cc: dpdk-test-reports@iol.unh.edu In-Reply-To: <20250701064512.3868175-7-huangdengdui@huawei.com> References: <20250701064512.3868175-7-huangdengdui@huawei.com> Content-Type: text/plain X-BeenThere: test-report@dpdk.org X-Mailman-Version: 2.1.29 Precedence: list List-Id: automatic DPDK test reports List-Unsubscribe: , List-Archive: List-Post: List-Help: List-Subscribe: , Errors-To: test-report-bounces@dpdk.org Test-Label: iol-abi-testing Test-Status: SUCCESS http://dpdk.org/patch/154890 _Testing PASS_ Submitter: Dengdui Huang Date: Tuesday, July 01 2025 06:45:12 DPDK git baseline: Repo:dpdk Branch: master CommitID:77864da82f25a9e1e43c14b2cba68c2049a3ee3e 154889-154890 --> testing pass Upstream job id: Generic-DPDK-Compile-ABI#132621 Test environment and result as below: +-------------------------------+----------+ | Environment | abi_test | +===============================+==========+ | CentOS Stream 9 | PASS | +-------------------------------+----------+ | CentOS Stream 10 | PASS | +-------------------------------+----------+ | Fedora Linux 40 | PASS | +-------------------------------+----------+ | Debian GNU/Linux 12 | PASS | +-------------------------------+----------+ | Fedora Linux 41 | PASS | +-------------------------------+----------+ | openSUSE Leap 15.6 | PASS | +-------------------------------+----------+ | Red Hat Enterprise Linux 8.10 | PASS | +-------------------------------+----------+ | Red Hat Enterprise Linux 9.5 | PASS | +-------------------------------+----------+ | Ubuntu 22.04 | PASS | +-------------------------------+----------+ | Ubuntu 24.04 | PASS | +-------------------------------+----------+ CentOS Stream 9 Kernel: 5.15 Compiler: gcc gcc (GCC) 11.5.0 20240719 (Red Hat 11.5.0-7) CentOS Stream 10 Kernel: 5.15 Compiler: gcc gcc (GCC) 14.2.1 20250110 (Red Hat 14.2.1-8) Fedora Linux 40 Kernel: 5.15 Compiler: clang gcc (GCC) 14.2.1 20240912 (Red Hat 14.2.1-3) Debian GNU/Linux 12 Kernel: 5.15 Compiler: gcc gcc (Debian 12.2.0-14+deb12u1) 12.2.0 Fedora Linux 41 Kernel: 5.15 Compiler: clang gcc (GCC) 14.3.1 20250523 (Red Hat 14.3.1-1) openSUSE Leap 15.6 Kernel: 5.15 Compiler: gcc gcc (SUSE Linux) 7.5.0 Red Hat Enterprise Linux 8.10 Kernel: 5.15 Compiler: gcc gcc (GCC) 8.5.0 20210514 (Red Hat 8.5.0-22) Red Hat Enterprise Linux 9.5 Kernel: 5.15 Compiler: gcc gcc (GCC) 11.5.0 20240719 (Red Hat 11.5.0-2) Ubuntu 22.04 Kernel: 5.15 Compiler: gcc gcc (Ubuntu 11.4.0-1ubuntu1~22.04) 11.4.0 Ubuntu 24.04 Kernel: 5.15 Compiler: gcc gcc (Ubuntu 13.3.0-6ubuntu2~24.04) 13.3.0 To view detailed results, visit: https://lab.dpdk.org/results/dashboard/patchsets/33550/ UNH-IOL DPDK Community Lab To manage your email subscriptions, visit: https://lab.dpdk.org/results/dashboard/preferences/subscriptions/