From mboxrd@z Thu Jan 1 00:00:00 1970 Return-Path: Received: from mails.dpdk.org (mails.dpdk.org [217.70.189.124]) by inbox.dpdk.org (Postfix) with ESMTP id 297CD46ABB for ; Wed, 2 Jul 2025 00:41:51 +0200 (CEST) Received: from mails.dpdk.org (localhost [127.0.0.1]) by mails.dpdk.org (Postfix) with ESMTP id 1FEB140298; Wed, 2 Jul 2025 00:41:51 +0200 (CEST) Received: from mail-pl1-f225.google.com (mail-pl1-f225.google.com [209.85.214.225]) by mails.dpdk.org (Postfix) with ESMTP id D913D40298 for ; Wed, 2 Jul 2025 00:41:49 +0200 (CEST) Received: by mail-pl1-f225.google.com with SMTP id d9443c01a7336-236377f00easo45689815ad.1 for ; Tue, 01 Jul 2025 15:41:49 -0700 (PDT) DKIM-Signature: v=1; a=rsa-sha256; c=relaxed/relaxed; d=iol.unh.edu; s=unh-iol; t=1751409709; x=1752014509; darn=dpdk.org; h=references:in-reply-to:cc:to:from:subject:message-id:date:from:to :cc:subject:date:message-id:reply-to; bh=P0pSqY5qMsr3NJrrVbop99KVDMfDFnhdZPVQIDjJqMI=; b=AjVaXqF2RRm+17gfrhg8YRpX/ihxT89AfLGdqPG7k88SR1OJ1v2pkB0TmfacclNrSB zomKPPdHhx8sjaW36um006uylp+dHwGDEncyJJzLKGJdy/rUEGh00GSQG7YCLEEyxvoq TeTlNHo46vTXwEkOtBg5HAX6gVQQGJ7yokduE= X-Google-DKIM-Signature: v=1; a=rsa-sha256; c=relaxed/relaxed; d=1e100.net; s=20230601; t=1751409709; x=1752014509; h=references:in-reply-to:cc:to:from:subject:message-id:date :x-gm-message-state:from:to:cc:subject:date:message-id:reply-to; bh=P0pSqY5qMsr3NJrrVbop99KVDMfDFnhdZPVQIDjJqMI=; b=agOV5ceUHVleZqWAQQWCrFSmMqsQ2LClNYFk7MlkMMXPsbNOrPh1lQaAOoSdw3Fzv1 I+Iz9cChjCoGl2eMPmGHW8uldCMtGGts9LWQ7P67gO0kwDvOPzNHv01XSYINxQZlUdgt OD+ipTvEOy4sCujVsgulVX3myviGyBK8vr08n8S22egUB9Tgl56Nay59wnwMHfizyJw6 dcgIaV7QPhi6eloSAML7B9P3rYY2subIL3yEQGoSWWPvgLRKjY+W2ZW7dASeBwr37qeK zbeJ2ExhWW9kmQWKBV2FcFFBUpwRK/2YnTjWfZXFM1Or6F+agY6vNA716joUvOBXBcHK B7QQ== X-Gm-Message-State: AOJu0YyJ74BJ6EJ86zvFOdyGnj+5+DjmdNRvTv1PP5cJ4fs2oEBZk70i lLc/rWz5zIvWdsLXMROfoAaa29qi+QcPN7IOxri1jVRUZPHyzNr2kkQtb653TbgeJ3FcZolIBUh 3uOBNUIP1BSyOwXLWIB3Mt42wDJz0m3/hx/d0KhdWmerE X-Gm-Gg: ASbGncskn/GDFUQC8YBi6tXxY5IwqG3ZXssmsFvftVJ5lMHmZw7hjSkMaEuKHvUfwl0 akG/ZYzl4wDbdfariDVA/0PC1HGulbvYqGhOjDw2ERLxM2nLuACMTPskVMlSfpHqD4gc+7hCd4O k5yHI2T0FJ17wZ9evD3vnXD63HfWL79TK5X0+drKQxa5xJqzGI6EASaJYCoq0vxlT9Gfx735810 cGkG2ZhefVey5wiPVq5560Fxjtt7UTt/J+nFBnCm3kFQOYrbUwe9TEWWfJZeLohNORW98+ecgDO jDCvcv+OZrzlmkfv7p9Gs2/1kMBWsd4qnO+htJFzE7+mPkXNHIoz49wF2/y6UqJFgKeNJg== X-Google-Smtp-Source: AGHT+IG9BaL6ffueMFQpA6m0NAuslY3uWEfXR2PnHM4NF8p4D5ZvjaUBNRqp4fnfAYb4Hgd+afyUzDahvAvQ X-Received: by 2002:a17:903:2449:b0:235:15f3:ef16 with SMTP id d9443c01a7336-23c6e4ac6fdmr6485635ad.13.1751409709019; Tue, 01 Jul 2025 15:41:49 -0700 (PDT) Received: from postal.iol.unh.edu (postal.iol.unh.edu. [132.177.123.84]) by smtp-relay.gmail.com with ESMTPS id d9443c01a7336-23acb34f08bsm5972085ad.72.2025.07.01.15.41.48 (version=TLS1_2 cipher=ECDHE-ECDSA-AES128-GCM-SHA256 bits=128/128); Tue, 01 Jul 2025 15:41:49 -0700 (PDT) X-Relaying-Domain: iol.unh.edu Date: Tue, 01 Jul 2025 15:41:49 -0700 (PDT) Message-ID: <6864642d.170a0220.30da90.0468SMTPIN_ADDED_MISSING@mx.google.com> Received: from [172.21.0.7] (unknown [172.18.0.240]) by postal.iol.unh.edu (Postfix) with ESMTP id 20FC06051830; Tue, 1 Jul 2025 18:41:48 -0400 (EDT) Subject: |SUCCESS| pw154913 [PATCH] test/event: disable vector adapter test From: dpdklab@iol.unh.edu To: Test Report Cc: dpdk-test-reports@iol.unh.edu In-Reply-To: <20250701131524.2493132-1-thomas@monjalon.net> References: <20250701131524.2493132-1-thomas@monjalon.net> Content-Type: text/plain X-BeenThere: test-report@dpdk.org X-Mailman-Version: 2.1.29 Precedence: list List-Id: automatic DPDK test reports List-Unsubscribe: , List-Archive: List-Post: List-Help: List-Subscribe: , Errors-To: test-report-bounces@dpdk.org Test-Label: iol-abi-testing Test-Status: SUCCESS http://dpdk.org/patch/154913 _Testing PASS_ Submitter: Thomas Monjalon Date: Tuesday, July 01 2025 13:15:24 DPDK git baseline: Repo:dpdk Branch: master CommitID:20460dcffd08a4680f881c39916ae783ee830374 154913 --> testing pass Upstream job id: Generic-DPDK-Compile-ABI#132628 Test environment and result as below: +-------------------------------+----------+ | Environment | abi_test | +===============================+==========+ | CentOS Stream 9 | PASS | +-------------------------------+----------+ | CentOS Stream 10 | PASS | +-------------------------------+----------+ | Debian GNU/Linux 12 | PASS | +-------------------------------+----------+ | Fedora Linux 40 | PASS | +-------------------------------+----------+ | Fedora Linux 41 | PASS | +-------------------------------+----------+ | openSUSE Leap 15.6 | PASS | +-------------------------------+----------+ | Red Hat Enterprise Linux 8.10 | PASS | +-------------------------------+----------+ | Red Hat Enterprise Linux 9.5 | PASS | +-------------------------------+----------+ | Ubuntu 22.04 | PASS | +-------------------------------+----------+ | Ubuntu 24.04 | PASS | +-------------------------------+----------+ CentOS Stream 9 Kernel: 5.15 Compiler: gcc gcc (GCC) 11.5.0 20240719 (Red Hat 11.5.0-7) CentOS Stream 10 Kernel: 5.15 Compiler: gcc gcc (GCC) 14.2.1 20250110 (Red Hat 14.2.1-8) Debian GNU/Linux 12 Kernel: 5.15 Compiler: gcc gcc (Debian 12.2.0-14+deb12u1) 12.2.0 Fedora Linux 40 Kernel: 5.15 Compiler: clang gcc (GCC) 14.2.1 20240912 (Red Hat 14.2.1-3) Fedora Linux 41 Kernel: 5.15 Compiler: clang gcc (GCC) 14.3.1 20250523 (Red Hat 14.3.1-1) openSUSE Leap 15.6 Kernel: 5.15 Compiler: gcc gcc (SUSE Linux) 7.5.0 Red Hat Enterprise Linux 8.10 Kernel: 5.15 Compiler: gcc gcc (GCC) 8.5.0 20210514 (Red Hat 8.5.0-22) Red Hat Enterprise Linux 9.5 Kernel: 5.15 Compiler: gcc gcc (GCC) 11.5.0 20240719 (Red Hat 11.5.0-2) Ubuntu 22.04 Kernel: 5.15 Compiler: gcc gcc (Ubuntu 11.4.0-1ubuntu1~22.04) 11.4.0 Ubuntu 24.04 Kernel: 5.15 Compiler: gcc gcc (Ubuntu 13.3.0-6ubuntu2~24.04) 13.3.0 To view detailed results, visit: https://lab.dpdk.org/results/dashboard/patchsets/33556/ UNH-IOL DPDK Community Lab To manage your email subscriptions, visit: https://lab.dpdk.org/results/dashboard/preferences/subscriptions/