From mboxrd@z Thu Jan 1 00:00:00 1970 Return-Path: Received: from mails.dpdk.org (mails.dpdk.org [217.70.189.124]) by inbox.dpdk.org (Postfix) with ESMTP id 31EE646ABB for ; Wed, 2 Jul 2025 00:41:52 +0200 (CEST) Received: from mails.dpdk.org (localhost [127.0.0.1]) by mails.dpdk.org (Postfix) with ESMTP id 2BF4D40298; Wed, 2 Jul 2025 00:41:52 +0200 (CEST) Received: from mail-oa1-f97.google.com (mail-oa1-f97.google.com [209.85.160.97]) by mails.dpdk.org (Postfix) with ESMTP id 29FD9402BD for ; Wed, 2 Jul 2025 00:41:51 +0200 (CEST) Received: by mail-oa1-f97.google.com with SMTP id 586e51a60fabf-2eff5d1c7efso2398669fac.2 for ; Tue, 01 Jul 2025 15:41:51 -0700 (PDT) DKIM-Signature: v=1; a=rsa-sha256; c=relaxed/relaxed; d=iol.unh.edu; s=unh-iol; t=1751409710; x=1752014510; darn=dpdk.org; h=references:in-reply-to:cc:to:from:subject:message-id:date:from:to :cc:subject:date:message-id:reply-to; bh=KrfqLM0hSoDWgqVlsL9gjArJW+bLaks5WL4p8HM0G20=; b=SefxUhHht3XwRLWKAjeeNlc7w1R+RpGy0uZT5Ep47rGlg5ZbZcdUYPLJsuEr8ddK0z KwCj28UjrOhNkdr/8GcuCmj/PblO2Dj/2tS6s0Gaqu2v9qQ3jYGjLDdlFpbmRVuCDS5P fzfYnw3p8jnReRpd+upYrMsQ0tDNIzzVGaaMI= X-Google-DKIM-Signature: v=1; a=rsa-sha256; c=relaxed/relaxed; d=1e100.net; s=20230601; t=1751409710; x=1752014510; h=references:in-reply-to:cc:to:from:subject:message-id:date :x-gm-message-state:from:to:cc:subject:date:message-id:reply-to; bh=KrfqLM0hSoDWgqVlsL9gjArJW+bLaks5WL4p8HM0G20=; b=vtLx+1HCqvWmP5Ls/5H9chM+opcxhG7HGLroveDo1OsVXWMs1iURR86PBPmJecVs2u 1Sz0lnMqbEgz42rbfkCF8ip0BXSDdJVml6atHjpgswTLFENFP98hyqdD3YZhayM3sf8L L8LTjGe9GOwz3gHwEssNMG0Dx8JgqCEDf9BJHg8uv0WGtYjq9oxxShe6OEb9ukXHGZ4B 00EdBZWjd3lA9SQjL9O1UYR0yOPieToVfkyfWToOFyMFgFqePQxhIowIiedj3NplgLFH gcNryxF2LsuMdUax3dZySGzNzBNLNVcC/eiETzhCcMVaXveWyOTXOwLZrUjWAR6lPd46 xlhA== X-Gm-Message-State: AOJu0YzZQ665LsVfqQE0knxslWBNL2TS4hXNM/8whLaQtklWS1EAeLeh 3dgCh3hzlJ2TOFL6xsnpj4WaLPJixw8H7sDIPdUA8l0xfRi1hxCLKEqVR01KW1Le7ixGv6N5+dI Ecfb8o5iUrJHGcE+HfOdRieiuz6MnwXn7yW+meoCsrS3w X-Gm-Gg: ASbGncsMp5nYNV4bMNXcCqmxDPBk4JVop9QFjnUu5bKiiykl0rB8srSeGOWyAfhoKW7 bk0VOl308ROpdqf5CcNdxqiw8E8DXwIjaNhp9OeI9OScCauj93Z9xX0dck+sBoLakawRs84HBSx ufg2Ptw6jM4ZWTQR/CRmZrb4aUjn3iquLX+IhMoxcSu+1zZId6fcMLAeEgaX/hXOlBM5gfCCLVS zVViAtM1olYZsxGaqvOOyRqDBUBw0wqSaR7eLQE8dUSP+wvYfdTlNOjVu4qQ2FWK98Wv7LJPrkr lOXW/sF+gBA1RIVr1t7U4ex6APqwyDFPRr2oGpY4Jo3I5cdX06vzRX94sAON5zYTkFOipQ== X-Google-Smtp-Source: AGHT+IGNf4H3n6D7p9GP1a/wtFpByeWHsSgP+ali0mPgeZwB4MEex0UG2yY1ACCJ9tq1M57FqNhITpBOtpdy X-Received: by 2002:a05:6870:cd8b:b0:296:bbc8:4a82 with SMTP id 586e51a60fabf-2f5a8d228b7mr463391fac.27.1751409710415; Tue, 01 Jul 2025 15:41:50 -0700 (PDT) Received: from postal.iol.unh.edu (postal.iol.unh.edu. [132.177.123.84]) by smtp-relay.gmail.com with ESMTPS id 586e51a60fabf-2efd4dc961dsm742259fac.13.2025.07.01.15.41.50 (version=TLS1_2 cipher=ECDHE-ECDSA-AES128-GCM-SHA256 bits=128/128); Tue, 01 Jul 2025 15:41:50 -0700 (PDT) X-Relaying-Domain: iol.unh.edu Date: Tue, 01 Jul 2025 15:41:50 -0700 (PDT) Message-ID: <6864642e.050a0220.1ceb28.82a8SMTPIN_ADDED_MISSING@mx.google.com> Received: from [172.21.0.6] (unknown [172.18.0.240]) by postal.iol.unh.edu (Postfix) with ESMTP id 14CC06051830; Tue, 1 Jul 2025 18:41:50 -0400 (EDT) Subject: |SUCCESS| pw154881-154886 [PATCH] [v7,6/6] net/dpaa2: enable softwar From: dpdklab@iol.unh.edu To: Test Report Cc: dpdk-test-reports@iol.unh.edu In-Reply-To: <20250701042917.3000355-7-g.singh@nxp.com> References: <20250701042917.3000355-7-g.singh@nxp.com> Content-Type: text/plain X-BeenThere: test-report@dpdk.org X-Mailman-Version: 2.1.29 Precedence: list List-Id: automatic DPDK test reports List-Unsubscribe: , List-Archive: List-Post: List-Help: List-Subscribe: , Errors-To: test-report-bounces@dpdk.org Test-Label: iol-compile-arm64-testing Test-Status: SUCCESS http://dpdk.org/patch/154886 _Testing PASS_ Submitter: Gagandeep Singh Date: Tuesday, July 01 2025 04:29:17 DPDK git baseline: Repo:dpdk Branch: master CommitID:77864da82f25a9e1e43c14b2cba68c2049a3ee3e 154881-154886 --> testing pass Upstream job id: Generic-DPDK-Compile-Meson#404288 Test environment and result as below: +------------------------------+--------------------+ | Environment | dpdk_meson_compile | +==============================+====================+ | Red Hat Enterprise Linux 9.5 | PASS | +------------------------------+--------------------+ | Ubuntu 20.04 | PASS | +------------------------------+--------------------+ | Debian GNU/Linux 12 | PASS | +------------------------------+--------------------+ | Fedora Linux 40 | PASS | +------------------------------+--------------------+ | Fedora Linux 41 | PASS | +------------------------------+--------------------+ | Ubuntu 22.04 | PASS | +------------------------------+--------------------+ | Ubuntu 24.04 | PASS | +------------------------------+--------------------+ | CentOS Stream 9 | PASS | +------------------------------+--------------------+ | CentOS Stream 10 | PASS | +------------------------------+--------------------+ Red Hat Enterprise Linux 9.5 Kernel: 5.4 Compiler: gcc gcc (GCC) 11.5.0 20240719 (Red Hat 11.5.0-2) Ubuntu 20.04 Kernel: 5.15 Compiler: aarch64-linux-gnu-gcc gcc (Ubuntu 9.4.0-1ubuntu1~20.04.2) 9.4.0 Debian GNU/Linux 12 Kernel: 5.4 Compiler: gcc gcc (Debian 12.2.0-14+deb12u1) 12.2.0 Fedora Linux 40 Kernel: 5.4 Compiler: gcc gcc (GCC) 14.2.1 20240912 (Red Hat 14.2.1-3) Fedora Linux 41 Kernel: 5.4 Compiler: clang gcc (GCC) 14.3.1 20250523 (Red Hat 14.3.1-1) Ubuntu 22.04 Kernel: 5.4 Compiler: gcc gcc (Ubuntu 11.4.0-1ubuntu1~22.04) 11.4.0 Ubuntu 24.04 Kernel: 5.4 Compiler: gcc gcc (Ubuntu 13.3.0-6ubuntu2~24.04) 13.3.0 CentOS Stream 9 Kernel: 5.4 Compiler: gcc gcc (GCC) 11.5.0 20240719 (Red Hat 11.5.0-7) CentOS Stream 10 Kernel: 5.4 Compiler: gcc gcc (GCC) 14.2.1 20250110 (Red Hat 14.2.1-8) To view detailed results, visit: https://lab.dpdk.org/results/dashboard/patchsets/33549/ UNH-IOL DPDK Community Lab To manage your email subscriptions, visit: https://lab.dpdk.org/results/dashboard/preferences/subscriptions/