From mboxrd@z Thu Jan 1 00:00:00 1970 Return-Path: Received: from mails.dpdk.org (mails.dpdk.org [217.70.189.124]) by inbox.dpdk.org (Postfix) with ESMTP id 559DB46ABB for ; Wed, 2 Jul 2025 00:42:04 +0200 (CEST) Received: from mails.dpdk.org (localhost [127.0.0.1]) by mails.dpdk.org (Postfix) with ESMTP id 3DEB840298; Wed, 2 Jul 2025 00:42:04 +0200 (CEST) Received: from mail-vk1-f226.google.com (mail-vk1-f226.google.com [209.85.221.226]) by mails.dpdk.org (Postfix) with ESMTP id 8112440298 for ; Wed, 2 Jul 2025 00:42:03 +0200 (CEST) Received: by mail-vk1-f226.google.com with SMTP id 71dfb90a1353d-5313eff2649so1322656e0c.0 for ; Tue, 01 Jul 2025 15:42:03 -0700 (PDT) DKIM-Signature: v=1; a=rsa-sha256; c=relaxed/relaxed; d=iol.unh.edu; s=unh-iol; t=1751409723; x=1752014523; darn=dpdk.org; h=references:in-reply-to:cc:to:from:subject:message-id:date:from:to :cc:subject:date:message-id:reply-to; bh=KzuYcqQ2w5r8Iyh1dnR+Nr2FHXRjW30oPKt9mAcT4IA=; b=abxnWmv38Ap88CnGCzjHKGQCFr8tpKs4vUHlnMUYpjEobB+s/1SS4U9k8ByJcdVn53 G0wrMsiDHBDBOURO2kAYwdi4Vw1oVlsVbO6ZUxNT9w5sJGw7m2385hI7SfzMryUdYeP6 omPpepX4gIDMAPKqdFOVIFqxEh5nB+rqTpchM= X-Google-DKIM-Signature: v=1; a=rsa-sha256; c=relaxed/relaxed; d=1e100.net; s=20230601; t=1751409723; x=1752014523; h=references:in-reply-to:cc:to:from:subject:message-id:date :x-gm-message-state:from:to:cc:subject:date:message-id:reply-to; bh=KzuYcqQ2w5r8Iyh1dnR+Nr2FHXRjW30oPKt9mAcT4IA=; b=SsXDOIa0gS/9U9kVbHh0dHvdoyLdCEEG3dc3r3IT317KMnVOfQk9fDKnet6EnueIgB XK9Zr/4g4S25ALsvi0+7bigsN7ifX78ZZu21dytzl4MKYSav3Bkqu4dGT/R3gnsGXnkh 7WJQ6EvbvH3A75hNeXhW7VU/vGTz4rKSwoEryLsdq8TORJ319U8bxDCshatO12vPTAtM dZIrHtFsOvgCZXdZ4Y2FswdMuC+LT7q+00yzikBTfDACKWy15srPMe9eCXJ/ZhU0rlt9 yal3Pu+wG4ikZSOnAXutwc8MlHlSO2czzcO5kRgU4zUoyDN/fjMrxREEogHtCLxKvoD/ FuqA== X-Gm-Message-State: AOJu0YwhRTHK1pYxclb0jyxiOk+bADFFyScs5K/p3+0q48nrTHuUu7Kc 2I1fK80dGGyM1QM08uYFknuKT8C/U5hPQB3AQj8L5udUEQm4LXT4bOHvC1FzWIf2/cyRASDYvHr vrKxY1Y12Od6he0HFsircFLVJLARiTnPeF9zWaVcJHhgezkVtid/4A9Oe16tv X-Gm-Gg: ASbGncts5CpA9EGX4iUYs6AvA99VPsXkxGPxkioLNV+fO3h70RdS/y1qgXpaq43JGRx fl2pVm2shUcKf227lsNzkqIGULaPml7D++OerBEJLOs/IiJUFBPikSMhcRM1vTdz4GzkV2UVJ5T ntOl76YJVMJtrNHKzLUj3PYcynoOFnaiqxPwSxZfu7tqqb3+EwXNsPh2aMxCvesfEj4UdZYg1wF 34jkMb7cQ78wsRKC6N0vCUVSg9whWH4BnD8ST8XvoTu3GD6KlIheBdke3Uq7flpU9fkYVToPKPq xtaggDPRRissQiEr/fL8eKUys4QJwX57YfCWT8+lbHv8gss= X-Google-Smtp-Source: AGHT+IGoS+LnpKfYdrmIGPuI+Ny64kQkv6+kqpTLtgRaANm9mn36FpMkEdMepAO/yF/y2Me6PAUgV7LiUCdk X-Received: by 2002:a05:6122:3487:b0:520:6773:e5ea with SMTP id 71dfb90a1353d-5345837dbf4mr824803e0c.7.1751409722898; Tue, 01 Jul 2025 15:42:02 -0700 (PDT) Received: from postal.iol.unh.edu (postal.iol.unh.edu. [2606:4100:3880:1234::84]) by smtp-relay.gmail.com with ESMTPS id 71dfb90a1353d-533091e1551sm762973e0c.7.2025.07.01.15.42.02 (version=TLS1_2 cipher=ECDHE-ECDSA-AES128-GCM-SHA256 bits=128/128); Tue, 01 Jul 2025 15:42:02 -0700 (PDT) X-Relaying-Domain: iol.unh.edu Date: Tue, 01 Jul 2025 15:42:02 -0700 (PDT) Message-ID: <6864643a.050a0220.270aad.9be3SMTPIN_ADDED_MISSING@mx.google.com> Received: from [172.21.0.8] (unknown [172.18.0.240]) by postal.iol.unh.edu (Postfix) with ESMTP id 906556051830; Tue, 1 Jul 2025 18:42:02 -0400 (EDT) Subject: |SUCCESS| pw154913 [PATCH] test/event: disable vector adapter test From: dpdklab@iol.unh.edu To: Test Report Cc: dpdk-test-reports@iol.unh.edu In-Reply-To: <20250701131524.2493132-1-thomas@monjalon.net> References: <20250701131524.2493132-1-thomas@monjalon.net> Content-Type: text/plain X-BeenThere: test-report@dpdk.org X-Mailman-Version: 2.1.29 Precedence: list List-Id: automatic DPDK test reports List-Unsubscribe: , List-Archive: List-Post: List-Help: List-Subscribe: , Errors-To: test-report-bounces@dpdk.org Test-Label: iol-abi-testing Test-Status: SUCCESS http://dpdk.org/patch/154913 _Testing PASS_ Submitter: Thomas Monjalon Date: Tuesday, July 01 2025 13:15:24 DPDK git baseline: Repo:dpdk Branch: master CommitID:20460dcffd08a4680f881c39916ae783ee830374 154913 --> testing pass Upstream job id: Generic-DPDK-Compile-ABI#132625 Test environment and result as below: +-------------------------------+----------+ | Environment | abi_test | +===============================+==========+ | CentOS Stream 9 | PASS | +-------------------------------+----------+ | CentOS Stream 10 | PASS | +-------------------------------+----------+ | Debian GNU/Linux 12 | PASS | +-------------------------------+----------+ | Fedora Linux 40 | PASS | +-------------------------------+----------+ | Fedora Linux 41 | PASS | +-------------------------------+----------+ | openSUSE Leap 15.6 | PASS | +-------------------------------+----------+ | Red Hat Enterprise Linux 8.10 | PASS | +-------------------------------+----------+ | Red Hat Enterprise Linux 9.5 | PASS | +-------------------------------+----------+ | Ubuntu 22.04 | PASS | +-------------------------------+----------+ | Ubuntu 24.04 | PASS | +-------------------------------+----------+ CentOS Stream 9 Kernel: 5.15 Compiler: gcc gcc (GCC) 11.5.0 20240719 (Red Hat 11.5.0-7) CentOS Stream 10 Kernel: 5.15 Compiler: gcc gcc (GCC) 14.2.1 20250110 (Red Hat 14.2.1-8) Debian GNU/Linux 12 Kernel: 5.15 Compiler: gcc gcc (Debian 12.2.0-14+deb12u1) 12.2.0 Fedora Linux 40 Kernel: 5.15 Compiler: clang gcc (GCC) 14.2.1 20240912 (Red Hat 14.2.1-3) Fedora Linux 41 Kernel: 5.15 Compiler: clang gcc (GCC) 14.3.1 20250523 (Red Hat 14.3.1-1) openSUSE Leap 15.6 Kernel: 5.15 Compiler: gcc gcc (SUSE Linux) 7.5.0 Red Hat Enterprise Linux 8.10 Kernel: 5.15 Compiler: gcc gcc (GCC) 8.5.0 20210514 (Red Hat 8.5.0-22) Red Hat Enterprise Linux 9.5 Kernel: 5.15 Compiler: gcc gcc (GCC) 11.5.0 20240719 (Red Hat 11.5.0-2) Ubuntu 22.04 Kernel: 5.15 Compiler: gcc gcc (Ubuntu 11.4.0-1ubuntu1~22.04) 11.4.0 Ubuntu 24.04 Kernel: 5.15 Compiler: gcc gcc (Ubuntu 13.3.0-6ubuntu2~24.04) 13.3.0 To view detailed results, visit: https://lab.dpdk.org/results/dashboard/patchsets/33556/ UNH-IOL DPDK Community Lab To manage your email subscriptions, visit: https://lab.dpdk.org/results/dashboard/preferences/subscriptions/