From mboxrd@z Thu Jan 1 00:00:00 1970 Return-Path: Received: from mails.dpdk.org (mails.dpdk.org [217.70.189.124]) by inbox.dpdk.org (Postfix) with ESMTP id CADF446ABD for ; Wed, 2 Jul 2025 01:07:01 +0200 (CEST) Received: from mails.dpdk.org (localhost [127.0.0.1]) by mails.dpdk.org (Postfix) with ESMTP id A3A4940298; Wed, 2 Jul 2025 01:07:01 +0200 (CEST) Received: from mail-pl1-f227.google.com (mail-pl1-f227.google.com [209.85.214.227]) by mails.dpdk.org (Postfix) with ESMTP id 6C42240298 for ; Wed, 2 Jul 2025 01:07:00 +0200 (CEST) Received: by mail-pl1-f227.google.com with SMTP id d9443c01a7336-23694cec0feso61916265ad.2 for ; Tue, 01 Jul 2025 16:07:00 -0700 (PDT) DKIM-Signature: v=1; a=rsa-sha256; c=relaxed/relaxed; d=iol.unh.edu; s=unh-iol; t=1751411219; x=1752016019; darn=dpdk.org; h=references:in-reply-to:cc:to:from:subject:message-id:date:from:to :cc:subject:date:message-id:reply-to; bh=peKf89L6p3M9hZmpv6nMmsIouFWPuuS2YoqlwFSxxtI=; b=NaaFKFxIDelfqgatBtYk5Jyoc7/drzyLGfbvTWWTZ+LrZ2P8NXTM9WjHyRLOawE3hv aJ2vt0kCxgl5Se0wumLywJQSjpDOEovJYGFgMe1+8H91LZaaXxAh9HytyLntfHJtpJz9 jvMlCHAuW551H1sa2RfHSLU/UcAJViBQXO5Qw= X-Google-DKIM-Signature: v=1; a=rsa-sha256; c=relaxed/relaxed; d=1e100.net; s=20230601; t=1751411219; x=1752016019; h=references:in-reply-to:cc:to:from:subject:message-id:date :x-gm-message-state:from:to:cc:subject:date:message-id:reply-to; bh=peKf89L6p3M9hZmpv6nMmsIouFWPuuS2YoqlwFSxxtI=; b=EeOpGWDrhzLC7iXz3RH1bQAxy1HaguroMytNRpgkOXPwAd17z8MezeuiX93dSpQW+M dSNDjJzN2UR9vmIsfszZcEJvhoBhlqRjTO5aWoMkl2lu2hOwBqCAP5a5o+nLpcbmsngM IJQbYLgwT0SEVNvxs/DlNweKKvH/tx2NmbxfGTeFMyhctuKG9GI7gecY+lukXAsWQUp1 Aq/jRgslkOvI12GO6/zf1GE7I/Q9R44h8dgocX4qe+sNRzyaHPm3EOVDRnlo9IoYH90t eeqIlbwSaT+UbgX0iQNFf/0EJ3pQNt5hTqp59WlgPwAK+22bZM0GDO16zBwXWRYNVEsF CFRw== X-Gm-Message-State: AOJu0YxZXruY94pMg3TH1LZok95d5RMAzykTIuJBXM+cmiyVFSbj8WPV NfhVl8ycAT01LWoCi1wahFndufib1Q+gPrWIBQa6r4f5dsDTqW4PfYC3JvqUHBVPCNBc2RzR/MU O90LZ5wSXt6A7fEnptgzVLRDGFxq5xpq4gRhYEMTRjCdg X-Gm-Gg: ASbGncuC7j9NhhppR8wNdzNcFrnzG52MjQpQqPnwjcyA8rEKh53aZrbt8wejFC1oRmb w/WHQ+pCc8B7k71ZbKtjM09Dm2krJcn00PMRhR6WeTtLlW6d/m7jyN3i3BfywCxk+Laap4NDZyD s/l+nHIHY50TpZduH++txL9ynjZCFAB1ahktYrHfmDQNjX59WGhB67Vtj1tervkPoUPyBrcRve5 oUVV6yaYM0IAr/LFHUnMSgLJw9GaIqzz6Pc7oRIZbxG4QG5lLaDHtvq01ELALCvX7Z4cWV8a9wb y8IGHJszliPDfpiioxAUXK5OW+J7XoHHIpOZ8q6hJ2/p4sAD2CLGG7l2Z+wBVKFy/W6bqw== X-Google-Smtp-Source: AGHT+IH3BCGC2Cvib8jiINzudmr6IBWBvjqClwSW/O5IEGKNrVP5Es9DqBYh6wB0FNspyy15O3ViMLKuU6po X-Received: by 2002:a17:903:2acc:b0:234:986c:66bf with SMTP id d9443c01a7336-23c6e4d3049mr5655995ad.11.1751411219580; Tue, 01 Jul 2025 16:06:59 -0700 (PDT) Received: from postal.iol.unh.edu (postal.iol.unh.edu. [132.177.123.84]) by smtp-relay.gmail.com with ESMTPS id d9443c01a7336-23acb2e1a5csm6042055ad.9.2025.07.01.16.06.59 (version=TLS1_2 cipher=ECDHE-ECDSA-AES128-GCM-SHA256 bits=128/128); Tue, 01 Jul 2025 16:06:59 -0700 (PDT) X-Relaying-Domain: iol.unh.edu Date: Tue, 01 Jul 2025 16:06:59 -0700 (PDT) Message-ID: <68646a13.170a0220.18f2ff.27f0SMTPIN_ADDED_MISSING@mx.google.com> Received: from [172.21.0.5] (unknown [172.18.0.240]) by postal.iol.unh.edu (Postfix) with ESMTP id C16EE6051830; Tue, 1 Jul 2025 19:06:58 -0400 (EDT) Subject: |SUCCESS| pw154915-154919 [PATCH] [5/5] riscv: override machine_args From: dpdklab@iol.unh.edu To: Test Report Cc: dpdk-test-reports@iol.unh.edu In-Reply-To: References: Content-Type: text/plain X-BeenThere: test-report@dpdk.org X-Mailman-Version: 2.1.29 Precedence: list List-Id: automatic DPDK test reports List-Unsubscribe: , List-Archive: List-Post: List-Help: List-Subscribe: , Errors-To: test-report-bounces@dpdk.org Test-Label: iol-unit-amd64-testing Test-Status: SUCCESS http://dpdk.org/patch/154919 _Testing PASS_ Submitter: None Date: Tuesday, July 01 2025 16:13:42 DPDK git baseline: Repo:dpdk Branch: master CommitID:0eb86b4533d40bcd703972421b9a201c02f37f8a 154915-154919 --> testing pass Upstream job id: Generic-VM-Unit-Test-DPDK#29637 Test environment and result as below: +-------------------------------+----------------+ | Environment | dpdk_unit_test | +===============================+================+ | CentOS Stream 10 | PASS | +-------------------------------+----------------+ | CentOS Stream 9 | PASS | +-------------------------------+----------------+ | Debian GNU/Linux 12 | PASS | +-------------------------------+----------------+ | Fedora Linux 40 | PASS | +-------------------------------+----------------+ | Fedora Linux 41 | PASS | +-------------------------------+----------------+ | Red Hat Enterprise Linux 8.10 | PASS | +-------------------------------+----------------+ | Red Hat Enterprise Linux 9.5 | PASS | +-------------------------------+----------------+ | Ubuntu 22.04 | PASS | +-------------------------------+----------------+ | Ubuntu 20.04 | PASS | +-------------------------------+----------------+ | Ubuntu 24.04 | PASS | +-------------------------------+----------------+ | Windows Server 2022 | PASS | +-------------------------------+----------------+ CentOS Stream 10 Kernel: 5.15 Compiler: gcc gcc (GCC) 14.2.1 20250110 (Red Hat 14.2.1-8) CentOS Stream 9 Kernel: 5.15 Compiler: gcc gcc (GCC) 11.5.0 20240719 (Red Hat 11.5.0-7) Debian GNU/Linux 12 Kernel: 5.15 Compiler: gcc gcc (Debian 12.2.0-14+deb12u1) 12.2.0 Fedora Linux 40 Kernel: 5.15 Compiler: gcc gcc (GCC) 14.2.1 20240912 (Red Hat 14.2.1-3) Fedora Linux 41 Kernel: 5.15 Compiler: gcc gcc (GCC) 14.3.1 20250523 (Red Hat 14.3.1-1) Red Hat Enterprise Linux 8.10 Kernel: 5.15 Compiler: gcc gcc (GCC) 8.5.0 20210514 (Red Hat 8.5.0-22) Red Hat Enterprise Linux 9.5 Kernel: 5.15 Compiler: gcc gcc (GCC) 11.5.0 20240719 (Red Hat 11.5.0-2) Ubuntu 22.04 Kernel: 5.15 Compiler: gcc gcc (Ubuntu 11.4.0-1ubuntu1~22.04) 11.4.0 Ubuntu 20.04 Kernel: 5.15 Compiler: gcc gcc (Ubuntu 9.4.0-1ubuntu1~20.04.2) 9.4.0 Ubuntu 24.04 Kernel: 5.15 Compiler: gcc gcc (Ubuntu 13.3.0-6ubuntu2~24.04) 13.3.0 Windows Server 2022 Kernel: 10.0.20348.2031 Compiler: clang 15.0.7, gcc 14.1.0 (MinGW), and MSVC VS 19.39.33521 To view detailed results, visit: https://lab.dpdk.org/results/dashboard/patchsets/33558/ UNH-IOL DPDK Community Lab To manage your email subscriptions, visit: https://lab.dpdk.org/results/dashboard/preferences/subscriptions/