From mboxrd@z Thu Jan 1 00:00:00 1970 Return-Path: Received: from mails.dpdk.org (mails.dpdk.org [217.70.189.124]) by inbox.dpdk.org (Postfix) with ESMTP id 8422C46A9E for ; Wed, 2 Jul 2025 01:47:21 +0200 (CEST) Received: from mails.dpdk.org (localhost [127.0.0.1]) by mails.dpdk.org (Postfix) with ESMTP id 6BE3A40264; Wed, 2 Jul 2025 01:47:21 +0200 (CEST) Received: from mail-oi1-f227.google.com (mail-oi1-f227.google.com [209.85.167.227]) by mails.dpdk.org (Postfix) with ESMTP id ED54E40264 for ; Wed, 2 Jul 2025 01:47:19 +0200 (CEST) Received: by mail-oi1-f227.google.com with SMTP id 5614622812f47-401c43671ecso3082139b6e.0 for ; Tue, 01 Jul 2025 16:47:19 -0700 (PDT) DKIM-Signature: v=1; a=rsa-sha256; c=relaxed/relaxed; d=iol.unh.edu; s=unh-iol; t=1751413639; x=1752018439; darn=dpdk.org; h=references:in-reply-to:cc:to:from:subject:message-id:date:from:to :cc:subject:date:message-id:reply-to; bh=x4sTau0d/oQ8YTBQXMVtCz6XTZJjlrMTjeSBmC+mjYk=; b=Jc/O9gv0uI9PCikz0YxOh0/IlqRllunG3FVVKkS2Ff0mnAWSj51DFFj4R1ZFGXYqdg Oj9+bZe3Xse9I/Eq1o0MaX4G4VVeEoNQHE9xHmq4omWvPG+DMkBPOWnggBcXeyszkJY/ DI7N93Gvnq9v3xfpDp2fqIY/xFrmm+pyQLGWo= X-Google-DKIM-Signature: v=1; a=rsa-sha256; c=relaxed/relaxed; d=1e100.net; s=20230601; t=1751413639; x=1752018439; h=references:in-reply-to:cc:to:from:subject:message-id:date :x-gm-message-state:from:to:cc:subject:date:message-id:reply-to; bh=x4sTau0d/oQ8YTBQXMVtCz6XTZJjlrMTjeSBmC+mjYk=; b=wPmXMiFERIK9MDC3ydkWOcF3WVUJuU0EXcDQq92cxooVmYPF6gZ1VEMHAlAJYFZE7V W5D9JCaINL386POEtMGeAghAlwWPlswpiIIPrWDKO32qxPRpCBZhC+8FaW7nlVyIuAeb AK8VoJ2Lof1WXu3c6XssrZ/rFSbYf86m1oVYRylweRSD6F6Lqj567dGhKZqsDrfYKm7t S4O6RQJGe6YZjCGtSPYA3lSCOu27wf0bcbqyIdcX7jn3Rbd3RmlBROc69X8bfqehk1Z/ KarqGuh/xrbWko0riGYbwCSYM4a9ErE6sUklFYA7RUr3aNG9Zkb1+HvOe0xGkWWKSbEk qPuA== X-Gm-Message-State: AOJu0Yw8SnEz5D2GGs8XQDZEAqtxANlpLgP6SG+929xuN8FpbhdyiyNx 7GnN3IlaYrBxyew44pyDcdyYdH7Auwn+vckxnbpkFdmTLTzJBGxJA+1mmMEUJuK9eWzIyillcyG 5xawnAV8pNBDoHabzzf4Akg12AE45EHSz77H9o4p25YFD X-Gm-Gg: ASbGncs72K618v2EVAm/RCO4lhaMCPt/lDju3HYHXb2OMccxfpmjrTlyI+x7PRcpXoC 4bOq+ok5nqxM1Fmp5ZWX40cj13TBkWVABbHdf5IVZPYrR6D3kHfM8mSADA25B05S6y7eaMxy9FJ C3g+8oiR1PYghEWl5eWKAFhffr2WqRvm462yOogbwOINkKnIN8yhq7kn/PxW4sc5uDmNac4/T0H z4xrXZmAXOgVGl7lnxfB1CI74DLlZ3wnpvKu4qzn7rLxOnBFX0W+x2wZvp2F3OcSAd+E17vXbrr tV322BgWmc7eo/LroiGh0ehYnQBjCuOP650ZOb3y0OYrTySyMls1LiBnilK9Ir/i/WL1jA== X-Google-Smtp-Source: AGHT+IEvn6IdugZ9EnNpPbi6QBUVRIEUnGRKw4ayywx1yKkg5/E4cQfPFAaPtSs7AUtlMNVYeVrir62Iqe3l X-Received: by 2002:a05:6808:1692:b0:3f8:bbf3:3a18 with SMTP id 5614622812f47-40b8a7cb89fmr386094b6e.16.1751413639202; Tue, 01 Jul 2025 16:47:19 -0700 (PDT) Received: from postal.iol.unh.edu (postal.iol.unh.edu. [132.177.123.84]) by smtp-relay.gmail.com with ESMTPS id 586e51a60fabf-2efd5048878sm728594fac.40.2025.07.01.16.47.19 (version=TLS1_2 cipher=ECDHE-ECDSA-AES128-GCM-SHA256 bits=128/128); Tue, 01 Jul 2025 16:47:19 -0700 (PDT) X-Relaying-Domain: iol.unh.edu Date: Tue, 01 Jul 2025 16:47:19 -0700 (PDT) Message-ID: <68647387.050a0220.1b430c.70a0SMTPIN_ADDED_MISSING@mx.google.com> Received: from [172.21.0.6] (unknown [172.18.0.240]) by postal.iol.unh.edu (Postfix) with ESMTP id AAF926051830; Tue, 1 Jul 2025 19:47:18 -0400 (EDT) Subject: |SUCCESS| pw154915-154919 [PATCH] [5/5] riscv: override machine_args From: dpdklab@iol.unh.edu To: Test Report Cc: dpdk-test-reports@iol.unh.edu In-Reply-To: References: Content-Type: text/plain X-BeenThere: test-report@dpdk.org X-Mailman-Version: 2.1.29 Precedence: list List-Id: automatic DPDK test reports List-Unsubscribe: , List-Archive: List-Post: List-Help: List-Subscribe: , Errors-To: test-report-bounces@dpdk.org Test-Label: iol-abi-testing Test-Status: SUCCESS http://dpdk.org/patch/154919 _Testing PASS_ Submitter: None Date: Tuesday, July 01 2025 16:13:42 DPDK git baseline: Repo:dpdk Branch: master CommitID:0eb86b4533d40bcd703972421b9a201c02f37f8a 154915-154919 --> testing pass Upstream job id: Generic-DPDK-Compile-ABI#132645 Test environment and result as below: +-------------------------------+----------+ | Environment | abi_test | +===============================+==========+ | CentOS Stream 9 | PASS | +-------------------------------+----------+ | Debian GNU/Linux 12 | PASS | +-------------------------------+----------+ | CentOS Stream 10 | PASS | +-------------------------------+----------+ | Fedora Linux 40 | PASS | +-------------------------------+----------+ | Fedora Linux 41 | PASS | +-------------------------------+----------+ | openSUSE Leap 15.6 | PASS | +-------------------------------+----------+ | Ubuntu 22.04 | PASS | +-------------------------------+----------+ | Red Hat Enterprise Linux 9.5 | PASS | +-------------------------------+----------+ | Red Hat Enterprise Linux 8.10 | PASS | +-------------------------------+----------+ | Ubuntu 24.04 | PASS | +-------------------------------+----------+ CentOS Stream 9 Kernel: 5.15 Compiler: gcc gcc (GCC) 11.5.0 20240719 (Red Hat 11.5.0-7) Debian GNU/Linux 12 Kernel: 5.15 Compiler: gcc gcc (Debian 12.2.0-14+deb12u1) 12.2.0 CentOS Stream 10 Kernel: 5.15 Compiler: gcc gcc (GCC) 14.2.1 20250110 (Red Hat 14.2.1-8) Fedora Linux 40 Kernel: 5.15 Compiler: gcc gcc (GCC) 14.2.1 20240912 (Red Hat 14.2.1-3) Fedora Linux 41 Kernel: 5.15 Compiler: gcc gcc (GCC) 14.3.1 20250523 (Red Hat 14.3.1-1) openSUSE Leap 15.6 Kernel: 5.15 Compiler: gcc gcc (SUSE Linux) 7.5.0 Ubuntu 22.04 Kernel: 5.15 Compiler: gcc gcc (Ubuntu 11.4.0-1ubuntu1~22.04) 11.4.0 Red Hat Enterprise Linux 9.5 Kernel: 5.15 Compiler: gcc gcc (GCC) 11.5.0 20240719 (Red Hat 11.5.0-2) Red Hat Enterprise Linux 8.10 Kernel: 5.15 Compiler: gcc gcc (GCC) 8.5.0 20210514 (Red Hat 8.5.0-22) Ubuntu 24.04 Kernel: 5.15 Compiler: gcc gcc (Ubuntu 13.3.0-6ubuntu2~24.04) 13.3.0 To view detailed results, visit: https://lab.dpdk.org/results/dashboard/patchsets/33558/ UNH-IOL DPDK Community Lab To manage your email subscriptions, visit: https://lab.dpdk.org/results/dashboard/preferences/subscriptions/