From mboxrd@z Thu Jan 1 00:00:00 1970 Return-Path: Received: from mails.dpdk.org (mails.dpdk.org [217.70.189.124]) by inbox.dpdk.org (Postfix) with ESMTP id 8CBE646A9E for ; Wed, 2 Jul 2025 01:47:32 +0200 (CEST) Received: from mails.dpdk.org (localhost [127.0.0.1]) by mails.dpdk.org (Postfix) with ESMTP id 860D140264; Wed, 2 Jul 2025 01:47:32 +0200 (CEST) Received: from mail-io1-f97.google.com (mail-io1-f97.google.com [209.85.166.97]) by mails.dpdk.org (Postfix) with ESMTP id 1B57C40264 for ; Wed, 2 Jul 2025 01:47:31 +0200 (CEST) Received: by mail-io1-f97.google.com with SMTP id ca18e2360f4ac-86efcef9194so228086639f.0 for ; Tue, 01 Jul 2025 16:47:31 -0700 (PDT) DKIM-Signature: v=1; a=rsa-sha256; c=relaxed/relaxed; d=iol.unh.edu; s=unh-iol; t=1751413650; x=1752018450; darn=dpdk.org; h=references:in-reply-to:cc:to:from:subject:message-id:date:from:to :cc:subject:date:message-id:reply-to; bh=wktAUGfgjlOlUM7y9I+3JXB0K/zBsP3x44/54Wvi0ks=; b=bk36NMTpoIhi1Ra7PLEwXORMpJHnHuRMq25A2RC4fBevy2cKyv797GbK7mqIkKyB3H tcrRLLZTgU0yxC/P/ic5jjPrxeaZvv+aVNrkxNXDTEFhuWxdbS9LjjrKFg5EU5MGHaBa FL48az/Cj/AXV90GdK2/yM1osR9VughvaWGrw= X-Google-DKIM-Signature: v=1; a=rsa-sha256; c=relaxed/relaxed; d=1e100.net; s=20230601; t=1751413650; x=1752018450; h=references:in-reply-to:cc:to:from:subject:message-id:date :x-gm-message-state:from:to:cc:subject:date:message-id:reply-to; bh=wktAUGfgjlOlUM7y9I+3JXB0K/zBsP3x44/54Wvi0ks=; b=miu27aVq43/rORT7re/eeEPErwgRKsE8VuHLw8Jlap2oK2R1Od1jUfCw2K+hQ6Iahj LmfXTgAIKQIbH7ZDENeYWXqxL99HEqwYaa+9PX7jDLvmqhhPxW2hyqrCCzB/rurHouyi lnDsLK1G42duExwc8laUS9PolQYxQXOaaIAo1Uv0ZxgNcTXAvEhXoO7q9gkzt149g6/l 68+j+wwI4rI75T6BNjeH585m15j1YpceWyU4WPlXY+771z3O8ygVDiYrENzxTX3jCx7X +QWOPg60VIdOJTNp/suGUHWF/6JaUCaqv2Pp1Dla5wjZeudnCtggc0GQQNLi3zvTZwgW cZFA== X-Gm-Message-State: AOJu0YxA9sXF94caqACW9eU16d8+dmsRfYVnLIjNOOBog1VV7y6WCVLD MgNQXXYnAnh9IEcXkNLh7a7uzbRF9hBvdM+RuftnTIrXkVkB6GEREhL4f0hNU0rcZ8uEJ+i0sGL bpa6fwawZL705z1rYHRgEY6WZ8j9vdx9FTqwWGPBvizVi X-Gm-Gg: ASbGncsRmkRrG8m+7+WQXimi3iXPNG2lgihOvmyrJShrEw6Tx6vYiTdGhGANV1y/2Sg Imx48Pzc7zp2Bx5OaJAj8e2syb6w2FjoI+NUNsFZx8XORR2FI0f1PAygKhDanGtRa1IiuFTgl+3 czWPSApbdNb9+9PEbpjtAtO58CPJ5XtGN+8lh2N3PX9uy+rGb/fDaMbq5RpAWf6YB5qrKS4BpjN zbKKgrmk90Ry/dZfRjYTwYgRShxB72qGnq8k9BgCFwFPm+saRr5ztph2/FnppBOYJ31wg6mL75c 8ZHz12Zz9gkoPg5+WlBc/6ezpo0Mx7Fx+PKm4elGXeurYim0BnF+rBit/OALFHSVCG3vjQ== X-Google-Smtp-Source: AGHT+IHfTdUm7g+/D2H+hUc1DDyU1mfAe5OzuhhuG0Zc8qIMY4YxOWUAP+zd/2F1zsWQI9D0YRJGpJzRWyCO X-Received: by 2002:a05:6602:4815:b0:874:e108:8e3a with SMTP id ca18e2360f4ac-876c6a8ea5dmr144773239f.12.1751413650402; Tue, 01 Jul 2025 16:47:30 -0700 (PDT) Received: from postal.iol.unh.edu (postal.iol.unh.edu. [132.177.123.84]) by smtp-relay.gmail.com with ESMTPS id ca18e2360f4ac-87687af63a7sm45600839f.14.2025.07.01.16.47.30 (version=TLS1_2 cipher=ECDHE-ECDSA-AES128-GCM-SHA256 bits=128/128); Tue, 01 Jul 2025 16:47:30 -0700 (PDT) X-Relaying-Domain: iol.unh.edu Date: Tue, 01 Jul 2025 16:47:30 -0700 (PDT) Message-ID: <68647392.050a0220.26b52c.82f8SMTPIN_ADDED_MISSING@mx.google.com> Received: from [172.21.0.5] (unknown [172.18.0.240]) by postal.iol.unh.edu (Postfix) with ESMTP id E5D726051830; Tue, 1 Jul 2025 19:47:29 -0400 (EDT) Subject: |SUCCESS| pw154915-154919 [PATCH] [5/5] riscv: override machine_args From: dpdklab@iol.unh.edu To: Test Report Cc: dpdk-test-reports@iol.unh.edu In-Reply-To: References: Content-Type: text/plain X-BeenThere: test-report@dpdk.org X-Mailman-Version: 2.1.29 Precedence: list List-Id: automatic DPDK test reports List-Unsubscribe: , List-Archive: List-Post: List-Help: List-Subscribe: , Errors-To: test-report-bounces@dpdk.org Test-Label: iol-abi-testing Test-Status: SUCCESS http://dpdk.org/patch/154919 _Testing PASS_ Submitter: None Date: Tuesday, July 01 2025 16:13:42 DPDK git baseline: Repo:dpdk Branch: master CommitID:0eb86b4533d40bcd703972421b9a201c02f37f8a 154915-154919 --> testing pass Upstream job id: Generic-DPDK-Compile-ABI#132643 Test environment and result as below: +-------------------------------+----------+ | Environment | abi_test | +===============================+==========+ | CentOS Stream 9 | PASS | +-------------------------------+----------+ | Debian GNU/Linux 12 | PASS | +-------------------------------+----------+ | CentOS Stream 10 | PASS | +-------------------------------+----------+ | Fedora Linux 40 | PASS | +-------------------------------+----------+ | Fedora Linux 41 | PASS | +-------------------------------+----------+ | openSUSE Leap 15.6 | PASS | +-------------------------------+----------+ | Ubuntu 22.04 | PASS | +-------------------------------+----------+ | Red Hat Enterprise Linux 9.5 | PASS | +-------------------------------+----------+ | Red Hat Enterprise Linux 8.10 | PASS | +-------------------------------+----------+ | Ubuntu 24.04 | PASS | +-------------------------------+----------+ CentOS Stream 9 Kernel: 5.15 Compiler: gcc gcc (GCC) 11.5.0 20240719 (Red Hat 11.5.0-7) Debian GNU/Linux 12 Kernel: 5.15 Compiler: gcc gcc (Debian 12.2.0-14+deb12u1) 12.2.0 CentOS Stream 10 Kernel: 5.15 Compiler: gcc gcc (GCC) 14.2.1 20250110 (Red Hat 14.2.1-8) Fedora Linux 40 Kernel: 5.15 Compiler: gcc gcc (GCC) 14.2.1 20240912 (Red Hat 14.2.1-3) Fedora Linux 41 Kernel: 5.15 Compiler: gcc gcc (GCC) 14.3.1 20250523 (Red Hat 14.3.1-1) openSUSE Leap 15.6 Kernel: 5.15 Compiler: gcc gcc (SUSE Linux) 7.5.0 Ubuntu 22.04 Kernel: 5.15 Compiler: gcc gcc (Ubuntu 11.4.0-1ubuntu1~22.04) 11.4.0 Red Hat Enterprise Linux 9.5 Kernel: 5.15 Compiler: gcc gcc (GCC) 11.5.0 20240719 (Red Hat 11.5.0-2) Red Hat Enterprise Linux 8.10 Kernel: 5.15 Compiler: gcc gcc (GCC) 8.5.0 20210514 (Red Hat 8.5.0-22) Ubuntu 24.04 Kernel: 5.15 Compiler: gcc gcc (Ubuntu 13.3.0-6ubuntu2~24.04) 13.3.0 To view detailed results, visit: https://lab.dpdk.org/results/dashboard/patchsets/33558/ UNH-IOL DPDK Community Lab To manage your email subscriptions, visit: https://lab.dpdk.org/results/dashboard/preferences/subscriptions/