From mboxrd@z Thu Jan 1 00:00:00 1970 Return-Path: Received: from mails.dpdk.org (mails.dpdk.org [217.70.189.124]) by inbox.dpdk.org (Postfix) with ESMTP id E1A5546A9E for ; Wed, 2 Jul 2025 01:58:00 +0200 (CEST) Received: from mails.dpdk.org (localhost [127.0.0.1]) by mails.dpdk.org (Postfix) with ESMTP id D917340264; Wed, 2 Jul 2025 01:58:00 +0200 (CEST) Received: from mail-pl1-f226.google.com (mail-pl1-f226.google.com [209.85.214.226]) by mails.dpdk.org (Postfix) with ESMTP id 2DFD640264 for ; Wed, 2 Jul 2025 01:58:00 +0200 (CEST) Received: by mail-pl1-f226.google.com with SMTP id d9443c01a7336-2363616a1a6so33320615ad.3 for ; Tue, 01 Jul 2025 16:58:00 -0700 (PDT) DKIM-Signature: v=1; a=rsa-sha256; c=relaxed/relaxed; d=iol.unh.edu; s=unh-iol; t=1751414279; x=1752019079; darn=dpdk.org; h=references:in-reply-to:cc:to:from:subject:message-id:date:from:to :cc:subject:date:message-id:reply-to; bh=jUBE3nmsCu3n5aZsaWdgP3WKTrk2ACAhYQJ9E16s8hU=; b=P5l/3zTebpYARltVuQ1p7oNYKm24SRPmEQvNzy+F+mcnzZLvNRpWlbXWHRCAeg1sp2 PCR0kprrCVB/mGVziGrDQgDJT7VrEYDBAvd+dD+Dl4nGwhQRJpjwJh68C3P1/aydcBv5 85RPkAmoxfBo5EWJvxbSoJKyr0Pxdnp0CzBgY= X-Google-DKIM-Signature: v=1; a=rsa-sha256; c=relaxed/relaxed; d=1e100.net; s=20230601; t=1751414279; x=1752019079; h=references:in-reply-to:cc:to:from:subject:message-id:date :x-gm-message-state:from:to:cc:subject:date:message-id:reply-to; bh=jUBE3nmsCu3n5aZsaWdgP3WKTrk2ACAhYQJ9E16s8hU=; b=bIGVWqLOQbGV6kW4dybk054l6wOa3RIWZAvOPow87tgRcsqtC6hqs0Id/AGO0HEZJ0 kH2yakek2X2izEVdb1IlvRPIcGyzZtF/XwbJZqUQN4ddzMYfA7qhxH0uAqcPDCt9Rkj2 U0Ef+fHd92OwBZe3ctRNKxSlInUpJExYCA7SGA+68JX7djj+SRBhSg5/CNNFxK3vOtVr aZZNYg4fX4nV2VxKKxb8v3XfsoZFhRpMLDGH4F3o8d19vjQl2m9s2wkE1k1uQ9EqpVHf h2aAI7qegy1Et5OJQJrPnfR7y8PxLmIlOSbOb1LDaJhIa4ijNbuFEg27tvQk1Q02XeOX xRuA== X-Gm-Message-State: AOJu0Yzjm3f+Z6qLx8O/vdxbMEASSeXj/oj784mWiTdbxr+IAnrB9ZgY ZV4ezAbk611pS4LAFxaMnjX65NDHFA+dM5IB4VbQhlw/SJ4q68yvNef2fo5Wk/48mQ+MezLH8gm hgbk/yTjul6kFvOtZm4S/oxKANmLHGMmsA4umAsFww5Do X-Gm-Gg: ASbGncsXUGhsa1W5SZuht6Ytt9EygZqhNNP8mW4EJijmJaWWbpShz/xB2ZKlHJzVMBZ r2hYTEu7iRM8mO4P+fsGVREBVP9xu3izhU6yZrqR99uhOVmfpJvDScB75zpWwOd+nmVrEC1sSm2 ZWv8dvVKZDoMVUVRXmP2egY9D/HSogJOVQXcbXhMwxwUcQooyAfcENdTHpiW2qzYYqvwEQG8W6A 4YwKx9tRexHhVOx3yePy1dX81zEJsabke8bdZLqHeoE6RRxx3x81Hh5tNEDn4AHyGfP5JT/dZhD z9ehSv+BLrHS1eKg4MBs5o5N7AcmVGhMGl8FSzWJyLIJoXEPpQdBH4fOLVTYKTbsZafc4w== X-Google-Smtp-Source: AGHT+IF4yh0VKGELsvjffbgJn1u1TxKSa0lVq8J+nVdrvRnGWRQfKJUFQOe+probFHvZ0hqvNT5o0Kb0OdK8 X-Received: by 2002:a17:903:19ed:b0:234:9cdd:ffd5 with SMTP id d9443c01a7336-23c6e550222mr8822445ad.25.1751414279247; Tue, 01 Jul 2025 16:57:59 -0700 (PDT) Received: from postal.iol.unh.edu (postal.iol.unh.edu. [132.177.123.84]) by smtp-relay.gmail.com with ESMTPS id d9443c01a7336-23acb389a63sm6241355ad.111.2025.07.01.16.57.59 (version=TLS1_2 cipher=ECDHE-ECDSA-AES128-GCM-SHA256 bits=128/128); Tue, 01 Jul 2025 16:57:59 -0700 (PDT) X-Relaying-Domain: iol.unh.edu Date: Tue, 01 Jul 2025 16:57:59 -0700 (PDT) Message-ID: <68647607.170a0220.24b645.25caSMTPIN_ADDED_MISSING@mx.google.com> Received: from [172.21.0.5] (unknown [172.18.0.240]) by postal.iol.unh.edu (Postfix) with ESMTP id B84C46051830; Tue, 1 Jul 2025 19:57:58 -0400 (EDT) Subject: |WARNING| pw154913 [PATCH] test/event: disable vector adapter test From: dpdklab@iol.unh.edu To: Test Report Cc: dpdk-test-reports@iol.unh.edu In-Reply-To: <20250701131524.2493132-1-thomas@monjalon.net> References: <20250701131524.2493132-1-thomas@monjalon.net> Content-Type: text/plain X-BeenThere: test-report@dpdk.org X-Mailman-Version: 2.1.29 Precedence: list List-Id: automatic DPDK test reports List-Unsubscribe: , List-Archive: List-Post: List-Help: List-Subscribe: , Errors-To: test-report-bounces@dpdk.org Test-Label: iol-compile-amd64-testing Test-Status: WARNING http://dpdk.org/patch/154913 _Testing issues_ Submitter: Thomas Monjalon Date: Tuesday, July 01 2025 13:15:24 DPDK git baseline: Repo:dpdk Branch: master CommitID:20460dcffd08a4680f881c39916ae783ee830374 154913 --> testing issues Upstream job id: Generic-DPDK-Compile-Meson#404368 Test environment and result as below: +-------------------------------+--------------------+-------------------+-------------------------+----------------------+-------------------+------------------+ | Environment | dpdk_meson_compile | dpdk_msvc_compile | dpdk_llvm_clang_compile | dpdk_mingw64_compile | dpdk_compile_spdk | dpdk_compile_ovs | +===============================+====================+===================+=========================+======================+===================+==================+ | FreeBSD 14.2 | PASS | SKIPPED | SKIPPED | SKIPPED | SKIPPED | SKIPPED | +-------------------------------+--------------------+-------------------+-------------------------+----------------------+-------------------+------------------+ | Ubuntu 20.04 | PASS | SKIPPED | SKIPPED | SKIPPED | SKIPPED | SKIPPED | +-------------------------------+--------------------+-------------------+-------------------------+----------------------+-------------------+------------------+ | CentOS Stream 9 | PASS | SKIPPED | SKIPPED | SKIPPED | PASS | SKIPPED | +-------------------------------+--------------------+-------------------+-------------------------+----------------------+-------------------+------------------+ | CentOS Stream 10 | PASS | SKIPPED | SKIPPED | SKIPPED | SKIPPED | SKIPPED | +-------------------------------+--------------------+-------------------+-------------------------+----------------------+-------------------+------------------+ | Debian GNU/Linux 12 | PASS | SKIPPED | SKIPPED | SKIPPED | PASS | SKIPPED | +-------------------------------+--------------------+-------------------+-------------------------+----------------------+-------------------+------------------+ | Fedora Linux 40 | PASS | SKIPPED | SKIPPED | SKIPPED | PASS | SKIPPED | +-------------------------------+--------------------+-------------------+-------------------------+----------------------+-------------------+------------------+ | Fedora Linux 41 | PASS | SKIPPED | SKIPPED | SKIPPED | PASS | PASS | +-------------------------------+--------------------+-------------------+-------------------------+----------------------+-------------------+------------------+ | openSUSE Leap 15.6 | PASS | SKIPPED | SKIPPED | SKIPPED | SKIPPED | SKIPPED | +-------------------------------+--------------------+-------------------+-------------------------+----------------------+-------------------+------------------+ | Red Hat Enterprise Linux 8.10 | PASS | SKIPPED | SKIPPED | SKIPPED | SKIPPED | SKIPPED | +-------------------------------+--------------------+-------------------+-------------------------+----------------------+-------------------+------------------+ | Red Hat Enterprise Linux 9.5 | PASS | SKIPPED | SKIPPED | SKIPPED | SKIPPED | SKIPPED | +-------------------------------+--------------------+-------------------+-------------------------+----------------------+-------------------+------------------+ | Ubuntu 22.04 | PASS | SKIPPED | SKIPPED | SKIPPED | PASS | SKIPPED | +-------------------------------+--------------------+-------------------+-------------------------+----------------------+-------------------+------------------+ | Ubuntu 24.04 | PEND | SKIPPED | SKIPPED | SKIPPED | PASS | PASS | +-------------------------------+--------------------+-------------------+-------------------------+----------------------+-------------------+------------------+ | Alpine Linux 3.22.0 | PASS | SKIPPED | SKIPPED | SKIPPED | SKIPPED | SKIPPED | +-------------------------------+--------------------+-------------------+-------------------------+----------------------+-------------------+------------------+ | Windows Server 2022 | SKIPPED | PASS | PASS | PASS | SKIPPED | SKIPPED | +-------------------------------+--------------------+-------------------+-------------------------+----------------------+-------------------+------------------+ FreeBSD 14.2 Kernel: 14.2-RELEASE Compiler: clang 18.1.6 Ubuntu 20.04 Kernel: 4.19 Compiler: gcc gcc (Ubuntu 9.4.0-1ubuntu1~20.04.2) 9.4.0 CentOS Stream 9 Kernel: 5.15 Compiler: gcc gcc (GCC) 11.5.0 20240719 (Red Hat 11.5.0-7) CentOS Stream 10 Kernel: 5.15 Compiler: gcc gcc (GCC) 14.2.1 20250110 (Red Hat 14.2.1-8) Debian GNU/Linux 12 Kernel: 5.15 Compiler: gcc gcc (Debian 12.2.0-14+deb12u1) 12.2.0 Fedora Linux 40 Kernel: 5.15 Compiler: clang gcc (GCC) 14.2.1 20240912 (Red Hat 14.2.1-3) Fedora Linux 41 Kernel: 5.15 Compiler: clang gcc (GCC) 14.3.1 20250523 (Red Hat 14.3.1-1) openSUSE Leap 15.6 Kernel: 5.15 Compiler: gcc gcc (SUSE Linux) 7.5.0 Red Hat Enterprise Linux 8.10 Kernel: 5.15 Compiler: gcc gcc (GCC) 8.5.0 20210514 (Red Hat 8.5.0-22) Red Hat Enterprise Linux 9.5 Kernel: 5.15 Compiler: gcc gcc (GCC) 11.5.0 20240719 (Red Hat 11.5.0-2) Ubuntu 22.04 Kernel: 5.15 Compiler: gcc gcc (Ubuntu 11.4.0-1ubuntu1~22.04) 11.4.0 Ubuntu 24.04 Kernel: 5.15 Compiler: gcc gcc (Ubuntu 13.3.0-6ubuntu2~24.04) 13.3.0 Alpine Linux 3.22.0 Kernel: 5.15 Compiler: gcc gcc (Alpine 14.2.0) 14.2.0 Windows Server 2022 Kernel: 10.0.20348.2031 Compiler: clang 15.0.7, gcc 14.1.0 (MinGW), and MSVC VS 19.39.33521 To view detailed results, visit: https://lab.dpdk.org/results/dashboard/patchsets/33556/ UNH-IOL DPDK Community Lab To manage your email subscriptions, visit: https://lab.dpdk.org/results/dashboard/preferences/subscriptions/