automatic DPDK test reports
 help / color / mirror / Atom feed
From: dpdklab@iol.unh.edu
To: Test Report <test-report@dpdk.org>
Cc: dpdk-test-reports@iol.unh.edu
Subject: |WARNING| pw154913 [PATCH] test/event: disable vector adapter test
Date: Tue, 01 Jul 2025 16:58:27 -0700 (PDT)	[thread overview]
Message-ID: <68647623.170a0220.228277.37f1SMTPIN_ADDED_MISSING@mx.google.com> (raw)
In-Reply-To: <20250701131524.2493132-1-thomas@monjalon.net>

Test-Label: iol-compile-amd64-testing
Test-Status: WARNING
http://dpdk.org/patch/154913

_Testing issues_

Submitter: Thomas Monjalon <thomas@monjalon.net>
Date: Tuesday, July 01 2025 13:15:24 
DPDK git baseline: Repo:dpdk
  Branch: master
  CommitID:20460dcffd08a4680f881c39916ae783ee830374

154913 --> testing issues

Upstream job id: Generic-DPDK-Compile-Meson#404381

Test environment and result as below:

+-------------------------------+--------------------+-------------------+-------------------------+----------------------+-------------------+------------------+
|          Environment          | dpdk_meson_compile | dpdk_msvc_compile | dpdk_llvm_clang_compile | dpdk_mingw64_compile | dpdk_compile_spdk | dpdk_compile_ovs |
+===============================+====================+===================+=========================+======================+===================+==================+
| FreeBSD 14.2                  | PASS               | SKIPPED           | SKIPPED                 | SKIPPED              | SKIPPED           | SKIPPED          |
+-------------------------------+--------------------+-------------------+-------------------------+----------------------+-------------------+------------------+
| Ubuntu 20.04                  | PASS               | SKIPPED           | SKIPPED                 | SKIPPED              | SKIPPED           | SKIPPED          |
+-------------------------------+--------------------+-------------------+-------------------------+----------------------+-------------------+------------------+
| CentOS Stream 9               | PASS               | SKIPPED           | SKIPPED                 | SKIPPED              | PASS              | SKIPPED          |
+-------------------------------+--------------------+-------------------+-------------------------+----------------------+-------------------+------------------+
| CentOS Stream 10              | PASS               | SKIPPED           | SKIPPED                 | SKIPPED              | SKIPPED           | SKIPPED          |
+-------------------------------+--------------------+-------------------+-------------------------+----------------------+-------------------+------------------+
| Debian GNU/Linux 12           | PASS               | SKIPPED           | SKIPPED                 | SKIPPED              | PASS              | SKIPPED          |
+-------------------------------+--------------------+-------------------+-------------------------+----------------------+-------------------+------------------+
| Fedora Linux 40               | PASS               | SKIPPED           | SKIPPED                 | SKIPPED              | PASS              | SKIPPED          |
+-------------------------------+--------------------+-------------------+-------------------------+----------------------+-------------------+------------------+
| Fedora Linux 41               | PASS               | SKIPPED           | SKIPPED                 | SKIPPED              | PASS              | PASS             |
+-------------------------------+--------------------+-------------------+-------------------------+----------------------+-------------------+------------------+
| openSUSE Leap 15.6            | PASS               | SKIPPED           | SKIPPED                 | SKIPPED              | SKIPPED           | SKIPPED          |
+-------------------------------+--------------------+-------------------+-------------------------+----------------------+-------------------+------------------+
| Red Hat Enterprise Linux 8.10 | PASS               | SKIPPED           | SKIPPED                 | SKIPPED              | SKIPPED           | SKIPPED          |
+-------------------------------+--------------------+-------------------+-------------------------+----------------------+-------------------+------------------+
| Red Hat Enterprise Linux 9.5  | PASS               | SKIPPED           | SKIPPED                 | SKIPPED              | SKIPPED           | SKIPPED          |
+-------------------------------+--------------------+-------------------+-------------------------+----------------------+-------------------+------------------+
| Ubuntu 22.04                  | PASS               | SKIPPED           | SKIPPED                 | SKIPPED              | PASS              | SKIPPED          |
+-------------------------------+--------------------+-------------------+-------------------------+----------------------+-------------------+------------------+
| Ubuntu 24.04                  | PEND               | SKIPPED           | SKIPPED                 | SKIPPED              | PASS              | PASS             |
+-------------------------------+--------------------+-------------------+-------------------------+----------------------+-------------------+------------------+
| Alpine Linux 3.22.0           | PASS               | SKIPPED           | SKIPPED                 | SKIPPED              | SKIPPED           | SKIPPED          |
+-------------------------------+--------------------+-------------------+-------------------------+----------------------+-------------------+------------------+
| Windows Server 2022           | SKIPPED            | PASS              | PASS                    | PASS                 | SKIPPED           | SKIPPED          |
+-------------------------------+--------------------+-------------------+-------------------------+----------------------+-------------------+------------------+


FreeBSD 14.2
	Kernel: 14.2-RELEASE
	Compiler: clang 18.1.6

Ubuntu 20.04
	Kernel: 4.19
	Compiler: gcc gcc (Ubuntu 9.4.0-1ubuntu1~20.04.2) 9.4.0

CentOS Stream 9
	Kernel: 5.15
	Compiler: gcc gcc (GCC) 11.5.0 20240719 (Red Hat 11.5.0-7)

CentOS Stream 10
	Kernel: 5.15
	Compiler: gcc gcc (GCC) 14.2.1 20250110 (Red Hat 14.2.1-8)

Debian GNU/Linux 12
	Kernel: 5.15
	Compiler: gcc gcc (Debian 12.2.0-14+deb12u1) 12.2.0

Fedora Linux 40
	Kernel: 5.15
	Compiler: clang gcc (GCC) 14.2.1 20240912 (Red Hat 14.2.1-3)

Fedora Linux 41
	Kernel: 5.15
	Compiler: clang gcc (GCC) 14.3.1 20250523 (Red Hat 14.3.1-1)

openSUSE Leap 15.6
	Kernel: 5.15
	Compiler: gcc gcc (SUSE Linux) 7.5.0

Red Hat Enterprise Linux 8.10
	Kernel: 5.15
	Compiler: gcc gcc (GCC) 8.5.0 20210514 (Red Hat 8.5.0-22)

Red Hat Enterprise Linux 9.5
	Kernel: 5.15
	Compiler: gcc gcc (GCC) 11.5.0 20240719 (Red Hat 11.5.0-2)

Ubuntu 22.04
	Kernel: 5.15
	Compiler: gcc gcc (Ubuntu 11.4.0-1ubuntu1~22.04) 11.4.0

Ubuntu 24.04
	Kernel: 5.15
	Compiler: gcc gcc (Ubuntu 13.3.0-6ubuntu2~24.04) 13.3.0

Alpine Linux 3.22.0
	Kernel: 5.15
	Compiler: gcc gcc (Alpine 14.2.0) 14.2.0

Windows Server 2022
	Kernel: 10.0.20348.2031
	Compiler: clang 15.0.7, gcc 14.1.0 (MinGW), and MSVC VS 19.39.33521

To view detailed results, visit:
https://lab.dpdk.org/results/dashboard/patchsets/33556/

UNH-IOL DPDK Community Lab

To manage your email subscriptions, visit: 
https://lab.dpdk.org/results/dashboard/preferences/subscriptions/

  parent reply	other threads:[~2025-07-01 23:58 UTC|newest]

Thread overview: 61+ messages / expand[flat|nested]  mbox.gz  Atom feed  top
     [not found] <20250701131524.2493132-1-thomas@monjalon.net>
2025-07-01 12:49 ` |SUCCESS| " qemudev
2025-07-01 12:54 ` qemudev
2025-07-01 13:15 ` checkpatch
2025-07-01 14:23 ` 0-day Robot
2025-07-01 17:44 ` dpdklab
2025-07-01 17:58 ` dpdklab
2025-07-01 18:00 ` dpdklab
2025-07-01 18:01 ` |PENDING| " dpdklab
2025-07-01 18:13 ` |SUCCESS| " dpdklab
2025-07-01 18:19 ` dpdklab
2025-07-01 18:26 ` |PENDING| " dpdklab
2025-07-01 18:34 ` |SUCCESS| " dpdklab
2025-07-01 18:36 ` dpdklab
2025-07-01 18:57 ` dpdklab
2025-07-01 19:21 ` dpdklab
2025-07-01 19:30 ` |PENDING| " dpdklab
2025-07-01 19:42 ` dpdklab
2025-07-01 19:48 ` |SUCCESS| " dpdklab
2025-07-01 20:23 ` |PENDING| " dpdklab
2025-07-01 20:32 ` |SUCCESS| " dpdklab
2025-07-01 20:38 ` dpdklab
2025-07-01 20:43 ` dpdklab
2025-07-01 20:58 ` dpdklab
2025-07-01 21:03 ` dpdklab
2025-07-01 21:04 ` dpdklab
2025-07-01 21:13 ` |PENDING| " dpdklab
2025-07-01 21:26 ` |SUCCESS| " dpdklab
2025-07-01 21:39 ` dpdklab
2025-07-01 22:09 ` dpdklab
2025-07-01 22:10 ` dpdklab
2025-07-01 22:34 ` dpdklab
2025-07-01 22:35 ` dpdklab
2025-07-01 22:36 ` dpdklab
2025-07-01 22:37 ` dpdklab
2025-07-01 22:37 ` dpdklab
2025-07-01 22:37 ` dpdklab
2025-07-01 22:37 ` dpdklab
2025-07-01 22:38 ` dpdklab
2025-07-01 22:39 ` dpdklab
2025-07-01 22:39 ` dpdklab
2025-07-01 22:39 ` dpdklab
2025-07-01 22:40 ` dpdklab
2025-07-01 22:40 ` dpdklab
2025-07-01 22:40 ` dpdklab
2025-07-01 22:41 ` dpdklab
2025-07-01 22:42 ` dpdklab
2025-07-01 22:54 ` |PENDING| " dpdklab
2025-07-01 23:57 ` |WARNING| " dpdklab
2025-07-01 23:58 ` dpdklab [this message]
2025-07-01 23:59 ` dpdklab
2025-07-01 23:59 ` dpdklab
2025-07-01 23:59 ` dpdklab
2025-07-02  0:04 ` dpdklab
2025-07-02  0:06 ` dpdklab
2025-07-02  0:06 ` dpdklab
2025-07-02  0:09 ` dpdklab
2025-07-02  1:49 ` |SUCCESS| " dpdklab
2025-07-02  1:50 ` dpdklab
2025-07-02  2:10 ` dpdklab
2025-07-02  4:00 ` dpdklab
2025-07-02  5:10 ` dpdklab

Reply instructions:

You may reply publicly to this message via plain-text email
using any one of the following methods:

* Save the following mbox file, import it into your mail client,
  and reply-to-all from there: mbox

  Avoid top-posting and favor interleaved quoting:
  https://en.wikipedia.org/wiki/Posting_style#Interleaved_style

* Reply using the --to, --cc, and --in-reply-to
  switches of git-send-email(1):

  git send-email \
    --in-reply-to=68647623.170a0220.228277.37f1SMTPIN_ADDED_MISSING@mx.google.com \
    --to=dpdklab@iol.unh.edu \
    --cc=dpdk-test-reports@iol.unh.edu \
    --cc=test-report@dpdk.org \
    /path/to/YOUR_REPLY

  https://kernel.org/pub/software/scm/git/docs/git-send-email.html

* If your mail client supports setting the In-Reply-To header
  via mailto: links, try the mailto: link
Be sure your reply has a Subject: header at the top and a blank line before the message body.
This is a public inbox, see mirroring instructions
for how to clone and mirror all data and code used for this inbox;
as well as URLs for NNTP newsgroup(s).