From mboxrd@z Thu Jan 1 00:00:00 1970 Return-Path: Received: from mails.dpdk.org (mails.dpdk.org [217.70.189.124]) by inbox.dpdk.org (Postfix) with ESMTP id 2546746A9E for ; Wed, 2 Jul 2025 01:59:18 +0200 (CEST) Received: from mails.dpdk.org (localhost [127.0.0.1]) by mails.dpdk.org (Postfix) with ESMTP id 1EF3B40264; Wed, 2 Jul 2025 01:59:18 +0200 (CEST) Received: from mail-qv1-f97.google.com (mail-qv1-f97.google.com [209.85.219.97]) by mails.dpdk.org (Postfix) with ESMTP id 4E82940264 for ; Wed, 2 Jul 2025 01:59:17 +0200 (CEST) Received: by mail-qv1-f97.google.com with SMTP id 6a1803df08f44-6fabb948e5aso46738996d6.1 for ; Tue, 01 Jul 2025 16:59:17 -0700 (PDT) DKIM-Signature: v=1; a=rsa-sha256; c=relaxed/relaxed; d=iol.unh.edu; s=unh-iol; t=1751414356; x=1752019156; darn=dpdk.org; h=references:in-reply-to:cc:to:from:subject:message-id:date:from:to :cc:subject:date:message-id:reply-to; bh=DtIdZtHIXp3qSQKC4s6o6QVKFi0XnP+4l9tEGKKc0KU=; b=DPVIWpMlWTgPyimOJkBAYiA0rekOJNtaN1SmDji12jPuc6nN6r0aqYqJuAYd+jyIES ctoBXJxyUc7ltTNomcG8G0HedFZPmLK3sTg23EBsH23VrYUnmdBlVwjtrij+fE6zy4Ya MSikKMcd/0ueVQ4gw97bod3B7iIy+Eos2MewU= X-Google-DKIM-Signature: v=1; a=rsa-sha256; c=relaxed/relaxed; d=1e100.net; s=20230601; t=1751414356; x=1752019156; h=references:in-reply-to:cc:to:from:subject:message-id:date :x-gm-message-state:from:to:cc:subject:date:message-id:reply-to; bh=DtIdZtHIXp3qSQKC4s6o6QVKFi0XnP+4l9tEGKKc0KU=; b=RJ+pkMP29S1fpjKU0gjk+AMCQFfcuUKtQhhBuqqg4LOt6CV0GqUiSJHYf+OlLUGwPn wR81sj0fPRfuxTlxoYSy4uMbADItVTs9UlToQiow18ZS6mhQYER4F8tW/KKAtYl6TmJu +9+nGkZhi9MR9rrtGpRqs9JC7eP9c17nMgs4tOT6CFt8kFPGaVA06M9xpRfGjmqxSlAd 2C5adi5d6VDX+twsKXdvZHJDQomGl20Vg8Yq82+Eg8Ig/CrXqkF7qOUaBx51cgDrbl8h TmLNkw+yZ0tJvZcu3ZxRrjvjhp4cv3P7nrBGIysT8ObiRZJCDHBFn20YoXPvgGWBEFUQ qAZw== X-Gm-Message-State: AOJu0YwwdrBFgAoR+RlFwKDzDXnPRZMRYe9vH4P5Z/FKOqa2pUWTJrWs 5agIBIaqwl6gnaMfpCu9HWR6UL29cqXCFygtmhnpJqEeI2oCkKGBOL7VEjokeHZPMz18BpP0jNJ vQZW7NVFIReSj2yFKri76VXoXCWvg1Jk0uQk9qVhXqIO3LXTJbyKSovv9mROL X-Gm-Gg: ASbGncuo4AziJfxdhatwEJjl+s2lheO+1orDW7cz35NeEwWuk+CC/qZxx3xLVqYyI+2 sA4gAWB5Ls/0N2j7RHkQbMXZ7L8/ZoUnbhgbEZgvhsPUSKN81X+wn1P1Q2qt1z+D5wMyju1wuqt s1w6WCvqCKHVm6RFhVoIrFxHTxrfmYuP+q9wX//akknb4I/K5IuS2OHQdPWUSj8Q/fntdL4cYbW mwMDE3qCPycqD4GGPuHoKp9PJiH07GTlh5KDMqXNtoDD2D0IPWsjwoSph8IbVpVaKiCwdrVr6zo H1Rkhw/+GzYI+6f5rj+jhfw5vMXpnCSZnkchPsUTURLiZ3g= X-Google-Smtp-Source: AGHT+IEMOpgDT55wf2qYjKQchAYTOj8TPvn4MYAVbu6vZahamYjXT7nCHwKjoPMTiOOjcI0bcdDnZoj8Cj8I X-Received: by 2002:a0c:f40c:0:b0:6fa:fcd9:35bf with SMTP id 6a1803df08f44-702b1c0fb91mr9130516d6.42.1751414356696; Tue, 01 Jul 2025 16:59:16 -0700 (PDT) Received: from postal.iol.unh.edu (postal.iol.unh.edu. [2606:4100:3880:1234::84]) by smtp-relay.gmail.com with ESMTPS id 6a1803df08f44-6fd771822a6sm6658146d6.14.2025.07.01.16.59.16 (version=TLS1_2 cipher=ECDHE-ECDSA-AES128-GCM-SHA256 bits=128/128); Tue, 01 Jul 2025 16:59:16 -0700 (PDT) X-Relaying-Domain: iol.unh.edu Date: Tue, 01 Jul 2025 16:59:16 -0700 (PDT) Message-ID: <68647654.d40a0220.12a12f.3bfaSMTPIN_ADDED_MISSING@mx.google.com> Received: from [172.17.0.2] (unknown [172.18.0.77]) by postal.iol.unh.edu (Postfix) with ESMTP id 72A116051830; Tue, 1 Jul 2025 19:59:16 -0400 (EDT) Subject: |WARNING| pw154913 [PATCH] test/event: disable vector adapter test From: dpdklab@iol.unh.edu To: Test Report Cc: dpdk-test-reports@iol.unh.edu In-Reply-To: <20250701131524.2493132-1-thomas@monjalon.net> References: <20250701131524.2493132-1-thomas@monjalon.net> Content-Type: text/plain X-BeenThere: test-report@dpdk.org X-Mailman-Version: 2.1.29 Precedence: list List-Id: automatic DPDK test reports List-Unsubscribe: , List-Archive: List-Post: List-Help: List-Subscribe: , Errors-To: test-report-bounces@dpdk.org Test-Label: iol-compile-amd64-testing Test-Status: WARNING http://dpdk.org/patch/154913 _Testing issues_ Submitter: Thomas Monjalon Date: Tuesday, July 01 2025 13:15:24 DPDK git baseline: Repo:dpdk Branch: master CommitID:20460dcffd08a4680f881c39916ae783ee830374 154913 --> testing issues Upstream job id: Generic-DPDK-Compile-Meson#404377 Test environment and result as below: +-------------------------------+--------------------+-------------------+-------------------------+----------------------+-------------------+------------------+ | Environment | dpdk_meson_compile | dpdk_msvc_compile | dpdk_llvm_clang_compile | dpdk_mingw64_compile | dpdk_compile_spdk | dpdk_compile_ovs | +===============================+====================+===================+=========================+======================+===================+==================+ | FreeBSD 14.2 | PASS | SKIPPED | SKIPPED | SKIPPED | SKIPPED | SKIPPED | +-------------------------------+--------------------+-------------------+-------------------------+----------------------+-------------------+------------------+ | Ubuntu 20.04 | PASS | SKIPPED | SKIPPED | SKIPPED | SKIPPED | SKIPPED | +-------------------------------+--------------------+-------------------+-------------------------+----------------------+-------------------+------------------+ | CentOS Stream 9 | PASS | SKIPPED | SKIPPED | SKIPPED | PASS | SKIPPED | +-------------------------------+--------------------+-------------------+-------------------------+----------------------+-------------------+------------------+ | CentOS Stream 10 | PASS | SKIPPED | SKIPPED | SKIPPED | SKIPPED | SKIPPED | +-------------------------------+--------------------+-------------------+-------------------------+----------------------+-------------------+------------------+ | Debian GNU/Linux 12 | PASS | SKIPPED | SKIPPED | SKIPPED | PASS | SKIPPED | +-------------------------------+--------------------+-------------------+-------------------------+----------------------+-------------------+------------------+ | Fedora Linux 40 | PASS | SKIPPED | SKIPPED | SKIPPED | PASS | SKIPPED | +-------------------------------+--------------------+-------------------+-------------------------+----------------------+-------------------+------------------+ | Fedora Linux 41 | PASS | SKIPPED | SKIPPED | SKIPPED | PASS | PASS | +-------------------------------+--------------------+-------------------+-------------------------+----------------------+-------------------+------------------+ | openSUSE Leap 15.6 | PASS | SKIPPED | SKIPPED | SKIPPED | SKIPPED | SKIPPED | +-------------------------------+--------------------+-------------------+-------------------------+----------------------+-------------------+------------------+ | Red Hat Enterprise Linux 8.10 | PASS | SKIPPED | SKIPPED | SKIPPED | SKIPPED | SKIPPED | +-------------------------------+--------------------+-------------------+-------------------------+----------------------+-------------------+------------------+ | Red Hat Enterprise Linux 9.5 | PASS | SKIPPED | SKIPPED | SKIPPED | SKIPPED | SKIPPED | +-------------------------------+--------------------+-------------------+-------------------------+----------------------+-------------------+------------------+ | Ubuntu 22.04 | PASS | SKIPPED | SKIPPED | SKIPPED | PASS | SKIPPED | +-------------------------------+--------------------+-------------------+-------------------------+----------------------+-------------------+------------------+ | Ubuntu 24.04 | PEND | SKIPPED | SKIPPED | SKIPPED | PASS | PASS | +-------------------------------+--------------------+-------------------+-------------------------+----------------------+-------------------+------------------+ | Alpine Linux 3.22.0 | PASS | SKIPPED | SKIPPED | SKIPPED | SKIPPED | SKIPPED | +-------------------------------+--------------------+-------------------+-------------------------+----------------------+-------------------+------------------+ | Windows Server 2022 | SKIPPED | PASS | PASS | PASS | SKIPPED | SKIPPED | +-------------------------------+--------------------+-------------------+-------------------------+----------------------+-------------------+------------------+ FreeBSD 14.2 Kernel: 14.2-RELEASE Compiler: clang 18.1.6 Ubuntu 20.04 Kernel: 4.19 Compiler: gcc gcc (Ubuntu 9.4.0-1ubuntu1~20.04.2) 9.4.0 CentOS Stream 9 Kernel: 5.15 Compiler: gcc gcc (GCC) 11.5.0 20240719 (Red Hat 11.5.0-7) CentOS Stream 10 Kernel: 5.15 Compiler: gcc gcc (GCC) 14.2.1 20250110 (Red Hat 14.2.1-8) Debian GNU/Linux 12 Kernel: 5.15 Compiler: gcc gcc (Debian 12.2.0-14+deb12u1) 12.2.0 Fedora Linux 40 Kernel: 5.15 Compiler: clang gcc (GCC) 14.2.1 20240912 (Red Hat 14.2.1-3) Fedora Linux 41 Kernel: 5.15 Compiler: clang gcc (GCC) 14.3.1 20250523 (Red Hat 14.3.1-1) openSUSE Leap 15.6 Kernel: 5.15 Compiler: gcc gcc (SUSE Linux) 7.5.0 Red Hat Enterprise Linux 8.10 Kernel: 5.15 Compiler: gcc gcc (GCC) 8.5.0 20210514 (Red Hat 8.5.0-22) Red Hat Enterprise Linux 9.5 Kernel: 5.15 Compiler: gcc gcc (GCC) 11.5.0 20240719 (Red Hat 11.5.0-2) Ubuntu 22.04 Kernel: 5.15 Compiler: gcc gcc (Ubuntu 11.4.0-1ubuntu1~22.04) 11.4.0 Ubuntu 24.04 Kernel: 5.15 Compiler: gcc gcc (Ubuntu 13.3.0-6ubuntu2~24.04) 13.3.0 Alpine Linux 3.22.0 Kernel: 5.15 Compiler: gcc gcc (Alpine 14.2.0) 14.2.0 Windows Server 2022 Kernel: 10.0.20348.2031 Compiler: clang 15.0.7, gcc 14.1.0 (MinGW), and MSVC VS 19.39.33521 To view detailed results, visit: https://lab.dpdk.org/results/dashboard/patchsets/33556/ UNH-IOL DPDK Community Lab To manage your email subscriptions, visit: https://lab.dpdk.org/results/dashboard/preferences/subscriptions/