From mboxrd@z Thu Jan 1 00:00:00 1970 Return-Path: Received: from mails.dpdk.org (mails.dpdk.org [217.70.189.124]) by inbox.dpdk.org (Postfix) with ESMTP id 354E046A9E for ; Wed, 2 Jul 2025 01:59:35 +0200 (CEST) Received: from mails.dpdk.org (localhost [127.0.0.1]) by mails.dpdk.org (Postfix) with ESMTP id 2F2E540264; Wed, 2 Jul 2025 01:59:35 +0200 (CEST) Received: from mail-pf1-f225.google.com (mail-pf1-f225.google.com [209.85.210.225]) by mails.dpdk.org (Postfix) with ESMTP id 6A1F240264 for ; Wed, 2 Jul 2025 01:59:34 +0200 (CEST) Received: by mail-pf1-f225.google.com with SMTP id d2e1a72fcca58-747fc77bb2aso3691152b3a.3 for ; Tue, 01 Jul 2025 16:59:34 -0700 (PDT) DKIM-Signature: v=1; a=rsa-sha256; c=relaxed/relaxed; d=iol.unh.edu; s=unh-iol; t=1751414373; x=1752019173; darn=dpdk.org; h=references:in-reply-to:cc:to:from:subject:message-id:date:from:to :cc:subject:date:message-id:reply-to; bh=HgDuTF5bIHTWlwiSG//ykwoLVPV5/RguLwfI0HluMwk=; b=M5xkAKNPd0k1xi7niLkUxTktUVPblshYnc5Tr51Swt509HwAofHtbBvR8OQHFKOn9S 1lZegf7Jis/oEtoP2Ou1yifMyxVVjVuJQPkV4VYYl5MFt8lmm4QsIgjbVAP0yPNloJWv kWybETsQKo8rJ+Fr8f6V9sn18ujMLTUY4iAeI= X-Google-DKIM-Signature: v=1; a=rsa-sha256; c=relaxed/relaxed; d=1e100.net; s=20230601; t=1751414373; x=1752019173; h=references:in-reply-to:cc:to:from:subject:message-id:date :x-gm-message-state:from:to:cc:subject:date:message-id:reply-to; bh=HgDuTF5bIHTWlwiSG//ykwoLVPV5/RguLwfI0HluMwk=; b=QTp1QgPF3xu9RdbujKwfXjuukpfjCpRQYn11+uN+DYFJkwWDE8ged1oGkQ5+SfxMhO GvScDvAy9mrM3IGszLSG+Nyfmfc6MUyExqSstB/NCFmyxTEibynyD64VV2tPxDyAyZ2G vWsm06m7ri5gJWCMWL8LK7HtFVvASDwoumXO1SF56Y/TWo90eScsPisHYBbiqQb+GSoQ kUboh43FPVT1hFuTWuy68q6KEPyQGCoNoZeVEKq57CwfjCscbJ/ogS6RJnhpnqFQXjkf HnfYL75KhixqVGAggv3+/rZ8FK3X3WgbqQ4i0+6TlL5KTUFM0VvA45pcP7OX+8jEQGvK O4hw== X-Gm-Message-State: AOJu0YwY8TBJmYkfUcH/3tnU5Ou9UfPHoyrpz9nGrBi0E9KAH0KqK4tj UztP/dEfJU+NAYIwH8fNPmjW02PjqSGeugtwGID+pRMFhfTX0bkdIvGNtHkSwjNqW1v2gUynNm6 Xn//TPWAuHZIvpSMchUur2V40G5la6LqfzsSJpJYxoEpd+BQztl1CGNVtA2fW X-Gm-Gg: ASbGncsavlnxHz17mxG3bwFlFodR6hzIvljAbKtXMUBKCu37yaOqyhMssDF10ag+bWG 8deTF0hVPh/DJ+o3439adoM70Jt1Ef6DlgUtqja+5T4v68lEB5ssRXWLPtCGcGUylaA3lrIlDTE S/sxpAJMv1sizDxT//nARvw1B6yptvqmceIAxZQt6LzLyAKQd+ywNmLVM7lS9+Zi0HK+ELygIjk +XRvW95DYmBinfhNSxIUPEfPmpX0O3pifNf396WSVjVKlyOWUkg4lvNKjAGbOwvIJzq8N47iO5d pCtGSdMnuqSejGSxjxn1gFTvTvF+RWz4eVbykMxqjVm4ees= X-Google-Smtp-Source: AGHT+IGFVk3+jn8qIWq/S92LNGJE0JR/V+6mZSstExdMdoNTeFF8TlK/H6YoDmnvF1DrJgBci6GHTcmPThjN X-Received: by 2002:a05:6a00:c94:b0:742:4545:2d2b with SMTP id d2e1a72fcca58-74b50e5cd3dmr1017250b3a.3.1751414373582; Tue, 01 Jul 2025 16:59:33 -0700 (PDT) Received: from postal.iol.unh.edu (postal.iol.unh.edu. [2606:4100:3880:1234::84]) by smtp-relay.gmail.com with ESMTPS id 41be03b00d2f7-b34e321df5bsm564845a12.25.2025.07.01.16.59.33 (version=TLS1_2 cipher=ECDHE-ECDSA-AES128-GCM-SHA256 bits=128/128); Tue, 01 Jul 2025 16:59:33 -0700 (PDT) X-Relaying-Domain: iol.unh.edu Date: Tue, 01 Jul 2025 16:59:33 -0700 (PDT) Message-ID: <68647665.630a0220.29b132.eec6SMTPIN_ADDED_MISSING@mx.google.com> Received: from [172.17.0.4] (unknown [172.18.0.74]) by postal.iol.unh.edu (Postfix) with ESMTP id D186B6051830; Tue, 1 Jul 2025 19:59:32 -0400 (EDT) Subject: |WARNING| pw154913 [PATCH] test/event: disable vector adapter test From: dpdklab@iol.unh.edu To: Test Report Cc: dpdk-test-reports@iol.unh.edu In-Reply-To: <20250701131524.2493132-1-thomas@monjalon.net> References: <20250701131524.2493132-1-thomas@monjalon.net> Content-Type: text/plain X-BeenThere: test-report@dpdk.org X-Mailman-Version: 2.1.29 Precedence: list List-Id: automatic DPDK test reports List-Unsubscribe: , List-Archive: List-Post: List-Help: List-Subscribe: , Errors-To: test-report-bounces@dpdk.org Test-Label: iol-compile-amd64-testing Test-Status: WARNING http://dpdk.org/patch/154913 _Testing issues_ Submitter: Thomas Monjalon Date: Tuesday, July 01 2025 13:15:24 DPDK git baseline: Repo:dpdk Branch: master CommitID:20460dcffd08a4680f881c39916ae783ee830374 154913 --> testing issues Upstream job id: Generic-DPDK-Compile-Meson#404378 Test environment and result as below: +-------------------------------+--------------------+-------------------+-------------------------+----------------------+-------------------+------------------+ | Environment | dpdk_meson_compile | dpdk_msvc_compile | dpdk_llvm_clang_compile | dpdk_mingw64_compile | dpdk_compile_spdk | dpdk_compile_ovs | +===============================+====================+===================+=========================+======================+===================+==================+ | FreeBSD 14.2 | PASS | SKIPPED | SKIPPED | SKIPPED | SKIPPED | SKIPPED | +-------------------------------+--------------------+-------------------+-------------------------+----------------------+-------------------+------------------+ | Ubuntu 20.04 | PASS | SKIPPED | SKIPPED | SKIPPED | SKIPPED | SKIPPED | +-------------------------------+--------------------+-------------------+-------------------------+----------------------+-------------------+------------------+ | CentOS Stream 9 | PASS | SKIPPED | SKIPPED | SKIPPED | PASS | SKIPPED | +-------------------------------+--------------------+-------------------+-------------------------+----------------------+-------------------+------------------+ | CentOS Stream 10 | PASS | SKIPPED | SKIPPED | SKIPPED | SKIPPED | SKIPPED | +-------------------------------+--------------------+-------------------+-------------------------+----------------------+-------------------+------------------+ | Debian GNU/Linux 12 | PASS | SKIPPED | SKIPPED | SKIPPED | PASS | SKIPPED | +-------------------------------+--------------------+-------------------+-------------------------+----------------------+-------------------+------------------+ | Fedora Linux 40 | PASS | SKIPPED | SKIPPED | SKIPPED | PASS | SKIPPED | +-------------------------------+--------------------+-------------------+-------------------------+----------------------+-------------------+------------------+ | Fedora Linux 41 | PASS | SKIPPED | SKIPPED | SKIPPED | PASS | PASS | +-------------------------------+--------------------+-------------------+-------------------------+----------------------+-------------------+------------------+ | openSUSE Leap 15.6 | PASS | SKIPPED | SKIPPED | SKIPPED | SKIPPED | SKIPPED | +-------------------------------+--------------------+-------------------+-------------------------+----------------------+-------------------+------------------+ | Red Hat Enterprise Linux 8.10 | PASS | SKIPPED | SKIPPED | SKIPPED | SKIPPED | SKIPPED | +-------------------------------+--------------------+-------------------+-------------------------+----------------------+-------------------+------------------+ | Red Hat Enterprise Linux 9.5 | PASS | SKIPPED | SKIPPED | SKIPPED | SKIPPED | SKIPPED | +-------------------------------+--------------------+-------------------+-------------------------+----------------------+-------------------+------------------+ | Ubuntu 22.04 | PASS | SKIPPED | SKIPPED | SKIPPED | PASS | SKIPPED | +-------------------------------+--------------------+-------------------+-------------------------+----------------------+-------------------+------------------+ | Ubuntu 24.04 | PEND | SKIPPED | SKIPPED | SKIPPED | PASS | PASS | +-------------------------------+--------------------+-------------------+-------------------------+----------------------+-------------------+------------------+ | Alpine Linux 3.22.0 | PASS | SKIPPED | SKIPPED | SKIPPED | SKIPPED | SKIPPED | +-------------------------------+--------------------+-------------------+-------------------------+----------------------+-------------------+------------------+ | Windows Server 2022 | SKIPPED | PASS | PASS | PASS | SKIPPED | SKIPPED | +-------------------------------+--------------------+-------------------+-------------------------+----------------------+-------------------+------------------+ FreeBSD 14.2 Kernel: 14.2-RELEASE Compiler: clang 18.1.6 Ubuntu 20.04 Kernel: 4.19 Compiler: gcc gcc (Ubuntu 9.4.0-1ubuntu1~20.04.2) 9.4.0 CentOS Stream 9 Kernel: 5.15 Compiler: gcc gcc (GCC) 11.5.0 20240719 (Red Hat 11.5.0-7) CentOS Stream 10 Kernel: 5.15 Compiler: gcc gcc (GCC) 14.2.1 20250110 (Red Hat 14.2.1-8) Debian GNU/Linux 12 Kernel: 5.15 Compiler: gcc gcc (Debian 12.2.0-14+deb12u1) 12.2.0 Fedora Linux 40 Kernel: 5.15 Compiler: clang gcc (GCC) 14.2.1 20240912 (Red Hat 14.2.1-3) Fedora Linux 41 Kernel: 5.15 Compiler: clang gcc (GCC) 14.3.1 20250523 (Red Hat 14.3.1-1) openSUSE Leap 15.6 Kernel: 5.15 Compiler: gcc gcc (SUSE Linux) 7.5.0 Red Hat Enterprise Linux 8.10 Kernel: 5.15 Compiler: gcc gcc (GCC) 8.5.0 20210514 (Red Hat 8.5.0-22) Red Hat Enterprise Linux 9.5 Kernel: 5.15 Compiler: gcc gcc (GCC) 11.5.0 20240719 (Red Hat 11.5.0-2) Ubuntu 22.04 Kernel: 5.15 Compiler: gcc gcc (Ubuntu 11.4.0-1ubuntu1~22.04) 11.4.0 Ubuntu 24.04 Kernel: 5.15 Compiler: gcc gcc (Ubuntu 13.3.0-6ubuntu2~24.04) 13.3.0 Alpine Linux 3.22.0 Kernel: 5.15 Compiler: gcc gcc (Alpine 14.2.0) 14.2.0 Windows Server 2022 Kernel: 10.0.20348.2031 Compiler: clang 15.0.7, gcc 14.1.0 (MinGW), and MSVC VS 19.39.33521 To view detailed results, visit: https://lab.dpdk.org/results/dashboard/patchsets/33556/ UNH-IOL DPDK Community Lab To manage your email subscriptions, visit: https://lab.dpdk.org/results/dashboard/preferences/subscriptions/