From mboxrd@z Thu Jan 1 00:00:00 1970 Return-Path: Received: from mails.dpdk.org (mails.dpdk.org [217.70.189.124]) by inbox.dpdk.org (Postfix) with ESMTP id 4515E46A9E for ; Wed, 2 Jul 2025 01:59:41 +0200 (CEST) Received: from mails.dpdk.org (localhost [127.0.0.1]) by mails.dpdk.org (Postfix) with ESMTP id 3C87A40264; Wed, 2 Jul 2025 01:59:41 +0200 (CEST) Received: from mail-pl1-f226.google.com (mail-pl1-f226.google.com [209.85.214.226]) by mails.dpdk.org (Postfix) with ESMTP id 15A2B40264 for ; Wed, 2 Jul 2025 01:59:40 +0200 (CEST) Received: by mail-pl1-f226.google.com with SMTP id d9443c01a7336-2353a2bc210so35962055ad.2 for ; Tue, 01 Jul 2025 16:59:40 -0700 (PDT) DKIM-Signature: v=1; a=rsa-sha256; c=relaxed/relaxed; d=iol.unh.edu; s=unh-iol; t=1751414379; x=1752019179; darn=dpdk.org; h=references:in-reply-to:cc:to:from:subject:message-id:date:from:to :cc:subject:date:message-id:reply-to; bh=4dav3cworuMmw08wcTG+kcVVBOYoyDK+gGVSHO9H7bU=; b=Ay2aSUSQJH1E2e4SDJDVBhkCjKKBU+BFtuZsjbrwquqE0lmqk68yTKuSiy5MmYYoQJ l3gaeCSxLS9vzw+vEKOy68Oyl9k7MJily8ESqXvfIxi/57gpNo3+f2m8oUdth0fdyowT eOWvMolUQacEt2r81rqAT/EjzvwuuE5aL9kf0= X-Google-DKIM-Signature: v=1; a=rsa-sha256; c=relaxed/relaxed; d=1e100.net; s=20230601; t=1751414379; x=1752019179; h=references:in-reply-to:cc:to:from:subject:message-id:date :x-gm-message-state:from:to:cc:subject:date:message-id:reply-to; bh=4dav3cworuMmw08wcTG+kcVVBOYoyDK+gGVSHO9H7bU=; b=Ab/hB/Lbx57YzWrJY4Ac++g1A00hxI24YIlq5W6o5Ujv5MYNcby+IOks52PiWU2JUb MlDSQ57gLxSvzYOSMNnXnNPW7azyzBJKnyElSHy8G5+uTRukzEObek7aD3gXaGaEIZR3 nR83HACC5Id7U+EzcTCMu04BDn2cJqVYIf5eANZK4+jnNULchD2WgybFkogTH3LeXcHT rfje6Tgbgwlg82/mpeij88WXJGtcLZnRtLObfiDqMN6n9RJu/6clIB8H3FptDONhL37Q fjVW17QILybDkZwh/fx34HyIjrxUVQeil5Mu/B1lO6u2kORaHB0OiM+7qhHSS7M8Xd1Q SvDw== X-Gm-Message-State: AOJu0YzBt4Ef5C7lowYzyXw2CtS46JOxQRjw2djBZCSQdNpVlRv89BkT m/MFAcXMT2La3s5Y26eAGUyWbQ7HwcMkwB3NbiWUJBWgEBe/363TlsYYfh35inZcwIGI2qmLet8 G870c5VcaTkuCA6ctOpBX63yXHHIH+CxQhyRPkdFi36VA X-Gm-Gg: ASbGnctFTplnix25gZTRTX/fXOMc3JJrouTBd7uHQsO9fB3x9RC9Ut2HPCndPkuK/Xf mPLylqu27LjMyz64KU7iPStii4b3e5dhhCpsv1oBZNiPdR/jyqHJvPniN49DoeGLTsc4rJij3kH euuaKY6eWzX/zIzXxtbFq0ZexL2M9pIYhHujVy2dBgB5jksXTyoUgfSOruyv3jm1OBu6Z6dKPYc Qe8QJeoeDve/3h/afL3bNvUJyQ3ptEY5MyVSsNewknjpho3DPQcdLi8FYm4dGFF9ypIEsn4wO2v NR7JHM1VW6NoA1hMmXJFN+um6qxvWovW/DFYNexG/0qhFM9JgEkDadlaRPpgDVrJ3lypuw== X-Google-Smtp-Source: AGHT+IH1400A8Al9lzJlKNiaGDAXTvOXRREED1PthVbDEkutN/gWs6thyJAOdIcehidZUXTjfGdnEZJAw57q X-Received: by 2002:a17:903:124a:b0:237:c8de:f289 with SMTP id d9443c01a7336-23c6e5708d5mr10094815ad.36.1751414379235; Tue, 01 Jul 2025 16:59:39 -0700 (PDT) Received: from postal.iol.unh.edu (postal.iol.unh.edu. [132.177.123.84]) by smtp-relay.gmail.com with ESMTPS id d9443c01a7336-23acb36e146sm6144415ad.91.2025.07.01.16.59.39 (version=TLS1_2 cipher=ECDHE-ECDSA-AES128-GCM-SHA256 bits=128/128); Tue, 01 Jul 2025 16:59:39 -0700 (PDT) X-Relaying-Domain: iol.unh.edu Date: Tue, 01 Jul 2025 16:59:39 -0700 (PDT) Message-ID: <6864766b.170a0220.a8469.391fSMTPIN_ADDED_MISSING@mx.google.com> Received: from [172.17.0.5] (unknown [172.18.0.74]) by postal.iol.unh.edu (Postfix) with ESMTP id 6B66C6051830; Tue, 1 Jul 2025 19:59:38 -0400 (EDT) Subject: |WARNING| pw154913 [PATCH] test/event: disable vector adapter test From: dpdklab@iol.unh.edu To: Test Report Cc: dpdk-test-reports@iol.unh.edu In-Reply-To: <20250701131524.2493132-1-thomas@monjalon.net> References: <20250701131524.2493132-1-thomas@monjalon.net> Content-Type: text/plain X-BeenThere: test-report@dpdk.org X-Mailman-Version: 2.1.29 Precedence: list List-Id: automatic DPDK test reports List-Unsubscribe: , List-Archive: List-Post: List-Help: List-Subscribe: , Errors-To: test-report-bounces@dpdk.org Test-Label: iol-compile-amd64-testing Test-Status: WARNING http://dpdk.org/patch/154913 _Testing issues_ Submitter: Thomas Monjalon Date: Tuesday, July 01 2025 13:15:24 DPDK git baseline: Repo:dpdk Branch: master CommitID:20460dcffd08a4680f881c39916ae783ee830374 154913 --> testing issues Upstream job id: Generic-DPDK-Compile-Meson#404374 Test environment and result as below: +-------------------------------+--------------------+-------------------+-------------------------+----------------------+-------------------+------------------+ | Environment | dpdk_meson_compile | dpdk_msvc_compile | dpdk_llvm_clang_compile | dpdk_mingw64_compile | dpdk_compile_spdk | dpdk_compile_ovs | +===============================+====================+===================+=========================+======================+===================+==================+ | FreeBSD 14.2 | PASS | SKIPPED | SKIPPED | SKIPPED | SKIPPED | SKIPPED | +-------------------------------+--------------------+-------------------+-------------------------+----------------------+-------------------+------------------+ | Ubuntu 20.04 | PASS | SKIPPED | SKIPPED | SKIPPED | SKIPPED | SKIPPED | +-------------------------------+--------------------+-------------------+-------------------------+----------------------+-------------------+------------------+ | CentOS Stream 9 | PASS | SKIPPED | SKIPPED | SKIPPED | PASS | SKIPPED | +-------------------------------+--------------------+-------------------+-------------------------+----------------------+-------------------+------------------+ | CentOS Stream 10 | PASS | SKIPPED | SKIPPED | SKIPPED | SKIPPED | SKIPPED | +-------------------------------+--------------------+-------------------+-------------------------+----------------------+-------------------+------------------+ | Debian GNU/Linux 12 | PASS | SKIPPED | SKIPPED | SKIPPED | PASS | SKIPPED | +-------------------------------+--------------------+-------------------+-------------------------+----------------------+-------------------+------------------+ | Fedora Linux 40 | PASS | SKIPPED | SKIPPED | SKIPPED | PASS | SKIPPED | +-------------------------------+--------------------+-------------------+-------------------------+----------------------+-------------------+------------------+ | Fedora Linux 41 | PASS | SKIPPED | SKIPPED | SKIPPED | PASS | PASS | +-------------------------------+--------------------+-------------------+-------------------------+----------------------+-------------------+------------------+ | openSUSE Leap 15.6 | PASS | SKIPPED | SKIPPED | SKIPPED | SKIPPED | SKIPPED | +-------------------------------+--------------------+-------------------+-------------------------+----------------------+-------------------+------------------+ | Red Hat Enterprise Linux 8.10 | PASS | SKIPPED | SKIPPED | SKIPPED | SKIPPED | SKIPPED | +-------------------------------+--------------------+-------------------+-------------------------+----------------------+-------------------+------------------+ | Red Hat Enterprise Linux 9.5 | PASS | SKIPPED | SKIPPED | SKIPPED | SKIPPED | SKIPPED | +-------------------------------+--------------------+-------------------+-------------------------+----------------------+-------------------+------------------+ | Ubuntu 22.04 | PASS | SKIPPED | SKIPPED | SKIPPED | PASS | SKIPPED | +-------------------------------+--------------------+-------------------+-------------------------+----------------------+-------------------+------------------+ | Ubuntu 24.04 | PEND | SKIPPED | SKIPPED | SKIPPED | PASS | PASS | +-------------------------------+--------------------+-------------------+-------------------------+----------------------+-------------------+------------------+ | Alpine Linux 3.22.0 | PASS | SKIPPED | SKIPPED | SKIPPED | SKIPPED | SKIPPED | +-------------------------------+--------------------+-------------------+-------------------------+----------------------+-------------------+------------------+ | Windows Server 2022 | SKIPPED | PASS | PASS | PASS | SKIPPED | SKIPPED | +-------------------------------+--------------------+-------------------+-------------------------+----------------------+-------------------+------------------+ FreeBSD 14.2 Kernel: 14.2-RELEASE Compiler: clang 18.1.6 Ubuntu 20.04 Kernel: 4.19 Compiler: gcc gcc (Ubuntu 9.4.0-1ubuntu1~20.04.2) 9.4.0 CentOS Stream 9 Kernel: 5.15 Compiler: gcc gcc (GCC) 11.5.0 20240719 (Red Hat 11.5.0-7) CentOS Stream 10 Kernel: 5.15 Compiler: gcc gcc (GCC) 14.2.1 20250110 (Red Hat 14.2.1-8) Debian GNU/Linux 12 Kernel: 5.15 Compiler: gcc gcc (Debian 12.2.0-14+deb12u1) 12.2.0 Fedora Linux 40 Kernel: 5.15 Compiler: clang gcc (GCC) 14.2.1 20240912 (Red Hat 14.2.1-3) Fedora Linux 41 Kernel: 5.15 Compiler: clang gcc (GCC) 14.3.1 20250523 (Red Hat 14.3.1-1) openSUSE Leap 15.6 Kernel: 5.15 Compiler: gcc gcc (SUSE Linux) 7.5.0 Red Hat Enterprise Linux 8.10 Kernel: 5.15 Compiler: gcc gcc (GCC) 8.5.0 20210514 (Red Hat 8.5.0-22) Red Hat Enterprise Linux 9.5 Kernel: 5.15 Compiler: gcc gcc (GCC) 11.5.0 20240719 (Red Hat 11.5.0-2) Ubuntu 22.04 Kernel: 5.15 Compiler: gcc gcc (Ubuntu 11.4.0-1ubuntu1~22.04) 11.4.0 Ubuntu 24.04 Kernel: 5.15 Compiler: gcc gcc (Ubuntu 13.3.0-6ubuntu2~24.04) 13.3.0 Alpine Linux 3.22.0 Kernel: 5.15 Compiler: gcc gcc (Alpine 14.2.0) 14.2.0 Windows Server 2022 Kernel: 10.0.20348.2031 Compiler: clang 15.0.7, gcc 14.1.0 (MinGW), and MSVC VS 19.39.33521 To view detailed results, visit: https://lab.dpdk.org/results/dashboard/patchsets/33556/ UNH-IOL DPDK Community Lab To manage your email subscriptions, visit: https://lab.dpdk.org/results/dashboard/preferences/subscriptions/