From mboxrd@z Thu Jan 1 00:00:00 1970 Return-Path: Received: from mails.dpdk.org (mails.dpdk.org [217.70.189.124]) by inbox.dpdk.org (Postfix) with ESMTP id BE63046AA1 for ; Wed, 2 Jul 2025 02:04:27 +0200 (CEST) Received: from mails.dpdk.org (localhost [127.0.0.1]) by mails.dpdk.org (Postfix) with ESMTP id A297B40264; Wed, 2 Jul 2025 02:04:27 +0200 (CEST) Received: from mail-il1-f228.google.com (mail-il1-f228.google.com [209.85.166.228]) by mails.dpdk.org (Postfix) with ESMTP id 1B99840264 for ; Wed, 2 Jul 2025 02:04:26 +0200 (CEST) Received: by mail-il1-f228.google.com with SMTP id e9e14a558f8ab-3df34b727dcso59861665ab.2 for ; Tue, 01 Jul 2025 17:04:26 -0700 (PDT) DKIM-Signature: v=1; a=rsa-sha256; c=relaxed/relaxed; d=iol.unh.edu; s=unh-iol; t=1751414665; x=1752019465; darn=dpdk.org; h=references:in-reply-to:cc:to:from:subject:message-id:date:from:to :cc:subject:date:message-id:reply-to; bh=7n/YJwUnFwrxDar9cyV3djeCMFR4x+qK+F3YnFe9PBE=; b=GkRGeMIw7ORChG2j4rCRjTLNUdXRgilNQXgrgtKVofLWZZ2iBvO7C3PZaj45XHXzAM WrF0TTOX7pp2rGtm4cBdwE7aEZqrBAl5vgZRvYxFBUlzwm3bDT3Ea/0JxcmryKBBAU1W b5wkuvNpm5LJSEmBUoipnAqeQIhqGVm47aeJ8= X-Google-DKIM-Signature: v=1; a=rsa-sha256; c=relaxed/relaxed; d=1e100.net; s=20230601; t=1751414665; x=1752019465; h=references:in-reply-to:cc:to:from:subject:message-id:date :x-gm-message-state:from:to:cc:subject:date:message-id:reply-to; bh=7n/YJwUnFwrxDar9cyV3djeCMFR4x+qK+F3YnFe9PBE=; b=BQWPCaTFp5qTRMvhMCj3ICQkXXsH9IB92BpGk7ngLdQ1sy9QGD2VUXwJY+OadvWwK8 MoY1m3OfIgGR5HmByx4Ukz3RtcbiIpsCt3Po5EGtmRXMNuZp7MaSufRALda4JONQzLs9 nyctI7UxuBo6qHzikpTdDioSycLgxoUDg8KGqzKL4Ay8vIiBJ5IoP9MU5Q6DfYFbdYqH 91of/MiVATE++RpwM7wkyBPP9kCVBq8POmW8n3ihzxCX+kFk/sV/wtRvnHhPmK/6KyJ9 nHTIQ9in+wghH+Fm74ObCCwnlJV9UsYjVS56VuDE/hdwZKXO2WSlHH9B6C7gQ5aUqH7/ kDEQ== X-Gm-Message-State: AOJu0YwWJEB98Vxvu+PsEYDhZjgPUh5ua5iKbcKiPCS62ZfsQ6pRa1JS M3nBqPoC1RuY+SSlrH90bhsywi1R9xOoGZRvzSVly3o/9s5Q6hhUBEubwN78fpnidukpDC8a0Ro Ng5WaFdCk0xsoX83/MkWAF80Or6Ne9LENvOTOtn7oDajq X-Gm-Gg: ASbGncsyYXy4/Mo3Jn3Sn5PVgMYDii6zX5IOeGF2DQhNYr/PtDxA64U/XnEog2M1v6z VQH8SJWaY+aTJ6BBvVTvcE2fCb/Li3Lz60giY6LBTi+sewr4SeMMxsMc64yHAWqC4zZRDtlnmO0 CY1OHPNi6YlPlEjWFZ5ZgGB/pHoIUsc9wpzEovUYUgSNpHkPDd783U3qgho2Pqcn0X3UIYOjtDQ MVSStGMdMgW39wXdG895RuXboOQWsJ9F1VPjvlY0MD1C1eimPH5L3x+YjVaT0J9D6n3o2UjzAc0 Aq2j14QbMPLB+pGGfi+aYmeXuxuj7AtVQLOUenRuLGp6+c5CqJBLLQigY+vrzhGD5df27g== X-Google-Smtp-Source: AGHT+IFJBc9yv4k5Nrv6eC2sAH2676Co6TXx4L4OkAo/H2VHSs67LecaxVPhfdmftGOJu778vuTHIYXa6qaY X-Received: by 2002:a05:6e02:3f0c:b0:3e0:5073:acc5 with SMTP id e9e14a558f8ab-3e05495c650mr11772525ab.6.1751414665280; Tue, 01 Jul 2025 17:04:25 -0700 (PDT) Received: from postal.iol.unh.edu (postal.iol.unh.edu. [132.177.123.84]) by smtp-relay.gmail.com with ESMTPS id e9e14a558f8ab-3df49fffcb1sm6661455ab.9.2025.07.01.17.04.25 (version=TLS1_2 cipher=ECDHE-ECDSA-AES128-GCM-SHA256 bits=128/128); Tue, 01 Jul 2025 17:04:25 -0700 (PDT) X-Relaying-Domain: iol.unh.edu Date: Tue, 01 Jul 2025 17:04:25 -0700 (PDT) Message-ID: <68647789.050a0220.f6c9.43c1SMTPIN_ADDED_MISSING@mx.google.com> Received: from [172.17.0.2] (unknown [172.18.0.76]) by postal.iol.unh.edu (Postfix) with ESMTP id B67636051830; Tue, 1 Jul 2025 20:04:24 -0400 (EDT) Subject: |WARNING| pw154913 [PATCH] test/event: disable vector adapter test From: dpdklab@iol.unh.edu To: Test Report Cc: dpdk-test-reports@iol.unh.edu In-Reply-To: <20250701131524.2493132-1-thomas@monjalon.net> References: <20250701131524.2493132-1-thomas@monjalon.net> Content-Type: text/plain X-BeenThere: test-report@dpdk.org X-Mailman-Version: 2.1.29 Precedence: list List-Id: automatic DPDK test reports List-Unsubscribe: , List-Archive: List-Post: List-Help: List-Subscribe: , Errors-To: test-report-bounces@dpdk.org Test-Label: iol-compile-amd64-testing Test-Status: WARNING http://dpdk.org/patch/154913 _Testing issues_ Submitter: Thomas Monjalon Date: Tuesday, July 01 2025 13:15:24 DPDK git baseline: Repo:dpdk Branch: master CommitID:20460dcffd08a4680f881c39916ae783ee830374 154913 --> testing issues Upstream job id: Generic-DPDK-Compile-Meson#404339 Test environment and result as below: +-------------------------------+--------------------+-------------------+-------------------------+----------------------+-------------------+------------------+ | Environment | dpdk_meson_compile | dpdk_msvc_compile | dpdk_llvm_clang_compile | dpdk_mingw64_compile | dpdk_compile_spdk | dpdk_compile_ovs | +===============================+====================+===================+=========================+======================+===================+==================+ | Ubuntu 20.04 | PASS | SKIPPED | SKIPPED | SKIPPED | SKIPPED | SKIPPED | +-------------------------------+--------------------+-------------------+-------------------------+----------------------+-------------------+------------------+ | FreeBSD 14.2 | PASS | SKIPPED | SKIPPED | SKIPPED | SKIPPED | SKIPPED | +-------------------------------+--------------------+-------------------+-------------------------+----------------------+-------------------+------------------+ | CentOS Stream 9 | PASS | SKIPPED | SKIPPED | SKIPPED | PASS | SKIPPED | +-------------------------------+--------------------+-------------------+-------------------------+----------------------+-------------------+------------------+ | CentOS Stream 10 | PASS | SKIPPED | SKIPPED | SKIPPED | SKIPPED | SKIPPED | +-------------------------------+--------------------+-------------------+-------------------------+----------------------+-------------------+------------------+ | Debian GNU/Linux 12 | PASS | SKIPPED | SKIPPED | SKIPPED | PASS | SKIPPED | +-------------------------------+--------------------+-------------------+-------------------------+----------------------+-------------------+------------------+ | Fedora Linux 40 | PASS | SKIPPED | SKIPPED | SKIPPED | PASS | SKIPPED | +-------------------------------+--------------------+-------------------+-------------------------+----------------------+-------------------+------------------+ | Fedora Linux 41 | PASS | SKIPPED | SKIPPED | SKIPPED | PASS | PASS | +-------------------------------+--------------------+-------------------+-------------------------+----------------------+-------------------+------------------+ | openSUSE Leap 15.6 | PASS | SKIPPED | SKIPPED | SKIPPED | SKIPPED | SKIPPED | +-------------------------------+--------------------+-------------------+-------------------------+----------------------+-------------------+------------------+ | Red Hat Enterprise Linux 8.10 | PASS | SKIPPED | SKIPPED | SKIPPED | SKIPPED | SKIPPED | +-------------------------------+--------------------+-------------------+-------------------------+----------------------+-------------------+------------------+ | Red Hat Enterprise Linux 9.5 | PASS | SKIPPED | SKIPPED | SKIPPED | SKIPPED | SKIPPED | +-------------------------------+--------------------+-------------------+-------------------------+----------------------+-------------------+------------------+ | Ubuntu 22.04 | PASS | SKIPPED | SKIPPED | SKIPPED | PASS | SKIPPED | +-------------------------------+--------------------+-------------------+-------------------------+----------------------+-------------------+------------------+ | Ubuntu 24.04 | PASS | SKIPPED | SKIPPED | SKIPPED | PASS | PASS | +-------------------------------+--------------------+-------------------+-------------------------+----------------------+-------------------+------------------+ | Alpine Linux 3.22.0 | PASS | SKIPPED | SKIPPED | SKIPPED | SKIPPED | SKIPPED | +-------------------------------+--------------------+-------------------+-------------------------+----------------------+-------------------+------------------+ | Windows Server 2022 | SKIPPED | PASS | PASS | PASS | SKIPPED | SKIPPED | +-------------------------------+--------------------+-------------------+-------------------------+----------------------+-------------------+------------------+ Ubuntu 20.04 Kernel: 4.19 Compiler: gcc gcc (Ubuntu 9.4.0-1ubuntu1~20.04.2) 9.4.0 FreeBSD 14.2 Kernel: 14.2-RELEASE Compiler: clang 18.1.6 CentOS Stream 9 Kernel: 5.15 Compiler: gcc gcc (GCC) 11.5.0 20240719 (Red Hat 11.5.0-7) CentOS Stream 10 Kernel: 5.15 Compiler: gcc gcc (GCC) 14.2.1 20250110 (Red Hat 14.2.1-8) Debian GNU/Linux 12 Kernel: 5.15 Compiler: gcc gcc (Debian 12.2.0-14+deb12u1) 12.2.0 Fedora Linux 40 Kernel: 5.15 Compiler: clang gcc (GCC) 14.2.1 20240912 (Red Hat 14.2.1-3) Fedora Linux 41 Kernel: 5.15 Compiler: clang gcc (GCC) 14.3.1 20250523 (Red Hat 14.3.1-1) openSUSE Leap 15.6 Kernel: 5.15 Compiler: gcc gcc (SUSE Linux) 7.5.0 Red Hat Enterprise Linux 8.10 Kernel: 5.15 Compiler: gcc gcc (GCC) 8.5.0 20210514 (Red Hat 8.5.0-22) Red Hat Enterprise Linux 9.5 Kernel: 5.15 Compiler: gcc gcc (GCC) 11.5.0 20240719 (Red Hat 11.5.0-2) Ubuntu 22.04 Kernel: 5.15 Compiler: gcc gcc (Ubuntu 11.4.0-1ubuntu1~22.04) 11.4.0 Ubuntu 24.04 Kernel: 5.15 Compiler: gcc gcc (Ubuntu 13.3.0-6ubuntu2~24.04) 13.3.0 Alpine Linux 3.22.0 Kernel: 5.15 Compiler: gcc gcc (Alpine 14.2.0) 14.2.0 Windows Server 2022 Kernel: 10.0.20348.2031 Compiler: clang 15.0.7, gcc 14.1.0 (MinGW), and MSVC VS 19.39.33521 To view detailed results, visit: https://lab.dpdk.org/results/dashboard/patchsets/33556/ UNH-IOL DPDK Community Lab To manage your email subscriptions, visit: https://lab.dpdk.org/results/dashboard/preferences/subscriptions/