From mboxrd@z Thu Jan 1 00:00:00 1970 Return-Path: Received: from mails.dpdk.org (mails.dpdk.org [217.70.189.124]) by inbox.dpdk.org (Postfix) with ESMTP id 1047046AA1 for ; Wed, 2 Jul 2025 02:06:54 +0200 (CEST) Received: from mails.dpdk.org (localhost [127.0.0.1]) by mails.dpdk.org (Postfix) with ESMTP id 0ABBF40264; Wed, 2 Jul 2025 02:06:54 +0200 (CEST) Received: from mail-yw1-f226.google.com (mail-yw1-f226.google.com [209.85.128.226]) by mails.dpdk.org (Postfix) with ESMTP id 8BB4440264 for ; Wed, 2 Jul 2025 02:06:52 +0200 (CEST) Received: by mail-yw1-f226.google.com with SMTP id 00721157ae682-70e4043c5b7so38308547b3.1 for ; Tue, 01 Jul 2025 17:06:52 -0700 (PDT) DKIM-Signature: v=1; a=rsa-sha256; c=relaxed/relaxed; d=iol.unh.edu; s=unh-iol; t=1751414812; x=1752019612; darn=dpdk.org; h=references:in-reply-to:cc:to:from:subject:message-id:date:from:to :cc:subject:date:message-id:reply-to; bh=DXbPlKzes37/wa+KHdxVSrj87uVb2iu520KiM2YOEQg=; b=Zvy3oCeJCTiCI7VxBT01qrWNcQS6H1wpXGPlgaf5m9qSwtfVyJ64n9A7jBrdHW5r/4 WjEOYT0khe7vxqa75n906GVbRjZQ5G4MdiB08soAGqD5/5VrTG0JB284hoVv1nxRYyDP grtGJG7f8CHwq6Sq568G7MFciNy9md8fGYRvE= X-Google-DKIM-Signature: v=1; a=rsa-sha256; c=relaxed/relaxed; d=1e100.net; s=20230601; t=1751414812; x=1752019612; h=references:in-reply-to:cc:to:from:subject:message-id:date :x-gm-message-state:from:to:cc:subject:date:message-id:reply-to; bh=DXbPlKzes37/wa+KHdxVSrj87uVb2iu520KiM2YOEQg=; b=rlgQU7LvTCHMuX7GKLx7Rk+aNPrkjDVzbchCJD1/Zt7pe3oUBJqVm2xBvfjvewhTXz lpPLC6Y25gf2pQnPhUfS9sMWYjawwDjRNTo2CRl01ooWBEyTpXbTWwQx1iZ8fJ6hictt sPxJcrhsWoz3S6KU8g3Ic6Prx+rBeFQ+Qb7thqdkZ3fcSkdkFcCKRGJcKNSbyGpwsg5v lBYUreEbY/K+0qQXB1lzDyBhKIJfgyte0BvcTc+6c2wJu9FOUJcNsxqXjpfaHzfk7uxK WSBehps1cqcBL6MllqhqnqS5ti20Ns11MbjdX7Yvs1nMFH68J7QMxQh7W/PR1/7LeKtW Isfw== X-Gm-Message-State: AOJu0YyygAuNoGyuqSheXY2JaJxN2z9Qqlqc3/DTp4vDQMkqWdHnMZIr 9cXbU05GiJcutWg0aAz2eFgH45vK8Q1eQxbDGDPS3iH4K7Kcw148ty0/FI6+SQYCbhQlRPJmcLm YS5+7toihJpld3I665kBEXwgdIIyZKVqPCtRjYs3z23TX X-Gm-Gg: ASbGncsMPE4O2NGFp8XXbi0yS0Ar1sdVMtAcgSJE2o++X0ZYSD5O1bGQ+k7A7FLDdzD aeLnsIdNIBaIi8IC2qwUlTHBfciFpg9IhC0eghfewluSo9BCqfxEV6RUY6WL51CygntC/TXEblT 3xuQPrd49i1fk8U+CpBP7qfHLL4VffGBSSHDGxljC9X965a0p8zGQvmMxnUlZmWVzoqYS3cIvfI SyIe13aYYdEMFU5VEakFCziOCRWWM+tKe/2ZagDOdBfFbJOoS1hxvdT/IrL+de6BfqRL070hLGB seMI86gFGCG5TE1LlGDeKQ1+sd+az4aXsoQjOgMaRkWCsWxW9h8sxHLuK/FL3BkX0Al8kw== X-Google-Smtp-Source: AGHT+IHnQvACQT8f4+WCYYlIc7x4MaCz2gD6Uc3HLL5Do2Nfy4VVyrLbqBvRbiCcP6kWiMWjw8ggFPI6r/cp X-Received: by 2002:a05:690c:3809:b0:6fb:9280:5bf4 with SMTP id 00721157ae682-7164d46a3bamr10459767b3.30.1751414811745; Tue, 01 Jul 2025 17:06:51 -0700 (PDT) Received: from postal.iol.unh.edu (postal.iol.unh.edu. [132.177.123.84]) by smtp-relay.gmail.com with ESMTPS id 00721157ae682-7164e81a8b2sm58577b3.26.2025.07.01.17.06.51 (version=TLS1_2 cipher=ECDHE-ECDSA-AES128-GCM-SHA256 bits=128/128); Tue, 01 Jul 2025 17:06:51 -0700 (PDT) X-Relaying-Domain: iol.unh.edu Date: Tue, 01 Jul 2025 17:06:51 -0700 (PDT) Message-ID: <6864781b.050a0220.18b79.0555SMTPIN_ADDED_MISSING@mx.google.com> Received: from [172.17.0.4] (unknown [172.18.0.74]) by postal.iol.unh.edu (Postfix) with ESMTP id 622416051830; Tue, 1 Jul 2025 20:06:51 -0400 (EDT) Subject: |WARNING| pw154913 [PATCH] test/event: disable vector adapter test From: dpdklab@iol.unh.edu To: Test Report Cc: dpdk-test-reports@iol.unh.edu In-Reply-To: <20250701131524.2493132-1-thomas@monjalon.net> References: <20250701131524.2493132-1-thomas@monjalon.net> Content-Type: text/plain X-BeenThere: test-report@dpdk.org X-Mailman-Version: 2.1.29 Precedence: list List-Id: automatic DPDK test reports List-Unsubscribe: , List-Archive: List-Post: List-Help: List-Subscribe: , Errors-To: test-report-bounces@dpdk.org Test-Label: iol-compile-amd64-testing Test-Status: WARNING http://dpdk.org/patch/154913 _Testing issues_ Submitter: Thomas Monjalon Date: Tuesday, July 01 2025 13:15:24 DPDK git baseline: Repo:dpdk Branch: master CommitID:20460dcffd08a4680f881c39916ae783ee830374 154913 --> testing issues Upstream job id: Generic-DPDK-Compile-Meson#404349 Test environment and result as below: +-------------------------------+--------------------+-------------------+-------------------------+----------------------+-------------------+------------------+ | Environment | dpdk_meson_compile | dpdk_msvc_compile | dpdk_llvm_clang_compile | dpdk_mingw64_compile | dpdk_compile_spdk | dpdk_compile_ovs | +===============================+====================+===================+=========================+======================+===================+==================+ | Ubuntu 20.04 | PASS | SKIPPED | SKIPPED | SKIPPED | SKIPPED | SKIPPED | +-------------------------------+--------------------+-------------------+-------------------------+----------------------+-------------------+------------------+ | FreeBSD 14.2 | PASS | SKIPPED | SKIPPED | SKIPPED | SKIPPED | SKIPPED | +-------------------------------+--------------------+-------------------+-------------------------+----------------------+-------------------+------------------+ | CentOS Stream 9 | PASS | SKIPPED | SKIPPED | SKIPPED | PASS | SKIPPED | +-------------------------------+--------------------+-------------------+-------------------------+----------------------+-------------------+------------------+ | CentOS Stream 10 | PASS | SKIPPED | SKIPPED | SKIPPED | SKIPPED | SKIPPED | +-------------------------------+--------------------+-------------------+-------------------------+----------------------+-------------------+------------------+ | Debian GNU/Linux 12 | PASS | SKIPPED | SKIPPED | SKIPPED | PASS | SKIPPED | +-------------------------------+--------------------+-------------------+-------------------------+----------------------+-------------------+------------------+ | Fedora Linux 40 | PASS | SKIPPED | SKIPPED | SKIPPED | PASS | SKIPPED | +-------------------------------+--------------------+-------------------+-------------------------+----------------------+-------------------+------------------+ | Fedora Linux 41 | PASS | SKIPPED | SKIPPED | SKIPPED | PASS | PASS | +-------------------------------+--------------------+-------------------+-------------------------+----------------------+-------------------+------------------+ | openSUSE Leap 15.6 | PASS | SKIPPED | SKIPPED | SKIPPED | SKIPPED | SKIPPED | +-------------------------------+--------------------+-------------------+-------------------------+----------------------+-------------------+------------------+ | Red Hat Enterprise Linux 8.10 | PASS | SKIPPED | SKIPPED | SKIPPED | SKIPPED | SKIPPED | +-------------------------------+--------------------+-------------------+-------------------------+----------------------+-------------------+------------------+ | Red Hat Enterprise Linux 9.5 | PASS | SKIPPED | SKIPPED | SKIPPED | SKIPPED | SKIPPED | +-------------------------------+--------------------+-------------------+-------------------------+----------------------+-------------------+------------------+ | Ubuntu 22.04 | PASS | SKIPPED | SKIPPED | SKIPPED | PASS | SKIPPED | +-------------------------------+--------------------+-------------------+-------------------------+----------------------+-------------------+------------------+ | Ubuntu 24.04 | PASS | SKIPPED | SKIPPED | SKIPPED | PASS | PASS | +-------------------------------+--------------------+-------------------+-------------------------+----------------------+-------------------+------------------+ | Alpine Linux 3.22.0 | PASS | SKIPPED | SKIPPED | SKIPPED | SKIPPED | SKIPPED | +-------------------------------+--------------------+-------------------+-------------------------+----------------------+-------------------+------------------+ | Windows Server 2022 | SKIPPED | PASS | PASS | PASS | SKIPPED | SKIPPED | +-------------------------------+--------------------+-------------------+-------------------------+----------------------+-------------------+------------------+ Ubuntu 20.04 Kernel: 4.19 Compiler: gcc gcc (Ubuntu 9.4.0-1ubuntu1~20.04.2) 9.4.0 FreeBSD 14.2 Kernel: 14.2-RELEASE Compiler: clang 18.1.6 CentOS Stream 9 Kernel: 5.15 Compiler: gcc gcc (GCC) 11.5.0 20240719 (Red Hat 11.5.0-7) CentOS Stream 10 Kernel: 5.15 Compiler: gcc gcc (GCC) 14.2.1 20250110 (Red Hat 14.2.1-8) Debian GNU/Linux 12 Kernel: 5.15 Compiler: gcc gcc (Debian 12.2.0-14+deb12u1) 12.2.0 Fedora Linux 40 Kernel: 5.15 Compiler: clang gcc (GCC) 14.2.1 20240912 (Red Hat 14.2.1-3) Fedora Linux 41 Kernel: 5.15 Compiler: clang gcc (GCC) 14.3.1 20250523 (Red Hat 14.3.1-1) openSUSE Leap 15.6 Kernel: 5.15 Compiler: gcc gcc (SUSE Linux) 7.5.0 Red Hat Enterprise Linux 8.10 Kernel: 5.15 Compiler: gcc gcc (GCC) 8.5.0 20210514 (Red Hat 8.5.0-22) Red Hat Enterprise Linux 9.5 Kernel: 5.15 Compiler: gcc gcc (GCC) 11.5.0 20240719 (Red Hat 11.5.0-2) Ubuntu 22.04 Kernel: 5.15 Compiler: gcc gcc (Ubuntu 11.4.0-1ubuntu1~22.04) 11.4.0 Ubuntu 24.04 Kernel: 5.15 Compiler: gcc gcc (Ubuntu 13.3.0-6ubuntu2~24.04) 13.3.0 Alpine Linux 3.22.0 Kernel: 5.15 Compiler: gcc gcc (Alpine 14.2.0) 14.2.0 Windows Server 2022 Kernel: 10.0.20348.2031 Compiler: clang 15.0.7, gcc 14.1.0 (MinGW), and MSVC VS 19.39.33521 To view detailed results, visit: https://lab.dpdk.org/results/dashboard/patchsets/33556/ UNH-IOL DPDK Community Lab To manage your email subscriptions, visit: https://lab.dpdk.org/results/dashboard/preferences/subscriptions/