From mboxrd@z Thu Jan 1 00:00:00 1970 Return-Path: Received: from mails.dpdk.org (mails.dpdk.org [217.70.189.124]) by inbox.dpdk.org (Postfix) with ESMTP id 1F29D46AA1 for ; Wed, 2 Jul 2025 02:07:02 +0200 (CEST) Received: from mails.dpdk.org (localhost [127.0.0.1]) by mails.dpdk.org (Postfix) with ESMTP id 16BF840264; Wed, 2 Jul 2025 02:07:02 +0200 (CEST) Received: from mail-qk1-f228.google.com (mail-qk1-f228.google.com [209.85.222.228]) by mails.dpdk.org (Postfix) with ESMTP id 3E43E40264 for ; Wed, 2 Jul 2025 02:07:00 +0200 (CEST) Received: by mail-qk1-f228.google.com with SMTP id af79cd13be357-7d41cd4114aso1085271985a.2 for ; Tue, 01 Jul 2025 17:07:00 -0700 (PDT) DKIM-Signature: v=1; a=rsa-sha256; c=relaxed/relaxed; d=iol.unh.edu; s=unh-iol; t=1751414819; x=1752019619; darn=dpdk.org; h=references:in-reply-to:cc:to:from:subject:message-id:date:from:to :cc:subject:date:message-id:reply-to; bh=w6V9WQBUMXDZ5vQRMtC9cVGd/e3DQ34+ILTp7i10pyQ=; b=NNh3y5gqO0NGkH7UeMx5YkQDx54T2M5/PuO8RXkBO6tE2kOR767LD4Bt7rrGZEFPSt ZGHQXZyufEEM+58qEM1wQsPjLkiZa6efoQw2vQKIuSI2g1npydW1wXOPD2BJtwToDixw +pZZ8DBF2r88Z8DL3+KciKbi0Z9R8xmyFROf4= X-Google-DKIM-Signature: v=1; a=rsa-sha256; c=relaxed/relaxed; d=1e100.net; s=20230601; t=1751414819; x=1752019619; h=references:in-reply-to:cc:to:from:subject:message-id:date :x-gm-message-state:from:to:cc:subject:date:message-id:reply-to; bh=w6V9WQBUMXDZ5vQRMtC9cVGd/e3DQ34+ILTp7i10pyQ=; b=ootYiw6dxOFnRL7pWrhdAoFG30IfkoM0DVO6iG9hwVfVZwU3sW+xAf/sYzTNfr3Mbw Sx0hIOPrQYrEiG4RRYmSCrTA0PzuhOTapt5w8LVYgmxKOobYE9z5aHOJBCTRf88he3Ms ykmRcUhtklw7fFGKjr8eiVK131/9jEtkF4AoJ++/AYZjL9vd9bRa/rMAmZSkjYQ/hxQf 2zd45lPIZwTShL4hj49o4AwtnmKJ9ff2XiD4ED1EqVYERZ2WgSHvY8MCVAiAh22c/iLG VXE6z1AnK1Pwbj9ysichZpi/V7nOv9in457XLWLOOoyZtLvF/zZpIwGgA4HQMhIZrcCo pbNQ== X-Gm-Message-State: AOJu0YyFo4iAuxnvmPHOSvhxs4g36PcxgF9vgmJnLe1Qevw5iqaIBTQG Hc6EuSssedbRd1q3nhxusS8xDaM/Tn3cdaNe0xHT5QK56RyejaTs+AkYOrMk9OrtM1ufFmDbEoG Mtjvz54UveO4lNoH4SpDxJF1vZs4unWIvroa3ROptB7dD X-Gm-Gg: ASbGncsp8TGaKPxIYoTYiE1fpzPREro0nRt2vlgPL3YjUUr7Oh8VMIxE1pkyoA1JkOz d71EBgupwzjOuqYlwvNqIC7ZmY3mI51xWB4jVN5ONyZ+t4IEoz+E4cLkJ60NUE487EJlre7VRq3 dpl1GJCgvNsoVsNdGl+KfmOLLlu1BLAhCRtKeBi+3cUqHhcROlhrtpuUqd8tqTQOYik4Sqb6WpM DDbnDMPVpc+1gBA5jT4XDGqAXTaVW3q4MtgqpkHR61CBBJHRa4F9Itl9xFIc0zvjwi4ivbTZ309 DI0LV5rCNmjRigBVFy03dPgTw7IKZgoYx0H2bVv1WGufKPoJYoWvJtcKtMa6sD5YU2MpNA== X-Google-Smtp-Source: AGHT+IGOLHrzTuNCvgtByxk+MqxtVtVsTuA7zLDKWmsCtTTQ3k6mnTwJkXM2bw6ytSehdIBIJgb8cSgsxbNh X-Received: by 2002:a05:620a:390f:b0:7d0:a0f4:4440 with SMTP id af79cd13be357-7d5c47352b9mr154318585a.45.1751414819438; Tue, 01 Jul 2025 17:06:59 -0700 (PDT) Received: from postal.iol.unh.edu (postal.iol.unh.edu. [132.177.123.84]) by smtp-relay.gmail.com with ESMTPS id 6a1803df08f44-700e2443b7bsm3762976d6.1.2025.07.01.17.06.59 (version=TLS1_2 cipher=ECDHE-ECDSA-AES128-GCM-SHA256 bits=128/128); Tue, 01 Jul 2025 17:06:59 -0700 (PDT) X-Relaying-Domain: iol.unh.edu Date: Tue, 01 Jul 2025 17:06:59 -0700 (PDT) Message-ID: <68647823.050a0220.32a54d.44ceSMTPIN_ADDED_MISSING@mx.google.com> Received: from [172.17.0.5] (unknown [172.18.0.74]) by postal.iol.unh.edu (Postfix) with ESMTP id 1DDDB6051830; Tue, 1 Jul 2025 20:06:59 -0400 (EDT) Subject: |SUCCESS| pw154863-154879 [PATCH] [V4,18/18] drivers/net: add hinic3 From: dpdklab@iol.unh.edu To: Test Report Cc: dpdk-test-reports@iol.unh.edu In-Reply-To: <20250701014223.2440-19-wff_light@vip.163.com> References: <20250701014223.2440-19-wff_light@vip.163.com> Content-Type: text/plain X-BeenThere: test-report@dpdk.org X-Mailman-Version: 2.1.29 Precedence: list List-Id: automatic DPDK test reports List-Unsubscribe: , List-Archive: List-Post: List-Help: List-Subscribe: , Errors-To: test-report-bounces@dpdk.org Test-Label: iol-compile-arm64-testing Test-Status: SUCCESS http://dpdk.org/patch/154879 _Testing PASS_ Submitter: Feifei Wang Date: Tuesday, July 01 2025 01:42:09 DPDK git baseline: Repo:dpdk Branch: master CommitID:77864da82f25a9e1e43c14b2cba68c2049a3ee3e 154863-154879 --> testing pass Upstream job id: Generic-DPDK-Compile-Meson#404287 Test environment and result as below: +------------------------------+--------------------+ | Environment | dpdk_meson_compile | +==============================+====================+ | Red Hat Enterprise Linux 9.5 | PASS | +------------------------------+--------------------+ | Ubuntu 20.04 | PASS | +------------------------------+--------------------+ | Debian GNU/Linux 12 | PASS | +------------------------------+--------------------+ | Fedora Linux 40 | PASS | +------------------------------+--------------------+ | Fedora Linux 41 | PASS | +------------------------------+--------------------+ | Ubuntu 22.04 | PASS | +------------------------------+--------------------+ | Ubuntu 24.04 | PASS | +------------------------------+--------------------+ | CentOS Stream 9 | PASS | +------------------------------+--------------------+ | CentOS Stream 10 | PASS | +------------------------------+--------------------+ Red Hat Enterprise Linux 9.5 Kernel: 5.4 Compiler: gcc gcc (GCC) 11.5.0 20240719 (Red Hat 11.5.0-2) Ubuntu 20.04 Kernel: 5.15 Compiler: aarch64-linux-gnu-gcc gcc (Ubuntu 9.4.0-1ubuntu1~20.04.2) 9.4.0 Debian GNU/Linux 12 Kernel: 5.4 Compiler: gcc gcc (Debian 12.2.0-14+deb12u1) 12.2.0 Fedora Linux 40 Kernel: 5.4 Compiler: gcc gcc (GCC) 14.2.1 20240912 (Red Hat 14.2.1-3) Fedora Linux 41 Kernel: 5.4 Compiler: clang gcc (GCC) 14.3.1 20250523 (Red Hat 14.3.1-1) Ubuntu 22.04 Kernel: 5.4 Compiler: gcc gcc (Ubuntu 11.4.0-1ubuntu1~22.04) 11.4.0 Ubuntu 24.04 Kernel: 5.4 Compiler: gcc gcc (Ubuntu 13.3.0-6ubuntu2~24.04) 13.3.0 CentOS Stream 9 Kernel: 5.4 Compiler: gcc gcc (GCC) 11.5.0 20240719 (Red Hat 11.5.0-7) CentOS Stream 10 Kernel: 5.4 Compiler: gcc gcc (GCC) 14.2.1 20250110 (Red Hat 14.2.1-8) To view detailed results, visit: https://lab.dpdk.org/results/dashboard/patchsets/33548/ UNH-IOL DPDK Community Lab To manage your email subscriptions, visit: https://lab.dpdk.org/results/dashboard/preferences/subscriptions/