From mboxrd@z Thu Jan 1 00:00:00 1970 Return-Path: Received: from mails.dpdk.org (mails.dpdk.org [217.70.189.124]) by inbox.dpdk.org (Postfix) with ESMTP id 7706846AA1 for ; Wed, 2 Jul 2025 02:09:10 +0200 (CEST) Received: from mails.dpdk.org (localhost [127.0.0.1]) by mails.dpdk.org (Postfix) with ESMTP id 68A3A402A9; Wed, 2 Jul 2025 02:09:10 +0200 (CEST) Received: from mail-il1-f228.google.com (mail-il1-f228.google.com [209.85.166.228]) by mails.dpdk.org (Postfix) with ESMTP id 24AE240298 for ; Wed, 2 Jul 2025 02:09:09 +0200 (CEST) Received: by mail-il1-f228.google.com with SMTP id e9e14a558f8ab-3de2b02c69eso22628885ab.1 for ; Tue, 01 Jul 2025 17:09:09 -0700 (PDT) DKIM-Signature: v=1; a=rsa-sha256; c=relaxed/relaxed; d=iol.unh.edu; s=unh-iol; t=1751414948; x=1752019748; darn=dpdk.org; h=references:in-reply-to:cc:to:from:subject:message-id:date:from:to :cc:subject:date:message-id:reply-to; bh=kIsDS+8XEMKW1Xr8R3Zr6Gkg+cLhQnQo6aL/TI4D13E=; b=Ddfj/1PQE6TFH6yKP1ya9wHAE+q/sAmMpfVc2b2g2rHgyrlBaqpO8RzYm0FxGuStKD KMyfENV3GDKKu6X4QFN24+ay+Wono6SzSBKNYL8vUMuYRyA3RAcMgPm5/DY+i35R2tDd yv3IC0uwlqEa1PHWQFhc6xpUBi/NgcGZvNHeU= X-Google-DKIM-Signature: v=1; a=rsa-sha256; c=relaxed/relaxed; d=1e100.net; s=20230601; t=1751414948; x=1752019748; h=references:in-reply-to:cc:to:from:subject:message-id:date :x-gm-message-state:from:to:cc:subject:date:message-id:reply-to; bh=kIsDS+8XEMKW1Xr8R3Zr6Gkg+cLhQnQo6aL/TI4D13E=; b=hRck6trxaUJNA1ZhLFYz6Jac9jPuVYWduXAnF7OYpnSwnSNmmxKRWvYL5GOUoNuHt8 7hC/5pcTibBjpYrvc1PUQleWQY9Sk6UQItPAP0JaltJXHBD+qKziG2i7zowiNB4fkngL qYohm3GvZ7K9HFJJgQIi+bJOb6dj1JvJ4p0JyrHgmn7pBljI3k8FxLe7xDr9ZaYCxA/W FjakpKqyqaBb/H+8WQz7TWDF7u49MPQP0wOCuLpda+PvuB/iLombLgn1d+wqF/DPAFyC Qeq3y8LCITZ8K54lTIrMayWVmst4QuoTsMYtxtcyd8pEyD+N+y9Kl6m/OV6n2mjzoXG0 v3Dw== X-Gm-Message-State: AOJu0YwiPzko2Tm8vhC7CiFs+OkfMjp0wyvZ14Hg2CGenmBsFUWgZGv8 dd9xkGfQAJfx+vygyzK2cPtFZh0i5JmlCglCxLHQSBltbYsunMCo1f4m2lUMMhe9EeoUYS9d53f ciEsY2ksiyQoDOIVKOxSZ36xrtNXpnm5yk/FWkJmGVBFH X-Gm-Gg: ASbGncsvgUXnS9n0z5raOD8t0dWLYkYdPxaHIFHnI7yYFH9Lo9sDfp0DvZbugByup5P kfiEtBDuENzC7dBpc0y7qupDKunAuN+ORMcXOp3Bgw9EymuXbYQ9GDve7IdKZh6lyPP97J1Jk6r fzJVsCg5YFHKGGY0A8h8xIw++qFzdyjaSts+GLN+dOAud2MVGFh/QS5kiGbrM9VVp99s4uKPZzI gVVzgA59YdgmsefmaY3PN2eCx9Xa9J7mxNAjYsqEaJtI81VyCwBZNTUvIYbmPDdTWlZcQPkNZH3 fMoh4GeI8rq5uvP2LH6PMIQ2TjxdHK8tzvHVAkxW0jFFzfUFMhRynmvAmfzm6UhqskB0Lw== X-Google-Smtp-Source: AGHT+IEPsElhhvNiS0spkB6DuwxBYvLFsU2L5DjtaN5D5UU9Tg5iPvpZEnpudoN3cSxrOwGYtBwxiKySzLht X-Received: by 2002:a05:6e02:b28:b0:3df:4783:e37 with SMTP id e9e14a558f8ab-3e0549f7106mr12591035ab.17.1751414948411; Tue, 01 Jul 2025 17:09:08 -0700 (PDT) Received: from postal.iol.unh.edu (postal.iol.unh.edu. [132.177.123.84]) by smtp-relay.gmail.com with ESMTPS id e9e14a558f8ab-3df4a0be7a7sm6198585ab.54.2025.07.01.17.09.08 (version=TLS1_2 cipher=ECDHE-ECDSA-AES128-GCM-SHA256 bits=128/128); Tue, 01 Jul 2025 17:09:08 -0700 (PDT) X-Relaying-Domain: iol.unh.edu Date: Tue, 01 Jul 2025 17:09:08 -0700 (PDT) Message-ID: <686478a4.050a0220.75953.14fcSMTPIN_ADDED_MISSING@mx.google.com> Received: from [172.17.0.3] (unknown [172.18.0.76]) by postal.iol.unh.edu (Postfix) with ESMTP id 11F5E6051835; Tue, 1 Jul 2025 20:09:08 -0400 (EDT) Subject: |WARNING| pw154915-154919 [PATCH] [5/5] riscv: override machine_args From: dpdklab@iol.unh.edu To: Test Report Cc: dpdk-test-reports@iol.unh.edu In-Reply-To: References: Content-Type: text/plain X-BeenThere: test-report@dpdk.org X-Mailman-Version: 2.1.29 Precedence: list List-Id: automatic DPDK test reports List-Unsubscribe: , List-Archive: List-Post: List-Help: List-Subscribe: , Errors-To: test-report-bounces@dpdk.org Test-Label: iol-compile-amd64-testing Test-Status: WARNING http://dpdk.org/patch/154919 _Testing issues_ Submitter: None Date: Tuesday, July 01 2025 16:13:42 DPDK git baseline: Repo:dpdk Branch: master CommitID:0eb86b4533d40bcd703972421b9a201c02f37f8a 154915-154919 --> testing issues Upstream job id: Generic-DPDK-Compile-Meson#404386 Test environment and result as below: +-------------------------------+--------------------+-------------------+-------------------------+----------------------+-------------------+------------------+ | Environment | dpdk_meson_compile | dpdk_msvc_compile | dpdk_llvm_clang_compile | dpdk_mingw64_compile | dpdk_compile_spdk | dpdk_compile_ovs | +===============================+====================+===================+=========================+======================+===================+==================+ | FreeBSD 14.2 | PASS | SKIPPED | SKIPPED | SKIPPED | SKIPPED | SKIPPED | +-------------------------------+--------------------+-------------------+-------------------------+----------------------+-------------------+------------------+ | Ubuntu 20.04 | PASS | SKIPPED | SKIPPED | SKIPPED | SKIPPED | SKIPPED | +-------------------------------+--------------------+-------------------+-------------------------+----------------------+-------------------+------------------+ | CentOS Stream 9 | PASS | SKIPPED | SKIPPED | SKIPPED | PASS | SKIPPED | +-------------------------------+--------------------+-------------------+-------------------------+----------------------+-------------------+------------------+ | CentOS Stream 10 | PASS | SKIPPED | SKIPPED | SKIPPED | SKIPPED | SKIPPED | +-------------------------------+--------------------+-------------------+-------------------------+----------------------+-------------------+------------------+ | Debian GNU/Linux 12 | PASS | SKIPPED | SKIPPED | SKIPPED | PASS | SKIPPED | +-------------------------------+--------------------+-------------------+-------------------------+----------------------+-------------------+------------------+ | Fedora Linux 40 | PASS | SKIPPED | SKIPPED | SKIPPED | PASS | SKIPPED | +-------------------------------+--------------------+-------------------+-------------------------+----------------------+-------------------+------------------+ | Fedora Linux 41 | PASS | SKIPPED | SKIPPED | SKIPPED | PASS | PASS | +-------------------------------+--------------------+-------------------+-------------------------+----------------------+-------------------+------------------+ | openSUSE Leap 15.6 | PASS | SKIPPED | SKIPPED | SKIPPED | SKIPPED | SKIPPED | +-------------------------------+--------------------+-------------------+-------------------------+----------------------+-------------------+------------------+ | Red Hat Enterprise Linux 8.10 | PASS | SKIPPED | SKIPPED | SKIPPED | SKIPPED | SKIPPED | +-------------------------------+--------------------+-------------------+-------------------------+----------------------+-------------------+------------------+ | Red Hat Enterprise Linux 9.5 | PASS | SKIPPED | SKIPPED | SKIPPED | SKIPPED | SKIPPED | +-------------------------------+--------------------+-------------------+-------------------------+----------------------+-------------------+------------------+ | Ubuntu 22.04 | PASS | SKIPPED | SKIPPED | SKIPPED | PASS | SKIPPED | +-------------------------------+--------------------+-------------------+-------------------------+----------------------+-------------------+------------------+ | Ubuntu 24.04 | PASS | SKIPPED | SKIPPED | SKIPPED | PASS | PASS | +-------------------------------+--------------------+-------------------+-------------------------+----------------------+-------------------+------------------+ | Alpine Linux 3.22.0 | PASS | SKIPPED | SKIPPED | SKIPPED | SKIPPED | SKIPPED | +-------------------------------+--------------------+-------------------+-------------------------+----------------------+-------------------+------------------+ | Windows Server 2022 | SKIPPED | PASS | PASS | PASS | SKIPPED | SKIPPED | +-------------------------------+--------------------+-------------------+-------------------------+----------------------+-------------------+------------------+ FreeBSD 14.2 Kernel: 14.2-RELEASE Compiler: clang 18.1.6 Ubuntu 20.04 Kernel: 4.19 Compiler: gcc gcc (Ubuntu 9.4.0-1ubuntu1~20.04.2) 9.4.0 CentOS Stream 9 Kernel: 5.15 Compiler: gcc gcc (GCC) 11.5.0 20240719 (Red Hat 11.5.0-7) CentOS Stream 10 Kernel: 5.15 Compiler: gcc gcc (GCC) 14.2.1 20250110 (Red Hat 14.2.1-8) Debian GNU/Linux 12 Kernel: 5.15 Compiler: gcc gcc (Debian 12.2.0-14+deb12u1) 12.2.0 Fedora Linux 40 Kernel: 5.15 Compiler: clang gcc (GCC) 14.2.1 20240912 (Red Hat 14.2.1-3) Fedora Linux 41 Kernel: 5.15 Compiler: clang gcc (GCC) 14.3.1 20250523 (Red Hat 14.3.1-1) openSUSE Leap 15.6 Kernel: 5.15 Compiler: gcc gcc (SUSE Linux) 7.5.0 Red Hat Enterprise Linux 8.10 Kernel: 5.15 Compiler: gcc gcc (GCC) 8.5.0 20210514 (Red Hat 8.5.0-22) Red Hat Enterprise Linux 9.5 Kernel: 5.15 Compiler: gcc gcc (GCC) 11.5.0 20240719 (Red Hat 11.5.0-2) Ubuntu 22.04 Kernel: 5.15 Compiler: gcc gcc (Ubuntu 11.4.0-1ubuntu1~22.04) 11.4.0 Ubuntu 24.04 Kernel: 5.15 Compiler: gcc gcc (Ubuntu 13.3.0-6ubuntu2~24.04) 13.3.0 Alpine Linux 3.22.0 Kernel: 5.15 Compiler: gcc gcc (Alpine 14.2.0) 14.2.0 Windows Server 2022 Kernel: 10.0.20348.2031 Compiler: clang 15.0.7, gcc 14.1.0 (MinGW), and MSVC VS 19.39.33521 To view detailed results, visit: https://lab.dpdk.org/results/dashboard/patchsets/33558/ UNH-IOL DPDK Community Lab To manage your email subscriptions, visit: https://lab.dpdk.org/results/dashboard/preferences/subscriptions/