From mboxrd@z Thu Jan 1 00:00:00 1970 Return-Path: Received: from mails.dpdk.org (mails.dpdk.org [217.70.189.124]) by inbox.dpdk.org (Postfix) with ESMTP id 714A246A23 for ; Wed, 2 Jul 2025 02:09:10 +0200 (CEST) Received: from mails.dpdk.org (localhost [127.0.0.1]) by mails.dpdk.org (Postfix) with ESMTP id 5C75640264; Wed, 2 Jul 2025 02:09:10 +0200 (CEST) Received: from mail-yb1-f225.google.com (mail-yb1-f225.google.com [209.85.219.225]) by mails.dpdk.org (Postfix) with ESMTP id E9C4C40264 for ; Wed, 2 Jul 2025 02:09:08 +0200 (CEST) Received: by mail-yb1-f225.google.com with SMTP id 3f1490d57ef6-e82278e3889so4027907276.2 for ; Tue, 01 Jul 2025 17:09:08 -0700 (PDT) DKIM-Signature: v=1; a=rsa-sha256; c=relaxed/relaxed; d=iol.unh.edu; s=unh-iol; t=1751414948; x=1752019748; darn=dpdk.org; h=references:in-reply-to:cc:to:from:subject:message-id:date:from:to :cc:subject:date:message-id:reply-to; bh=3k6HUDA5ut7DYGC7qHLOBY7OAEwMCoipg9zVY7V+4oE=; b=L6eGKAhRS78u3X06ZAqGE9mJ1hf542hm1F934jb8lJ+hZkZyaeBgdhcTGJov9EnUpN 6RgEyGsgY7us4KTz7Fvjmh5c9czag1hXC9BGRujX/9NfUBanqS3gawUa3IHCRFKQwO8+ iTLzYG0NUOajj3UzMZQKmcL+BS3V+M1dLD9dM= X-Google-DKIM-Signature: v=1; a=rsa-sha256; c=relaxed/relaxed; d=1e100.net; s=20230601; t=1751414948; x=1752019748; h=references:in-reply-to:cc:to:from:subject:message-id:date :x-gm-message-state:from:to:cc:subject:date:message-id:reply-to; bh=3k6HUDA5ut7DYGC7qHLOBY7OAEwMCoipg9zVY7V+4oE=; b=Zf3+OcH7voOI9mhVAIApcTGMCQxHIa+DUBz0ucybtIkQfkKgN8XOIk1uPLrZWvLGNG lE2m7X/yO82K138TneW46fxgFpFk2LF0Y5G8x5Fi23hHOCpUT/zWKgjlkjQXCdl6KccF NBeKDSsfeQNhKZ+pViKatgoMUt9lWINqEFuUIyPaX+EqCXodwDMa9Q1dirzBMSoHYMwE +a+w0UzbelHbZOo8x3+7Z+f3ZbSY9nOzSFKe82ve7DFbue2+v+EGPIM/wLQg3CH9jIEx /nr4FKTFcPk/J7YkSvRLhnxlGNsBC+W+eZHpxYg+2yrjISmINssnUlBe4zfMf7mHfs2C htjQ== X-Gm-Message-State: AOJu0YyQmC7ThAwhH9QTOtrvUAYvTYW+201JHN25e27Kfg9ier0usbLG cwsOP7XW8ZPhRrceqJUn+DD3siSJlhz0v+zU9fUSiMD5nNxkG/x3L82+elcXv1s/zTWVzZ28Cg7 Z5T3ELhc7EiynwRTdmkoBJ2ijNfQrPBtt6anHIUDAl51MxsQEO+YL8QQgBZzq X-Gm-Gg: ASbGncuisOhPOdxakvCsm2h3780ytcLNk3Sm7wVcpMjVE8sTuUK662HEgN77GTsSGeh qiuAWs+4wtKJp8aZ/zivC1WGP1M5+ynlpeBEYDDIzrs/LypPyawWAuEmF/hXdExPeZXoiivAmkB J4u56JZEYhKVD4nE2BvwKaf938I/mz+B6e1lU/nb4+IDQqh3G5WoXuxeQvtl3FwnSf5d3hu52qv F/DKzI8JHqxneabnIfKBM+KLyjLbBdm47aB9CE/0meAoipOtWSav8IgVV/1l7l/Ee3xBHgUv8yI 6IFs8w3dArIz3rp/Hty7gMgAdPKBWxfugbvO2nKYnBd8LKA= X-Google-Smtp-Source: AGHT+IHdfwocV8lexViDX3hDgCzgvejnj187zr1h4f8wai+N7kA5u2KswU7bkI7K6o/8VYmJRNG3DVDoI92y X-Received: by 2002:a05:6902:2b11:b0:e86:12d:a91d with SMTP id 3f1490d57ef6-e897e19ff49mr1238954276.3.1751414948222; Tue, 01 Jul 2025 17:09:08 -0700 (PDT) Received: from postal.iol.unh.edu (postal.iol.unh.edu. [2606:4100:3880:1234::84]) by smtp-relay.gmail.com with ESMTPS id 3f1490d57ef6-e87a6bf7387sm556681276.18.2025.07.01.17.09.08 (version=TLS1_2 cipher=ECDHE-ECDSA-AES128-GCM-SHA256 bits=128/128); Tue, 01 Jul 2025 17:09:08 -0700 (PDT) X-Relaying-Domain: iol.unh.edu Date: Tue, 01 Jul 2025 17:09:08 -0700 (PDT) Message-ID: <686478a4.250a0220.42a45.e0ccSMTPIN_ADDED_MISSING@mx.google.com> Received: from [172.17.0.2] (unknown [172.18.0.74]) by postal.iol.unh.edu (Postfix) with ESMTP id DCA036051830; Tue, 1 Jul 2025 20:09:07 -0400 (EDT) Subject: |WARNING| pw154913 [PATCH] test/event: disable vector adapter test From: dpdklab@iol.unh.edu To: Test Report Cc: dpdk-test-reports@iol.unh.edu In-Reply-To: <20250701131524.2493132-1-thomas@monjalon.net> References: <20250701131524.2493132-1-thomas@monjalon.net> Content-Type: text/plain X-BeenThere: test-report@dpdk.org X-Mailman-Version: 2.1.29 Precedence: list List-Id: automatic DPDK test reports List-Unsubscribe: , List-Archive: List-Post: List-Help: List-Subscribe: , Errors-To: test-report-bounces@dpdk.org Test-Label: iol-compile-amd64-testing Test-Status: WARNING http://dpdk.org/patch/154913 _Testing issues_ Submitter: Thomas Monjalon Date: Tuesday, July 01 2025 13:15:24 DPDK git baseline: Repo:dpdk Branch: master CommitID:20460dcffd08a4680f881c39916ae783ee830374 154913 --> testing issues Upstream job id: Generic-DPDK-Compile-Meson#404382 Test environment and result as below: +-------------------------------+--------------------+-------------------+-------------------------+----------------------+-------------------+------------------+ | Environment | dpdk_meson_compile | dpdk_msvc_compile | dpdk_llvm_clang_compile | dpdk_mingw64_compile | dpdk_compile_spdk | dpdk_compile_ovs | +===============================+====================+===================+=========================+======================+===================+==================+ | FreeBSD 14.2 | PASS | SKIPPED | SKIPPED | SKIPPED | SKIPPED | SKIPPED | +-------------------------------+--------------------+-------------------+-------------------------+----------------------+-------------------+------------------+ | Ubuntu 20.04 | PASS | SKIPPED | SKIPPED | SKIPPED | SKIPPED | SKIPPED | +-------------------------------+--------------------+-------------------+-------------------------+----------------------+-------------------+------------------+ | CentOS Stream 9 | PASS | SKIPPED | SKIPPED | SKIPPED | PASS | SKIPPED | +-------------------------------+--------------------+-------------------+-------------------------+----------------------+-------------------+------------------+ | CentOS Stream 10 | PASS | SKIPPED | SKIPPED | SKIPPED | SKIPPED | SKIPPED | +-------------------------------+--------------------+-------------------+-------------------------+----------------------+-------------------+------------------+ | Debian GNU/Linux 12 | PASS | SKIPPED | SKIPPED | SKIPPED | PASS | SKIPPED | +-------------------------------+--------------------+-------------------+-------------------------+----------------------+-------------------+------------------+ | Fedora Linux 40 | PASS | SKIPPED | SKIPPED | SKIPPED | PASS | SKIPPED | +-------------------------------+--------------------+-------------------+-------------------------+----------------------+-------------------+------------------+ | Fedora Linux 41 | PASS | SKIPPED | SKIPPED | SKIPPED | PASS | PASS | +-------------------------------+--------------------+-------------------+-------------------------+----------------------+-------------------+------------------+ | openSUSE Leap 15.6 | PASS | SKIPPED | SKIPPED | SKIPPED | SKIPPED | SKIPPED | +-------------------------------+--------------------+-------------------+-------------------------+----------------------+-------------------+------------------+ | Red Hat Enterprise Linux 8.10 | PASS | SKIPPED | SKIPPED | SKIPPED | SKIPPED | SKIPPED | +-------------------------------+--------------------+-------------------+-------------------------+----------------------+-------------------+------------------+ | Red Hat Enterprise Linux 9.5 | PASS | SKIPPED | SKIPPED | SKIPPED | SKIPPED | SKIPPED | +-------------------------------+--------------------+-------------------+-------------------------+----------------------+-------------------+------------------+ | Ubuntu 22.04 | PASS | SKIPPED | SKIPPED | SKIPPED | PASS | SKIPPED | +-------------------------------+--------------------+-------------------+-------------------------+----------------------+-------------------+------------------+ | Ubuntu 24.04 | PASS | SKIPPED | SKIPPED | SKIPPED | PASS | PASS | +-------------------------------+--------------------+-------------------+-------------------------+----------------------+-------------------+------------------+ | Alpine Linux 3.22.0 | PASS | SKIPPED | SKIPPED | SKIPPED | SKIPPED | SKIPPED | +-------------------------------+--------------------+-------------------+-------------------------+----------------------+-------------------+------------------+ | Windows Server 2022 | SKIPPED | PASS | PASS | PASS | SKIPPED | SKIPPED | +-------------------------------+--------------------+-------------------+-------------------------+----------------------+-------------------+------------------+ FreeBSD 14.2 Kernel: 14.2-RELEASE Compiler: clang 18.1.6 Ubuntu 20.04 Kernel: 4.19 Compiler: gcc gcc (Ubuntu 9.4.0-1ubuntu1~20.04.2) 9.4.0 CentOS Stream 9 Kernel: 5.15 Compiler: gcc gcc (GCC) 11.5.0 20240719 (Red Hat 11.5.0-7) CentOS Stream 10 Kernel: 5.15 Compiler: gcc gcc (GCC) 14.2.1 20250110 (Red Hat 14.2.1-8) Debian GNU/Linux 12 Kernel: 5.15 Compiler: gcc gcc (Debian 12.2.0-14+deb12u1) 12.2.0 Fedora Linux 40 Kernel: 5.15 Compiler: clang gcc (GCC) 14.2.1 20240912 (Red Hat 14.2.1-3) Fedora Linux 41 Kernel: 5.15 Compiler: clang gcc (GCC) 14.3.1 20250523 (Red Hat 14.3.1-1) openSUSE Leap 15.6 Kernel: 5.15 Compiler: gcc gcc (SUSE Linux) 7.5.0 Red Hat Enterprise Linux 8.10 Kernel: 5.15 Compiler: gcc gcc (GCC) 8.5.0 20210514 (Red Hat 8.5.0-22) Red Hat Enterprise Linux 9.5 Kernel: 5.15 Compiler: gcc gcc (GCC) 11.5.0 20240719 (Red Hat 11.5.0-2) Ubuntu 22.04 Kernel: 5.15 Compiler: gcc gcc (Ubuntu 11.4.0-1ubuntu1~22.04) 11.4.0 Ubuntu 24.04 Kernel: 5.15 Compiler: gcc gcc (Ubuntu 13.3.0-6ubuntu2~24.04) 13.3.0 Alpine Linux 3.22.0 Kernel: 5.15 Compiler: gcc gcc (Alpine 14.2.0) 14.2.0 Windows Server 2022 Kernel: 10.0.20348.2031 Compiler: clang 15.0.7, gcc 14.1.0 (MinGW), and MSVC VS 19.39.33521 To view detailed results, visit: https://lab.dpdk.org/results/dashboard/patchsets/33556/ UNH-IOL DPDK Community Lab To manage your email subscriptions, visit: https://lab.dpdk.org/results/dashboard/preferences/subscriptions/