From mboxrd@z Thu Jan 1 00:00:00 1970 Return-Path: Received: from mails.dpdk.org (mails.dpdk.org [217.70.189.124]) by inbox.dpdk.org (Postfix) with ESMTP id 7FFFB46A23 for ; Wed, 2 Jul 2025 02:09:32 +0200 (CEST) Received: from mails.dpdk.org (localhost [127.0.0.1]) by mails.dpdk.org (Postfix) with ESMTP id 7ABB240264; Wed, 2 Jul 2025 02:09:32 +0200 (CEST) Received: from mail-pl1-f228.google.com (mail-pl1-f228.google.com [209.85.214.228]) by mails.dpdk.org (Postfix) with ESMTP id 289E240264 for ; Wed, 2 Jul 2025 02:09:31 +0200 (CEST) Received: by mail-pl1-f228.google.com with SMTP id d9443c01a7336-234b440afa7so63331745ad.0 for ; Tue, 01 Jul 2025 17:09:31 -0700 (PDT) DKIM-Signature: v=1; a=rsa-sha256; c=relaxed/relaxed; d=iol.unh.edu; s=unh-iol; t=1751414970; x=1752019770; darn=dpdk.org; h=references:in-reply-to:cc:to:from:subject:message-id:date:from:to :cc:subject:date:message-id:reply-to; bh=ecY+XVfhV2rIlMJ8lBnmcKUTuKFaM1PE7G7nN1V00Qc=; b=JSLnJAWgwl3/a6+X32oKPTkIwgKVKiE9A3DXvcimX4XiNJwRAiN9nYOSQkJNGh8pNf WLa14v1h83hnruavXpYNsYaHmUP2nCs8JuyLUQ7KB5pSBtzamL7JFXttZvurvawXWrYt lwRdA4MTtnoKfR5oSdxoaAzOXrpk6ldf9B5H8= X-Google-DKIM-Signature: v=1; a=rsa-sha256; c=relaxed/relaxed; d=1e100.net; s=20230601; t=1751414970; x=1752019770; h=references:in-reply-to:cc:to:from:subject:message-id:date :x-gm-message-state:from:to:cc:subject:date:message-id:reply-to; bh=ecY+XVfhV2rIlMJ8lBnmcKUTuKFaM1PE7G7nN1V00Qc=; b=dgV748Gelf6eeUJ6KLrkEKcCveqOCOsDScThrpwrjCCV4AHU3tgO7Vu4nX93RcR9XM 2rc05H8ducAjaxwRcQSe8iqFqgxppWdNlEje5rc0y7aW1oLE4YBx93kqK7/+AySnv0ns 9dODWHvfN8MuqFM9UwXXAYEbuHkmTqsFWFVeife26cD4Bfe6e/hMHnQ3PvrTF3tE3NjY +DmfoKFj+zrGl3mflwCwN6FaJ09hjJRK2/awZN5/ERlgKd2cpBVYoKnJ2sbURJTIJquG TBwITJpHOWMamGatL8c36CTOVkbyZ7/kR0ugBm6mbBOa7rSN0+OdlHHObWVqGFyQN6D/ 1L5A== X-Gm-Message-State: AOJu0YxSfff+rJOciVN7CuG6Z0b2DTSTVwh4v2eoeTpwefbr8moEb+Xz LdvPDWKTjUl8qzzAxj+PesiwggtrWpdajHWligX47mH1gTg7ScN1/+v5l1dJbvZb3RrCUKJNh2Y 6dDKqolrDtdz7fc6s9AVQEOdIoEw6Vq5rTaJlHUxH7myi X-Gm-Gg: ASbGncsHKHUNryYR5nmI/37joWndWGR2GNeEr4AXZJ66AIixq3tRPigzIdb53+J0yaU xFffP5U31ubNYdxVx/ojBRXYTDdbTZmmbjqdh9GwG/if4TIi4Wfrx1iAwaNSL4PMYhftGn4q79u 1KkAfu9x2OVIXX5yt/VpVwYvWo2l/nuL7OQJTqzSrK0XJEgY++A2vMJ+xHe5b5JwXZ0yMYVWXN1 2dgr0HzVoxPW30QpTxBZsRLudAv3HUeESokX1qFxeJpNXbl5jnJo07T2XkvR020U7fZ3ZX2E2rq 1jxArS4YYj+pNOmGn9lAfMOyBNE9UjHVSH66P7ai1LT171HC+9iHyJy36g22kblvvgS5OA== X-Google-Smtp-Source: AGHT+IFt9iXtbsKiZfhjpy1v08lyeLcqcphKO9iwhPHI+iTURaIyQNoJ03bR+ve1YEXRb4PWYtR2V9OLXm0O X-Received: by 2002:a17:902:f64e:b0:235:5a9:976f with SMTP id d9443c01a7336-23c6e59181amr11228245ad.24.1751414970224; Tue, 01 Jul 2025 17:09:30 -0700 (PDT) Received: from postal.iol.unh.edu (postal.iol.unh.edu. [132.177.123.84]) by smtp-relay.gmail.com with ESMTPS id d9443c01a7336-23acb2e19adsm6281165ad.10.2025.07.01.17.09.30 (version=TLS1_2 cipher=ECDHE-ECDSA-AES128-GCM-SHA256 bits=128/128); Tue, 01 Jul 2025 17:09:30 -0700 (PDT) X-Relaying-Domain: iol.unh.edu Date: Tue, 01 Jul 2025 17:09:30 -0700 (PDT) Message-ID: <686478ba.170a0220.17d33e.235bSMTPIN_ADDED_MISSING@mx.google.com> Received: from [172.17.0.2] (unknown [172.18.0.76]) by postal.iol.unh.edu (Postfix) with ESMTP id 662BC6051830; Tue, 1 Jul 2025 20:09:29 -0400 (EDT) Subject: |WARNING| pw154915-154919 [PATCH] [5/5] riscv: override machine_args From: dpdklab@iol.unh.edu To: Test Report Cc: dpdk-test-reports@iol.unh.edu In-Reply-To: References: Content-Type: text/plain X-BeenThere: test-report@dpdk.org X-Mailman-Version: 2.1.29 Precedence: list List-Id: automatic DPDK test reports List-Unsubscribe: , List-Archive: List-Post: List-Help: List-Subscribe: , Errors-To: test-report-bounces@dpdk.org Test-Label: iol-compile-amd64-testing Test-Status: WARNING http://dpdk.org/patch/154919 _Testing issues_ Submitter: None Date: Tuesday, July 01 2025 16:13:42 DPDK git baseline: Repo:dpdk Branch: master CommitID:0eb86b4533d40bcd703972421b9a201c02f37f8a 154915-154919 --> testing issues Upstream job id: Generic-DPDK-Compile-Meson#404397 Test environment and result as below: +-------------------------------+--------------------+-------------------+-------------------------+----------------------+-------------------+------------------+ | Environment | dpdk_meson_compile | dpdk_msvc_compile | dpdk_llvm_clang_compile | dpdk_mingw64_compile | dpdk_compile_spdk | dpdk_compile_ovs | +===============================+====================+===================+=========================+======================+===================+==================+ | FreeBSD 14.2 | PASS | SKIPPED | SKIPPED | SKIPPED | SKIPPED | SKIPPED | +-------------------------------+--------------------+-------------------+-------------------------+----------------------+-------------------+------------------+ | Ubuntu 20.04 | PASS | SKIPPED | SKIPPED | SKIPPED | SKIPPED | SKIPPED | +-------------------------------+--------------------+-------------------+-------------------------+----------------------+-------------------+------------------+ | CentOS Stream 9 | PASS | SKIPPED | SKIPPED | SKIPPED | PASS | SKIPPED | +-------------------------------+--------------------+-------------------+-------------------------+----------------------+-------------------+------------------+ | CentOS Stream 10 | PASS | SKIPPED | SKIPPED | SKIPPED | SKIPPED | SKIPPED | +-------------------------------+--------------------+-------------------+-------------------------+----------------------+-------------------+------------------+ | Debian GNU/Linux 12 | PASS | SKIPPED | SKIPPED | SKIPPED | PASS | SKIPPED | +-------------------------------+--------------------+-------------------+-------------------------+----------------------+-------------------+------------------+ | Fedora Linux 40 | PASS | SKIPPED | SKIPPED | SKIPPED | PASS | SKIPPED | +-------------------------------+--------------------+-------------------+-------------------------+----------------------+-------------------+------------------+ | Fedora Linux 41 | PASS | SKIPPED | SKIPPED | SKIPPED | PASS | PASS | +-------------------------------+--------------------+-------------------+-------------------------+----------------------+-------------------+------------------+ | openSUSE Leap 15.6 | PASS | SKIPPED | SKIPPED | SKIPPED | SKIPPED | SKIPPED | +-------------------------------+--------------------+-------------------+-------------------------+----------------------+-------------------+------------------+ | Red Hat Enterprise Linux 8.10 | PASS | SKIPPED | SKIPPED | SKIPPED | SKIPPED | SKIPPED | +-------------------------------+--------------------+-------------------+-------------------------+----------------------+-------------------+------------------+ | Red Hat Enterprise Linux 9.5 | PASS | SKIPPED | SKIPPED | SKIPPED | SKIPPED | SKIPPED | +-------------------------------+--------------------+-------------------+-------------------------+----------------------+-------------------+------------------+ | Ubuntu 22.04 | PASS | SKIPPED | SKIPPED | SKIPPED | PASS | SKIPPED | +-------------------------------+--------------------+-------------------+-------------------------+----------------------+-------------------+------------------+ | Ubuntu 24.04 | PASS | SKIPPED | SKIPPED | SKIPPED | PASS | PASS | +-------------------------------+--------------------+-------------------+-------------------------+----------------------+-------------------+------------------+ | Alpine Linux 3.22.0 | PASS | SKIPPED | SKIPPED | SKIPPED | SKIPPED | SKIPPED | +-------------------------------+--------------------+-------------------+-------------------------+----------------------+-------------------+------------------+ | Windows Server 2022 | SKIPPED | PASS | PASS | PASS | SKIPPED | SKIPPED | +-------------------------------+--------------------+-------------------+-------------------------+----------------------+-------------------+------------------+ FreeBSD 14.2 Kernel: 14.2-RELEASE Compiler: clang 18.1.6 Ubuntu 20.04 Kernel: 4.19 Compiler: gcc gcc (Ubuntu 9.4.0-1ubuntu1~20.04.2) 9.4.0 CentOS Stream 9 Kernel: 5.15 Compiler: gcc gcc (GCC) 11.5.0 20240719 (Red Hat 11.5.0-7) CentOS Stream 10 Kernel: 5.15 Compiler: gcc gcc (GCC) 14.2.1 20250110 (Red Hat 14.2.1-8) Debian GNU/Linux 12 Kernel: 5.15 Compiler: gcc gcc (Debian 12.2.0-14+deb12u1) 12.2.0 Fedora Linux 40 Kernel: 5.15 Compiler: clang gcc (GCC) 14.2.1 20240912 (Red Hat 14.2.1-3) Fedora Linux 41 Kernel: 5.15 Compiler: clang gcc (GCC) 14.3.1 20250523 (Red Hat 14.3.1-1) openSUSE Leap 15.6 Kernel: 5.15 Compiler: gcc gcc (SUSE Linux) 7.5.0 Red Hat Enterprise Linux 8.10 Kernel: 5.15 Compiler: gcc gcc (GCC) 8.5.0 20210514 (Red Hat 8.5.0-22) Red Hat Enterprise Linux 9.5 Kernel: 5.15 Compiler: gcc gcc (GCC) 11.5.0 20240719 (Red Hat 11.5.0-2) Ubuntu 22.04 Kernel: 5.15 Compiler: gcc gcc (Ubuntu 11.4.0-1ubuntu1~22.04) 11.4.0 Ubuntu 24.04 Kernel: 5.15 Compiler: gcc gcc (Ubuntu 13.3.0-6ubuntu2~24.04) 13.3.0 Alpine Linux 3.22.0 Kernel: 5.15 Compiler: gcc gcc (Alpine 14.2.0) 14.2.0 Windows Server 2022 Kernel: 10.0.20348.2031 Compiler: clang 15.0.7, gcc 14.1.0 (MinGW), and MSVC VS 19.39.33521 To view detailed results, visit: https://lab.dpdk.org/results/dashboard/patchsets/33558/ UNH-IOL DPDK Community Lab To manage your email subscriptions, visit: https://lab.dpdk.org/results/dashboard/preferences/subscriptions/