From mboxrd@z Thu Jan 1 00:00:00 1970 Return-Path: Received: from mails.dpdk.org (mails.dpdk.org [217.70.189.124]) by inbox.dpdk.org (Postfix) with ESMTP id BFBF746A23 for ; Wed, 2 Jul 2025 02:11:40 +0200 (CEST) Received: from mails.dpdk.org (localhost [127.0.0.1]) by mails.dpdk.org (Postfix) with ESMTP id B6C5E40264; Wed, 2 Jul 2025 02:11:40 +0200 (CEST) Received: from mail-pl1-f226.google.com (mail-pl1-f226.google.com [209.85.214.226]) by mails.dpdk.org (Postfix) with ESMTP id A46BD40264 for ; Wed, 2 Jul 2025 02:11:39 +0200 (CEST) Received: by mail-pl1-f226.google.com with SMTP id d9443c01a7336-234fcadde3eso50386895ad.0 for ; Tue, 01 Jul 2025 17:11:39 -0700 (PDT) DKIM-Signature: v=1; a=rsa-sha256; c=relaxed/relaxed; d=iol.unh.edu; s=unh-iol; t=1751415099; x=1752019899; darn=dpdk.org; h=references:in-reply-to:cc:to:from:subject:message-id:date:from:to :cc:subject:date:message-id:reply-to; bh=XUJIdiObnmCRlqM8o20fnMQ/6+zC5BcjpvaqxKOIzQU=; b=Bs4vpXPT/aqoIKplPoOZgmWJo3v8hIXjMuE+cVP1s6s16NcDcI2UNvPxbt/Aekl92T +HyX15aBHM8sl+GhPteCfJnCfdrwgz8dcG/T5n+JpiNMEgosjoE5hOJD2EP10iFUCWx4 GCZx9rTXv8f7FvKsREsn1ILxjifieMR7B2pxw= X-Google-DKIM-Signature: v=1; a=rsa-sha256; c=relaxed/relaxed; d=1e100.net; s=20230601; t=1751415099; x=1752019899; h=references:in-reply-to:cc:to:from:subject:message-id:date :x-gm-message-state:from:to:cc:subject:date:message-id:reply-to; bh=XUJIdiObnmCRlqM8o20fnMQ/6+zC5BcjpvaqxKOIzQU=; b=UiNoqkttxH9YP2uM7mPdltvMY2ygdshWtfDKYy0QeC37rKIhIReYAJZizT3FwGZvaf tZnnDoIvEvhYrM4YL1YrH2Ume0995EO/OqRvKDYvWdhDArnMk0P2Ykbzj3S/4nv/wr+E A5Dktg5lm3xJi2Yl++p7Qxj6ZBe0ynNyNYbUTJLF5CK66GlCXw+Mj0iTYcOYYTg5ohbh O61HH0vP7rObvr8ull+k+Hrq+4Rj9E0gb4LTvw76n80/M2/y/YlArLsZgmmgrdr/WQVH MEVDkIdlIBYK2vSyMZtZ2voCHYlMwNP8UEBwA8LNJQFeTArmVPDaKvn0UdOOrK/ceegu +jTQ== X-Gm-Message-State: AOJu0YziA5z1JmFFwV2Z7VLdYWGSz4X38U3aRsY/nPMN5OnRmwVrh3Y8 4oAJNMIXSEJMAl0d/to2AK/wrFSux6fp40TkHH0SDupz9nYkP0jLkVS2bxft4EphI0WQdb06DJt WnXjQsnIv/kExQB2bQkd+YhACH0cxQylSawIN4/h9AxR0 X-Gm-Gg: ASbGnctbpvIMffq8zVTmqflqOJsH232IeOHFyQX19uJiuLW5v66H3ftGUX22b5iNO8P F7O1mGH8mKGjTuxqJV7D9apa/iNgf/fDB08R/ORW+sSWmI6Sd0OThX8YOaXiZqodfUE9wHieRl5 BhZQte2V8Euvcnd0G4zSraIcqZPMai870MeEn9BEG54AfZpftjOW8G+r+AwR1/0xwgf8D8aGmAj XPzKRBybFm8DbOsALiuUmcMBvHZI7WXkiUKkD0I6u8xzAE126wnDgq0PBvDRk65o8dckhIhqpHE AHZTehpEVqwhj4f1an1P7s2H5JmexMpG7fvoAsDtWb2BnrBW2iB/uOgQ7g6wV2HoRHCuEQ== X-Google-Smtp-Source: AGHT+IGKvSXUVJ1ub3Uofbyb3KvjeTUpLhUWAwD7d+wcaKt9jf9CexOcn69AIa1MB9SQld2vuMNeFboOMN0w X-Received: by 2002:a17:903:1acd:b0:235:eefe:68ec with SMTP id d9443c01a7336-23c6e502ba8mr10570275ad.19.1751415098790; Tue, 01 Jul 2025 17:11:38 -0700 (PDT) Received: from postal.iol.unh.edu (postal.iol.unh.edu. [132.177.123.84]) by smtp-relay.gmail.com with ESMTPS id d9443c01a7336-23acb389e6bsm5921325ad.115.2025.07.01.17.11.38 (version=TLS1_2 cipher=ECDHE-ECDSA-AES128-GCM-SHA256 bits=128/128); Tue, 01 Jul 2025 17:11:38 -0700 (PDT) X-Relaying-Domain: iol.unh.edu Date: Tue, 01 Jul 2025 17:11:38 -0700 (PDT) Message-ID: <6864793a.170a0220.6f0cc.03c0SMTPIN_ADDED_MISSING@mx.google.com> Received: from [172.17.0.2] (unknown [172.18.0.74]) by postal.iol.unh.edu (Postfix) with ESMTP id 0543B6051830; Tue, 1 Jul 2025 20:11:38 -0400 (EDT) Subject: |WARNING| pw154903 [PATCH] ci: check C++ headers with clang From: dpdklab@iol.unh.edu To: Test Report Cc: dpdk-test-reports@iol.unh.edu In-Reply-To: <20250701113146.1268492-1-david.marchand@redhat.com> References: <20250701113146.1268492-1-david.marchand@redhat.com> Content-Type: text/plain X-BeenThere: test-report@dpdk.org X-Mailman-Version: 2.1.29 Precedence: list List-Id: automatic DPDK test reports List-Unsubscribe: , List-Archive: List-Post: List-Help: List-Subscribe: , Errors-To: test-report-bounces@dpdk.org Test-Label: iol-compile-amd64-testing Test-Status: WARNING http://dpdk.org/patch/154903 _Testing issues_ Submitter: David Marchand Date: Tuesday, July 01 2025 11:31:46 DPDK git baseline: Repo:dpdk Branch: master CommitID:20460dcffd08a4680f881c39916ae783ee830374 154903 --> testing issues Upstream job id: Generic-DPDK-Compile-Meson#404296 Test environment and result as below: +-------------------------------+--------------------+-------------------+-------------------------+----------------------+-------------------+------------------+ | Environment | dpdk_meson_compile | dpdk_msvc_compile | dpdk_llvm_clang_compile | dpdk_mingw64_compile | dpdk_compile_spdk | dpdk_compile_ovs | +===============================+====================+===================+=========================+======================+===================+==================+ | Ubuntu 20.04 | PASS | SKIPPED | SKIPPED | SKIPPED | SKIPPED | SKIPPED | +-------------------------------+--------------------+-------------------+-------------------------+----------------------+-------------------+------------------+ | FreeBSD 14.2 | PASS | SKIPPED | SKIPPED | SKIPPED | SKIPPED | SKIPPED | +-------------------------------+--------------------+-------------------+-------------------------+----------------------+-------------------+------------------+ | CentOS Stream 9 | PASS | SKIPPED | SKIPPED | SKIPPED | PASS | SKIPPED | +-------------------------------+--------------------+-------------------+-------------------------+----------------------+-------------------+------------------+ | CentOS Stream 10 | PASS | SKIPPED | SKIPPED | SKIPPED | SKIPPED | SKIPPED | +-------------------------------+--------------------+-------------------+-------------------------+----------------------+-------------------+------------------+ | Debian GNU/Linux 12 | PASS | SKIPPED | SKIPPED | SKIPPED | PASS | SKIPPED | +-------------------------------+--------------------+-------------------+-------------------------+----------------------+-------------------+------------------+ | Fedora Linux 40 | PASS | SKIPPED | SKIPPED | SKIPPED | PASS | SKIPPED | +-------------------------------+--------------------+-------------------+-------------------------+----------------------+-------------------+------------------+ | Fedora Linux 41 | PASS | SKIPPED | SKIPPED | SKIPPED | PASS | PASS | +-------------------------------+--------------------+-------------------+-------------------------+----------------------+-------------------+------------------+ | openSUSE Leap 15.6 | PASS | SKIPPED | SKIPPED | SKIPPED | SKIPPED | SKIPPED | +-------------------------------+--------------------+-------------------+-------------------------+----------------------+-------------------+------------------+ | Red Hat Enterprise Linux 8.10 | PASS | SKIPPED | SKIPPED | SKIPPED | SKIPPED | SKIPPED | +-------------------------------+--------------------+-------------------+-------------------------+----------------------+-------------------+------------------+ | Red Hat Enterprise Linux 9.5 | PASS | SKIPPED | SKIPPED | SKIPPED | SKIPPED | SKIPPED | +-------------------------------+--------------------+-------------------+-------------------------+----------------------+-------------------+------------------+ | Ubuntu 22.04 | PASS | SKIPPED | SKIPPED | SKIPPED | PASS | SKIPPED | +-------------------------------+--------------------+-------------------+-------------------------+----------------------+-------------------+------------------+ | Ubuntu 24.04 | PASS | SKIPPED | SKIPPED | SKIPPED | PASS | PASS | +-------------------------------+--------------------+-------------------+-------------------------+----------------------+-------------------+------------------+ | Alpine Linux 3.22.0 | PASS | SKIPPED | SKIPPED | SKIPPED | SKIPPED | SKIPPED | +-------------------------------+--------------------+-------------------+-------------------------+----------------------+-------------------+------------------+ | Windows Server 2022 | SKIPPED | PASS | PASS | PASS | SKIPPED | SKIPPED | +-------------------------------+--------------------+-------------------+-------------------------+----------------------+-------------------+------------------+ Ubuntu 20.04 Kernel: 4.19 Compiler: gcc gcc (Ubuntu 9.4.0-1ubuntu1~20.04.2) 9.4.0 FreeBSD 14.2 Kernel: 14.2-RELEASE Compiler: clang 18.1.6 CentOS Stream 9 Kernel: 5.15 Compiler: gcc gcc (GCC) 11.5.0 20240719 (Red Hat 11.5.0-7) CentOS Stream 10 Kernel: 5.15 Compiler: gcc gcc (GCC) 14.2.1 20250110 (Red Hat 14.2.1-8) Debian GNU/Linux 12 Kernel: 5.15 Compiler: gcc gcc (Debian 12.2.0-14+deb12u1) 12.2.0 Fedora Linux 40 Kernel: 5.15 Compiler: clang gcc (GCC) 14.2.1 20240912 (Red Hat 14.2.1-3) Fedora Linux 41 Kernel: 5.15 Compiler: clang gcc (GCC) 14.3.1 20250523 (Red Hat 14.3.1-1) openSUSE Leap 15.6 Kernel: 5.15 Compiler: gcc gcc (SUSE Linux) 7.5.0 Red Hat Enterprise Linux 8.10 Kernel: 5.15 Compiler: gcc gcc (GCC) 8.5.0 20210514 (Red Hat 8.5.0-22) Red Hat Enterprise Linux 9.5 Kernel: 5.15 Compiler: gcc gcc (GCC) 11.5.0 20240719 (Red Hat 11.5.0-2) Ubuntu 22.04 Kernel: 5.15 Compiler: gcc gcc (Ubuntu 11.4.0-1ubuntu1~22.04) 11.4.0 Ubuntu 24.04 Kernel: 5.15 Compiler: gcc gcc (Ubuntu 13.3.0-6ubuntu2~24.04) 13.3.0 Alpine Linux 3.22.0 Kernel: 5.15 Compiler: gcc gcc (Alpine 14.2.0) 14.2.0 Windows Server 2022 Kernel: 10.0.20348.2031 Compiler: clang 15.0.7, gcc 14.1.0 (MinGW), and MSVC VS 19.39.33521 To view detailed results, visit: https://lab.dpdk.org/results/dashboard/patchsets/33554/ UNH-IOL DPDK Community Lab To manage your email subscriptions, visit: https://lab.dpdk.org/results/dashboard/preferences/subscriptions/