From mboxrd@z Thu Jan 1 00:00:00 1970 Return-Path: Received: from mails.dpdk.org (mails.dpdk.org [217.70.189.124]) by inbox.dpdk.org (Postfix) with ESMTP id EA2C946A23 for ; Wed, 2 Jul 2025 02:12:58 +0200 (CEST) Received: from mails.dpdk.org (localhost [127.0.0.1]) by mails.dpdk.org (Postfix) with ESMTP id E010C40264; Wed, 2 Jul 2025 02:12:58 +0200 (CEST) Received: from mail-qv1-f97.google.com (mail-qv1-f97.google.com [209.85.219.97]) by mails.dpdk.org (Postfix) with ESMTP id C165140264 for ; Wed, 2 Jul 2025 02:12:57 +0200 (CEST) Received: by mail-qv1-f97.google.com with SMTP id 6a1803df08f44-6fad8b4c927so38043966d6.0 for ; Tue, 01 Jul 2025 17:12:57 -0700 (PDT) DKIM-Signature: v=1; a=rsa-sha256; c=relaxed/relaxed; d=iol.unh.edu; s=unh-iol; t=1751415177; x=1752019977; darn=dpdk.org; h=references:in-reply-to:cc:to:from:subject:message-id:date:from:to :cc:subject:date:message-id:reply-to; bh=zj0vME4zmZN71826CuTsDAY+OcaMJx4AiTT2GCtWnDc=; b=W89ipdq30S3LFGt6jyXTgHAzUq9nIn92S1N1pF9ZCti8TA7oiTuOPLugkCn4W3JKQD 0Cc6cFkF26UzEWT/UHXo7oUNEr4+UJOUrDYN/jKrTIGAbJZngxepUz8rYTIDcDOJaXov VkDLWrzimEVHqnNIrnFDd7TZKaqpk/9mAi2SY= X-Google-DKIM-Signature: v=1; a=rsa-sha256; c=relaxed/relaxed; d=1e100.net; s=20230601; t=1751415177; x=1752019977; h=references:in-reply-to:cc:to:from:subject:message-id:date :x-gm-message-state:from:to:cc:subject:date:message-id:reply-to; bh=zj0vME4zmZN71826CuTsDAY+OcaMJx4AiTT2GCtWnDc=; b=rJW5mVz+bsG4itiqPja2JZPBPXqZX76KPUIVpG+RSsDFoJjl+1iwNiRy0iqCEG5NqH 6k4fr6O0L7NQ3d+tVrqKnNI2c+kwJn5gsexSxcLI1jvt4rtCDBZjlI0NRHmNa36bjeCH xsdWCtoe1AV5B7QkFH/TRBx+c4rABlNa29jmNBJZBfazM4aURMvzuH4whf1PK67F1Mub pnxQuu5uDEq7+Ys0O3K6oFupEj/fDTijTGAadjtRnAHNS4vms82TWDJKSL3A00TCgFYP gcrfm44SR7H5COMZoyaXhpbzl2MNz6uoLvGagvhaNyzFC8XCf6vv+ecTC4cQXNKHTFAC yMcQ== X-Gm-Message-State: AOJu0Yw9CQzBQEmzU/y8HdXjuQ85eR7XjPF6S1nAfxQ3NcdiSA4VvVs5 OTMzzlb1wvZKyAq34vW12Y/PQEczVQPPvhUY6BDFwClOtTD/SgFHiSBrhfwi7+uH75MWoAC04Bk r8V1umODr4dT0OfbysupR3lfJ+4vza+Blz/JCs34rxK7/ X-Gm-Gg: ASbGncugdsl5bfjy32Gf9Fz8NhZCpcfqlsG9dJIEtCXrCxlBsWXLYRv1OjKHOZy1q6x 3V80O1GDVGtmhT16/Y4Nj59kg8pjPV2X/RARLPPmYDZ3GEWjjO/TOHjMQeKVPLxWQT45jbZaBkW 4/yEd01FMJ7P6kLbByUAN2TqjdHWOSi6g+n6QLsqVODwoGw49PaBfawuTDQcEWJe47dndddMD8U jvCP4I1mlCL/YDFu+vlq6/AAARhgBhVgGMXQvk4xuvufjqYGSwkcDiN7i4oD/splVFkFnalb0J2 2YoG2fNBs1zNICVFvrkKtKEbgLY6YXC9ePj6w5pQAPn4O6xE441qkO8COoVSpVSfg4t9ZA== X-Google-Smtp-Source: AGHT+IHopiYlNSGJCrPyQjmyPPjX8A84SonUwiGDaCqi+pMIDY8SB8mDnqQpLiUBdFruQzua21i5qh3jnjO0 X-Received: by 2002:a05:6214:c8d:b0:6fb:23:4812 with SMTP id 6a1803df08f44-702b204a523mr5936816d6.26.1751415177066; Tue, 01 Jul 2025 17:12:57 -0700 (PDT) Received: from postal.iol.unh.edu (postal.iol.unh.edu. [132.177.123.84]) by smtp-relay.gmail.com with ESMTPS id 6a1803df08f44-700c4cc513bsm4294316d6.51.2025.07.01.17.12.56 (version=TLS1_2 cipher=ECDHE-ECDSA-AES128-GCM-SHA256 bits=128/128); Tue, 01 Jul 2025 17:12:57 -0700 (PDT) X-Relaying-Domain: iol.unh.edu Date: Tue, 01 Jul 2025 17:12:57 -0700 (PDT) Message-ID: <68647989.050a0220.315348.7720SMTPIN_ADDED_MISSING@mx.google.com> Received: from [172.17.0.3] (unknown [172.18.0.74]) by postal.iol.unh.edu (Postfix) with ESMTP id BCC776051830; Tue, 1 Jul 2025 20:12:56 -0400 (EDT) Subject: |WARNING| pw154915-154919 [PATCH] [5/5] riscv: override machine_args From: dpdklab@iol.unh.edu To: Test Report Cc: dpdk-test-reports@iol.unh.edu In-Reply-To: References: Content-Type: text/plain X-BeenThere: test-report@dpdk.org X-Mailman-Version: 2.1.29 Precedence: list List-Id: automatic DPDK test reports List-Unsubscribe: , List-Archive: List-Post: List-Help: List-Subscribe: , Errors-To: test-report-bounces@dpdk.org Test-Label: iol-compile-amd64-testing Test-Status: WARNING http://dpdk.org/patch/154919 _Testing issues_ Submitter: None Date: Tuesday, July 01 2025 16:13:42 DPDK git baseline: Repo:dpdk Branch: master CommitID:0eb86b4533d40bcd703972421b9a201c02f37f8a 154915-154919 --> testing issues Upstream job id: Generic-DPDK-Compile-Meson#404388 Test environment and result as below: +-------------------------------+--------------------+-------------------+-------------------------+----------------------+-------------------+------------------+ | Environment | dpdk_meson_compile | dpdk_msvc_compile | dpdk_llvm_clang_compile | dpdk_mingw64_compile | dpdk_compile_spdk | dpdk_compile_ovs | +===============================+====================+===================+=========================+======================+===================+==================+ | FreeBSD 14.2 | PASS | SKIPPED | SKIPPED | SKIPPED | SKIPPED | SKIPPED | +-------------------------------+--------------------+-------------------+-------------------------+----------------------+-------------------+------------------+ | Ubuntu 20.04 | PASS | SKIPPED | SKIPPED | SKIPPED | SKIPPED | SKIPPED | +-------------------------------+--------------------+-------------------+-------------------------+----------------------+-------------------+------------------+ | CentOS Stream 9 | PASS | SKIPPED | SKIPPED | SKIPPED | PASS | SKIPPED | +-------------------------------+--------------------+-------------------+-------------------------+----------------------+-------------------+------------------+ | CentOS Stream 10 | PASS | SKIPPED | SKIPPED | SKIPPED | SKIPPED | SKIPPED | +-------------------------------+--------------------+-------------------+-------------------------+----------------------+-------------------+------------------+ | Debian GNU/Linux 12 | PASS | SKIPPED | SKIPPED | SKIPPED | PASS | SKIPPED | +-------------------------------+--------------------+-------------------+-------------------------+----------------------+-------------------+------------------+ | Fedora Linux 40 | PASS | SKIPPED | SKIPPED | SKIPPED | PASS | SKIPPED | +-------------------------------+--------------------+-------------------+-------------------------+----------------------+-------------------+------------------+ | Fedora Linux 41 | PASS | SKIPPED | SKIPPED | SKIPPED | PASS | PASS | +-------------------------------+--------------------+-------------------+-------------------------+----------------------+-------------------+------------------+ | openSUSE Leap 15.6 | PASS | SKIPPED | SKIPPED | SKIPPED | SKIPPED | SKIPPED | +-------------------------------+--------------------+-------------------+-------------------------+----------------------+-------------------+------------------+ | Red Hat Enterprise Linux 8.10 | PASS | SKIPPED | SKIPPED | SKIPPED | SKIPPED | SKIPPED | +-------------------------------+--------------------+-------------------+-------------------------+----------------------+-------------------+------------------+ | Red Hat Enterprise Linux 9.5 | PASS | SKIPPED | SKIPPED | SKIPPED | SKIPPED | SKIPPED | +-------------------------------+--------------------+-------------------+-------------------------+----------------------+-------------------+------------------+ | Ubuntu 22.04 | PASS | SKIPPED | SKIPPED | SKIPPED | PASS | SKIPPED | +-------------------------------+--------------------+-------------------+-------------------------+----------------------+-------------------+------------------+ | Ubuntu 24.04 | PASS | SKIPPED | SKIPPED | SKIPPED | PASS | PASS | +-------------------------------+--------------------+-------------------+-------------------------+----------------------+-------------------+------------------+ | Alpine Linux 3.22.0 | PASS | SKIPPED | SKIPPED | SKIPPED | SKIPPED | SKIPPED | +-------------------------------+--------------------+-------------------+-------------------------+----------------------+-------------------+------------------+ | Windows Server 2022 | SKIPPED | PASS | PASS | PASS | SKIPPED | SKIPPED | +-------------------------------+--------------------+-------------------+-------------------------+----------------------+-------------------+------------------+ FreeBSD 14.2 Kernel: 14.2-RELEASE Compiler: clang 18.1.6 Ubuntu 20.04 Kernel: 4.19 Compiler: gcc gcc (Ubuntu 9.4.0-1ubuntu1~20.04.2) 9.4.0 CentOS Stream 9 Kernel: 5.15 Compiler: gcc gcc (GCC) 11.5.0 20240719 (Red Hat 11.5.0-7) CentOS Stream 10 Kernel: 5.15 Compiler: gcc gcc (GCC) 14.2.1 20250110 (Red Hat 14.2.1-8) Debian GNU/Linux 12 Kernel: 5.15 Compiler: gcc gcc (Debian 12.2.0-14+deb12u1) 12.2.0 Fedora Linux 40 Kernel: 5.15 Compiler: clang gcc (GCC) 14.2.1 20240912 (Red Hat 14.2.1-3) Fedora Linux 41 Kernel: 5.15 Compiler: clang gcc (GCC) 14.3.1 20250523 (Red Hat 14.3.1-1) openSUSE Leap 15.6 Kernel: 5.15 Compiler: gcc gcc (SUSE Linux) 7.5.0 Red Hat Enterprise Linux 8.10 Kernel: 5.15 Compiler: gcc gcc (GCC) 8.5.0 20210514 (Red Hat 8.5.0-22) Red Hat Enterprise Linux 9.5 Kernel: 5.15 Compiler: gcc gcc (GCC) 11.5.0 20240719 (Red Hat 11.5.0-2) Ubuntu 22.04 Kernel: 5.15 Compiler: gcc gcc (Ubuntu 11.4.0-1ubuntu1~22.04) 11.4.0 Ubuntu 24.04 Kernel: 5.15 Compiler: gcc gcc (Ubuntu 13.3.0-6ubuntu2~24.04) 13.3.0 Alpine Linux 3.22.0 Kernel: 5.15 Compiler: gcc gcc (Alpine 14.2.0) 14.2.0 Windows Server 2022 Kernel: 10.0.20348.2031 Compiler: clang 15.0.7, gcc 14.1.0 (MinGW), and MSVC VS 19.39.33521 To view detailed results, visit: https://lab.dpdk.org/results/dashboard/patchsets/33558/ UNH-IOL DPDK Community Lab To manage your email subscriptions, visit: https://lab.dpdk.org/results/dashboard/preferences/subscriptions/