From mboxrd@z Thu Jan 1 00:00:00 1970 Return-Path: Received: from mails.dpdk.org (mails.dpdk.org [217.70.189.124]) by inbox.dpdk.org (Postfix) with ESMTP id E205646ABC for ; Wed, 2 Jul 2025 03:11:19 +0200 (CEST) Received: from mails.dpdk.org (localhost [127.0.0.1]) by mails.dpdk.org (Postfix) with ESMTP id DB29C40264; Wed, 2 Jul 2025 03:11:19 +0200 (CEST) Received: from mail-pf1-f226.google.com (mail-pf1-f226.google.com [209.85.210.226]) by mails.dpdk.org (Postfix) with ESMTP id 743D040264 for ; Wed, 2 Jul 2025 03:11:18 +0200 (CEST) Received: by mail-pf1-f226.google.com with SMTP id d2e1a72fcca58-748f5a4a423so2455826b3a.1 for ; Tue, 01 Jul 2025 18:11:18 -0700 (PDT) DKIM-Signature: v=1; a=rsa-sha256; c=relaxed/relaxed; d=iol.unh.edu; s=unh-iol; t=1751418677; x=1752023477; darn=dpdk.org; h=cc:to:from:subject:message-id:date:from:to:cc:subject:date :message-id:reply-to; bh=kKnwVZ7XAE6LPSaxr5pFw61sLJcNhryRcLW8Ag/aZ9s=; b=R7EqkJv2URH0Al26mANW+1MXS/SUJrwQ3RIrGBl89mGd/2NRteaIx2t2XPNDitBBp2 Ah3+h9N4NrQeujBXFbibUDUnov1d0lkSoRVh9K5rOk7sMvmEpUPxsuDeZb7LwVIWPM8i Pqr1BH1FW8Ul1EYODLjRCi0CIJjaBAmIpbJMM= X-Google-DKIM-Signature: v=1; a=rsa-sha256; c=relaxed/relaxed; d=1e100.net; s=20230601; t=1751418677; x=1752023477; h=cc:to:from:subject:message-id:date:x-gm-message-state:from:to:cc :subject:date:message-id:reply-to; bh=kKnwVZ7XAE6LPSaxr5pFw61sLJcNhryRcLW8Ag/aZ9s=; b=LjPpMfLRzWH6MV4cWJ8cRGyuSPMcQ32AjLrqvDKdLW5TArqEDQvJJViiGfKSqkdS9f eBmwSd3IqV28rybg4KAYOKQdY9CRkDJqL1U7rE7ZUhC0LejuezNCH2nfKbWvUgRn97z6 ulF8FMcbCvifHsD8JbfnkjlE0fGJlYHVRAK3ejujl+JzzIuFx6WLGbp3OtNgIiCO70d7 wuj1T4UsW+dHtbwyeropF2i49PX2tkJF8jLMUDW9Mzhb6yTFUTT4TtwXAxrL4l8I3AiR 8aB4tKVv54lHLR0Y5jB/hr1cBENb1aEjpAbYHEvRzle8BYLLDV8wjti4w9Bqob0Wvjg3 DonQ== X-Gm-Message-State: AOJu0YxypSmTOnN/6Okg1PyOFoOjlMmYVUVa5niCH4EiATzpAwq4SvEg IxVsKeLgt9rVW377hTUC0zTdMuO7XLunsr33woCoNr+QB2qTY66Pyk6emXwrpQmz21zFGBU8dqZ SetI2mDhr0E7MqUA5zZbVGZm6780fZ9pL6dDCxVVIMrGB X-Gm-Gg: ASbGnct4ZNMgBN9Ao5jxqwg83Zg4Dq1reDyQIZD6Hg91rDQPzJOgFC+Tznjekq7MwCN IqSv7sJxvywEOcf+PUHexm19uF2ahaO+2FPcjMjNsC6FT+D1t+OOda9qmnLMC4ZERBJSncotT9t yRelT+enMlKcxe64iEGa80e5y68l1iI0aFLoF9UUK734S8c0Ktwbsw47lb2N8V4S+VKBG27aSdy otHO2pBI2tO0/awG40ke46NQLBumyyA6P7b6OkpzNYgEO83xMlfvA+jSz/RCa2pfQcuUsLxSgJ2 wRjNCHXxVOhJiH6gfvEMH5nad99Z3fsiXJJ96HTlAMb5GIyzy0Z94yrTY7/dGn4AEDxkvg== X-Google-Smtp-Source: AGHT+IHQeo03UHxYb/m0fV0KafeROO5L0E843gbQPCsIwY3JxGCoc5wCsxwgwJJpY3YJsouvTt2NXuzSg4j4 X-Received: by 2002:a05:6a00:3c94:b0:740:aa31:fe66 with SMTP id d2e1a72fcca58-74b50ff6458mr1499197b3a.4.1751418677548; Tue, 01 Jul 2025 18:11:17 -0700 (PDT) Received: from postal.iol.unh.edu (postal.iol.unh.edu. [132.177.123.84]) by smtp-relay.gmail.com with ESMTPS id d2e1a72fcca58-74af540d436sm549463b3a.2.2025.07.01.18.11.17 (version=TLS1_2 cipher=ECDHE-ECDSA-AES128-GCM-SHA256 bits=128/128); Tue, 01 Jul 2025 18:11:17 -0700 (PDT) X-Relaying-Domain: iol.unh.edu Date: Tue, 01 Jul 2025 18:11:17 -0700 (PDT) Message-ID: <68648735.050a0220.23025a.d108SMTPIN_ADDED_MISSING@mx.google.com> Received: from [172.21.0.8] (unknown [172.18.0.240]) by postal.iol.unh.edu (Postfix) with ESMTP id BA7646051830; Tue, 1 Jul 2025 21:11:16 -0400 (EDT) Subject: |SUCCESS| [GIT MASTER] 0eb86b4533d40bcd703972421b9a201c02f37f8a From: dpdklab@iol.unh.edu To: Test Report Cc: dpdk-test-reports@iol.unh.edu Content-Type: text/plain X-BeenThere: test-report@dpdk.org X-Mailman-Version: 2.1.29 Precedence: list List-Id: automatic DPDK test reports List-Unsubscribe: , List-Archive: List-Post: List-Help: List-Subscribe: , Errors-To: test-report-bounces@dpdk.org _Testing PASS_ Branch: dpdk 0eb86b4533d40bcd703972421b9a201c02f37f8a --> testing pass Upstream job id: Generic-VM-Unit-Test-DPDK#29638 Test environment and result as below: +-------------------------------+----------------+ | Environment | dpdk_unit_test | +===============================+================+ | Debian GNU/Linux 12 | PASS | +-------------------------------+----------------+ | CentOS Stream 10 | PASS | +-------------------------------+----------------+ | CentOS Stream 9 | PASS | +-------------------------------+----------------+ | Arch Linux 20250613.0.365270 | PASS | +-------------------------------+----------------+ | Fedora Linux 40 | PASS | +-------------------------------+----------------+ | Ubuntu 22.04 | PASS | +-------------------------------+----------------+ | Ubuntu 20.04 | PASS | +-------------------------------+----------------+ | Red Hat Enterprise Linux 8.10 | PASS | +-------------------------------+----------------+ | Fedora Linux 41 | PASS | +-------------------------------+----------------+ | Red Hat Enterprise Linux 9.5 | PASS | +-------------------------------+----------------+ | Ubuntu 24.04 | PASS | +-------------------------------+----------------+ | Windows Server 2022 | PASS | +-------------------------------+----------------+ Debian GNU/Linux 12 Kernel: 5.15 Compiler: gcc gcc (Debian 12.2.0-14+deb12u1) 12.2.0 CentOS Stream 10 Kernel: 5.15 Compiler: gcc gcc (GCC) 14.2.1 20250110 (Red Hat 14.2.1-8) CentOS Stream 9 Kernel: 5.15 Compiler: gcc gcc (GCC) 11.5.0 20240719 (Red Hat 11.5.0-7) Arch Linux 20250613.0.365270 Kernel: 5.15 Compiler: gcc gcc (GCC) 15.1.1 20250425 Fedora Linux 40 Kernel: 5.15 Compiler: clang gcc (GCC) 14.2.1 20240912 (Red Hat 14.2.1-3) Ubuntu 22.04 Kernel: 5.15 Compiler: gcc gcc (Ubuntu 11.4.0-1ubuntu1~22.04) 11.4.0 Ubuntu 20.04 Kernel: 5.15 Compiler: gcc gcc (Ubuntu 9.4.0-1ubuntu1~20.04.2) 9.4.0 Red Hat Enterprise Linux 8.10 Kernel: 5.15 Compiler: gcc gcc (GCC) 8.5.0 20210514 (Red Hat 8.5.0-22) Fedora Linux 41 Kernel: 5.15 Compiler: gcc gcc (GCC) 14.3.1 20250523 (Red Hat 14.3.1-1) Red Hat Enterprise Linux 9.5 Kernel: 5.15 Compiler: gcc gcc (GCC) 11.5.0 20240719 (Red Hat 11.5.0-2) Ubuntu 24.04 Kernel: 5.15 Compiler: gcc gcc (Ubuntu 13.3.0-6ubuntu2~24.04) 13.3.0 Windows Server 2022 Kernel: 10.0.20348.2031 Compiler: clang 15.0.7, gcc 14.1.0 (MinGW), and MSVC VS 19.39.33521 To view detailed results, visit: https://lab.dpdk.org/results/dashboard/tarballs/34104/ UNH-IOL DPDK Community Lab To manage your email subscriptions, visit: https://lab.dpdk.org/results/dashboard/preferences/subscriptions/