From mboxrd@z Thu Jan 1 00:00:00 1970 Return-Path: Received: from mails.dpdk.org (mails.dpdk.org [217.70.189.124]) by inbox.dpdk.org (Postfix) with ESMTP id CAC5346ABC for ; Wed, 2 Jul 2025 03:20:09 +0200 (CEST) Received: from mails.dpdk.org (localhost [127.0.0.1]) by mails.dpdk.org (Postfix) with ESMTP id 95BB640264; Wed, 2 Jul 2025 03:20:09 +0200 (CEST) Received: from mail-qt1-f225.google.com (mail-qt1-f225.google.com [209.85.160.225]) by mails.dpdk.org (Postfix) with ESMTP id 343E240264 for ; Wed, 2 Jul 2025 03:20:08 +0200 (CEST) Received: by mail-qt1-f225.google.com with SMTP id d75a77b69052e-4a442a3a2bfso67111471cf.1 for ; Tue, 01 Jul 2025 18:20:08 -0700 (PDT) DKIM-Signature: v=1; a=rsa-sha256; c=relaxed/relaxed; d=iol.unh.edu; s=unh-iol; t=1751419207; x=1752024007; darn=dpdk.org; h=cc:to:from:subject:message-id:date:from:to:cc:subject:date :message-id:reply-to; bh=9/EKlYMbLiIKjuH/oy3rUeYQdA5vULWu3AXDc74D6qQ=; b=jzrjgNxqIRc/q6ZEMldEK0nT4JsSgF20tE7OxAc5FsnDxIIK9A5Xhm0TWopJcZbAT4 3vFWE7xJb0OfMdbEjB9txRPltxkeJQBr7N4D0GPVE72q6MzrQx2LmaiNcI7anKbJegn9 xdDBleC8uSL6fNi7O0EWCD6xYHDvVMGAfN/jY= X-Google-DKIM-Signature: v=1; a=rsa-sha256; c=relaxed/relaxed; d=1e100.net; s=20230601; t=1751419207; x=1752024007; h=cc:to:from:subject:message-id:date:x-gm-message-state:from:to:cc :subject:date:message-id:reply-to; bh=9/EKlYMbLiIKjuH/oy3rUeYQdA5vULWu3AXDc74D6qQ=; b=nxJvTJw+St+w5KToBUKNKwmiAkBL0lbvOmwaQOAZQF/4/uzhFey0z58uFGUb0D3gCa JoaveXM2JkHOT9PY/6yfpicjVajZf0Ejm+wWF3wdq0bHTkkX2GpPnFbmq4Ml9ZJT3Sf3 ApKukalrUzl3H1WQwyoITOE1MA4iavM6q3zaiV7NA3IbegPrR5Y/DgRaGuGq+zYgYnOf rC4ZXbn/rM0ip7f+nD/Yne66fmv+ygy1s3f3f1Lls4brr6BQhjcASgh9t/gmsHbHPRTA EoSfu7TIij5eg7rtogut1nRU5+C8BhhRcUyYwAG2EMWwz3BK6DDBrcnzHLqvcFUdSmqm N2hA== X-Gm-Message-State: AOJu0YxvhG85uYDasut2XHZNeei4S8wTkfJtMj40QX51sYpEfztqMUYh D8KYEVzSw+NhXxpalrCtf6Hg+vBk7n3ZP76SYNo5mRX9c//PbI0GXUnoLXSmUx5qD2LwDHoQeuu 7HAfwtXPVs6tcg6ZTZHYfNuc3obpOrq5Lq4EnTGJP7eKW X-Gm-Gg: ASbGncsDHo8/bSlgkpnrhxkjCTXrGL/O8Go5u1qx/Cuv8lMp1EVxq0jR6ETzOyrpnCT lfYpsMw4eHGPt7zHd9f7cNwS1ESv7yI2k4lzTx2l86JNc8S5J80S3YUbECoe8fNhQ675KUDt61g SgTG+bJzjrW7voPhgkrWpMExcaHUvH9Jvwj/hucte/+wKLnw/dWTVlcbsicFGobhyUwOGaxQ7Ee yLZ3uvhecHSpcd/ZA0a4za3VlDoOOd0098y1HrDiWKugZDLc8D0JCMh2gkXOJR1P5MQ/NZywVOk dqlCN7Gdao+60I8agV+sQd5mBJz0q3+LPXClarCO2QUezEzsUjo2R6M84eU8cChPz+r45w== X-Google-Smtp-Source: AGHT+IGmA9VboGjZ6KBJljmnOSIhj4TO4pF9do0+KXSRPl4wabbHwwrCBhL0YaByauGtDNT62O8+7PeGydsQ X-Received: by 2002:a05:622a:424c:b0:4a7:f833:8833 with SMTP id d75a77b69052e-4a976a2020dmr21000901cf.37.1751419207496; Tue, 01 Jul 2025 18:20:07 -0700 (PDT) Received: from postal.iol.unh.edu (postal.iol.unh.edu. [132.177.123.84]) by smtp-relay.gmail.com with ESMTPS id d75a77b69052e-4a7fc21fe4bsm4189691cf.21.2025.07.01.18.20.07 (version=TLS1_2 cipher=ECDHE-ECDSA-AES128-GCM-SHA256 bits=128/128); Tue, 01 Jul 2025 18:20:07 -0700 (PDT) X-Relaying-Domain: iol.unh.edu Date: Tue, 01 Jul 2025 18:20:07 -0700 (PDT) Message-ID: <68648947.050a0220.ea0d5.6b7aSMTPIN_ADDED_MISSING@mx.google.com> Received: from [172.17.0.3] (unknown [172.18.0.74]) by postal.iol.unh.edu (Postfix) with ESMTP id 2F3C360003E8; Tue, 1 Jul 2025 21:20:07 -0400 (EDT) Subject: |SUCCESS| [GIT MASTER] 0eb86b4533d40bcd703972421b9a201c02f37f8a From: dpdklab@iol.unh.edu To: Test Report Cc: dpdk-test-reports@iol.unh.edu Content-Type: text/plain X-BeenThere: test-report@dpdk.org X-Mailman-Version: 2.1.29 Precedence: list List-Id: automatic DPDK test reports List-Unsubscribe: , List-Archive: List-Post: List-Help: List-Subscribe: , Errors-To: test-report-bounces@dpdk.org _Testing PASS_ Branch: dpdk 0eb86b4533d40bcd703972421b9a201c02f37f8a --> testing pass Upstream job id: Generic-VM-Unit-Test-DPDK#29639 Test environment and result as below: +-------------------------------+----------------+ | Environment | dpdk_unit_test | +===============================+================+ | Debian GNU/Linux 12 | PASS | +-------------------------------+----------------+ | CentOS Stream 10 | PASS | +-------------------------------+----------------+ | CentOS Stream 9 | PASS | +-------------------------------+----------------+ | Arch Linux 20250613.0.365270 | PASS | +-------------------------------+----------------+ | Fedora Linux 40 | PASS | +-------------------------------+----------------+ | Ubuntu 22.04 | PASS | +-------------------------------+----------------+ | Ubuntu 20.04 | PASS | +-------------------------------+----------------+ | Red Hat Enterprise Linux 8.10 | PASS | +-------------------------------+----------------+ | Fedora Linux 41 | PASS | +-------------------------------+----------------+ | Red Hat Enterprise Linux 9.5 | PASS | +-------------------------------+----------------+ | Ubuntu 24.04 | PASS | +-------------------------------+----------------+ | Windows Server 2022 | PASS | +-------------------------------+----------------+ Debian GNU/Linux 12 Kernel: 5.15 Compiler: gcc gcc (Debian 12.2.0-14+deb12u1) 12.2.0 CentOS Stream 10 Kernel: 5.15 Compiler: gcc gcc (GCC) 14.2.1 20250110 (Red Hat 14.2.1-8) CentOS Stream 9 Kernel: 5.15 Compiler: gcc gcc (GCC) 11.5.0 20240719 (Red Hat 11.5.0-7) Arch Linux 20250613.0.365270 Kernel: 5.15 Compiler: gcc gcc (GCC) 15.1.1 20250425 Fedora Linux 40 Kernel: 5.15 Compiler: clang gcc (GCC) 14.2.1 20240912 (Red Hat 14.2.1-3) Ubuntu 22.04 Kernel: 5.15 Compiler: gcc gcc (Ubuntu 11.4.0-1ubuntu1~22.04) 11.4.0 Ubuntu 20.04 Kernel: 5.15 Compiler: gcc gcc (Ubuntu 9.4.0-1ubuntu1~20.04.2) 9.4.0 Red Hat Enterprise Linux 8.10 Kernel: 5.15 Compiler: gcc gcc (GCC) 8.5.0 20210514 (Red Hat 8.5.0-22) Fedora Linux 41 Kernel: 5.15 Compiler: gcc gcc (GCC) 14.3.1 20250523 (Red Hat 14.3.1-1) Red Hat Enterprise Linux 9.5 Kernel: 5.15 Compiler: gcc gcc (GCC) 11.5.0 20240719 (Red Hat 11.5.0-2) Ubuntu 24.04 Kernel: 5.15 Compiler: gcc gcc (Ubuntu 13.3.0-6ubuntu2~24.04) 13.3.0 Windows Server 2022 Kernel: 10.0.20348.2031 Compiler: clang 15.0.7, gcc 14.1.0 (MinGW), and MSVC VS 19.39.33521 To view detailed results, visit: https://lab.dpdk.org/results/dashboard/tarballs/34104/ UNH-IOL DPDK Community Lab To manage your email subscriptions, visit: https://lab.dpdk.org/results/dashboard/preferences/subscriptions/