From mboxrd@z Thu Jan 1 00:00:00 1970 Return-Path: Received: from mails.dpdk.org (mails.dpdk.org [217.70.189.124]) by inbox.dpdk.org (Postfix) with ESMTP id A5D4146ABC for ; Wed, 2 Jul 2025 03:30:21 +0200 (CEST) Received: from mails.dpdk.org (localhost [127.0.0.1]) by mails.dpdk.org (Postfix) with ESMTP id 7E22640264; Wed, 2 Jul 2025 03:30:21 +0200 (CEST) Received: from mail-ot1-f99.google.com (mail-ot1-f99.google.com [209.85.210.99]) by mails.dpdk.org (Postfix) with ESMTP id 3236740264 for ; Wed, 2 Jul 2025 03:30:20 +0200 (CEST) Received: by mail-ot1-f99.google.com with SMTP id 46e09a7af769-72bc3987a05so3823704a34.1 for ; Tue, 01 Jul 2025 18:30:20 -0700 (PDT) DKIM-Signature: v=1; a=rsa-sha256; c=relaxed/relaxed; d=iol.unh.edu; s=unh-iol; t=1751419819; x=1752024619; darn=dpdk.org; h=cc:to:from:subject:message-id:date:from:to:cc:subject:date :message-id:reply-to; bh=l40208xScx7wikfPmf/wN2LCt9ozXOXLYR6LIZDKy2o=; b=DzgRaB7pTOBBFGPv4A5FuMAAK2VJ6hRW6bm7sVUFBIJMDS5H09cmSBEJOb441O/oQ7 /ccF2wGOfYFkPkPgQVUaq07+QGM6rx4J6I/KlxxU4dmMYMUPHE3nCNRQVM8Y6KRRD402 vGUv62xiZBotGH7IWqSPb3cZG/y0IFVCYGc/o= X-Google-DKIM-Signature: v=1; a=rsa-sha256; c=relaxed/relaxed; d=1e100.net; s=20230601; t=1751419819; x=1752024619; h=cc:to:from:subject:message-id:date:x-gm-message-state:from:to:cc :subject:date:message-id:reply-to; bh=l40208xScx7wikfPmf/wN2LCt9ozXOXLYR6LIZDKy2o=; b=szUoqEiVgct7qxr5M+uypnxE969dY0Y7C5HaU5/5O+m/8nsxfEZC/U05jp4YiLNrSK dPYyRSNy0ecq3V3dt13sHxos86qOekhYHomPEqB7yqRy2oR7LrQL5AvyeHJYc8u0roOU 5nIvZ1Uw1KWhZyagRe7yrXNB9S0ry2ltHURc82vWoJlBryf8Mwj5cSweOM10QZ+OvxGc QeyCOUXHS5G8fL4psP3cTcWacg/1OdYC/8Jn5+ZXOUL9KVZ7SpDYP3yvQPoQyjfdBdde AhmX+FfzePmW1lsAacy8+61TuXODe0MptTFqcj01cmYM8ilkXaq4TPI3yijtCYyouUrM PqgA== X-Gm-Message-State: AOJu0Yz3o9u7mg872qqmMxX36/pgDpQvo9UfcfWazrREobZS1Pe5wh/C wEXXsJRT0+kwQo0pCxicT9TvJbggXeBJw5hsT1ibZ5oIGoj7nex/rqxhbS9lSGVD6HMsgH3Nuqz G7e2ALBNwMcNxXz6WYy+/lltfU/yBbrpwKeRTZyIJFSk6 X-Gm-Gg: ASbGncs/g595w2FE0kjqiYvYrZgyelAhu+g9zwrVlJN/oMneLEiRQmeCpCAv+CSxbsj rZSjQW+o+iT9tcDrx0lyAvvtV9bMQpZVsV6R0H9rUjNWQo1mJ85DXgqLEEcwWnmgbFUrdnPUaRy QEXLkGr0B4cMES4/Tt8H9B+agGkpa0QvmiDY4IltZL6VJG8yHmBkrg99Dkrj1y6PN+x3vuDrBjV IrMEBSPJ/LSVwl/eao4SPnrVeCJUZ1Jdw79hXsGP9jRfGXJezHMzeQMXzRnX5iN/K+vaiIdbQP0 WSEKKpsGZOomVsDJ1cKF/O89F7QzVs1hciw17LMu+TonyH1yCYQBvTtapn8a72kq+Sp+cQ== X-Google-Smtp-Source: AGHT+IHDMToUw62MvQfUsql9rJNDfTYE+Xdo0NqgrRwZ6zzgODkc0TiNDzOuhduKX0el9aJVm9qPYG9QgLbZ X-Received: by 2002:a05:6830:3c03:b0:73a:4052:f679 with SMTP id 46e09a7af769-73b4f126a05mr597266a34.12.1751419819318; Tue, 01 Jul 2025 18:30:19 -0700 (PDT) Received: from postal.iol.unh.edu (postal.iol.unh.edu. [132.177.123.84]) by smtp-relay.gmail.com with ESMTPS id 586e51a60fabf-2efd4d812dbsm690180fac.4.2025.07.01.18.30.19 (version=TLS1_2 cipher=ECDHE-ECDSA-AES128-GCM-SHA256 bits=128/128); Tue, 01 Jul 2025 18:30:19 -0700 (PDT) X-Relaying-Domain: iol.unh.edu Date: Tue, 01 Jul 2025 18:30:19 -0700 (PDT) Message-ID: <68648bab.050a0220.197c47.4b0fSMTPIN_ADDED_MISSING@mx.google.com> Received: from [172.17.0.2] (unknown [172.18.0.76]) by postal.iol.unh.edu (Postfix) with ESMTP id C8D976051830; Tue, 1 Jul 2025 21:30:18 -0400 (EDT) Subject: |SUCCESS| [GIT MASTER] 0eb86b4533d40bcd703972421b9a201c02f37f8a From: dpdklab@iol.unh.edu To: Test Report Cc: dpdk-test-reports@iol.unh.edu Content-Type: text/plain X-BeenThere: test-report@dpdk.org X-Mailman-Version: 2.1.29 Precedence: list List-Id: automatic DPDK test reports List-Unsubscribe: , List-Archive: List-Post: List-Help: List-Subscribe: , Errors-To: test-report-bounces@dpdk.org _Testing PASS_ Branch: dpdk 0eb86b4533d40bcd703972421b9a201c02f37f8a --> testing pass Upstream job id: Generic-DPDK-Compile-ABI#132651 Test environment and result as below: +-------------------------------+----------+ | Environment | abi_test | +===============================+==========+ | CentOS Stream 9 | PASS | +-------------------------------+----------+ | Fedora Linux 41 | PASS | +-------------------------------+----------+ | Debian GNU/Linux 12 | PASS | +-------------------------------+----------+ | Fedora Linux 40 | PASS | +-------------------------------+----------+ | CentOS Stream 10 | PASS | +-------------------------------+----------+ | Red Hat Enterprise Linux 8.10 | PASS | +-------------------------------+----------+ | Arch Linux 20250613.0.365270 | PASS | +-------------------------------+----------+ | Red Hat Enterprise Linux 9.5 | PASS | +-------------------------------+----------+ | Ubuntu 22.04 | PASS | +-------------------------------+----------+ | openSUSE Leap 15.6 | PASS | +-------------------------------+----------+ | Ubuntu 24.04 | PASS | +-------------------------------+----------+ CentOS Stream 9 Kernel: 5.15 Compiler: gcc gcc (GCC) 11.5.0 20240719 (Red Hat 11.5.0-7) Fedora Linux 41 Kernel: 5.15 Compiler: clang gcc (GCC) 14.3.1 20250523 (Red Hat 14.3.1-1) Debian GNU/Linux 12 Kernel: 5.15 Compiler: gcc gcc (Debian 12.2.0-14+deb12u1) 12.2.0 Fedora Linux 40 Kernel: 5.15 Compiler: gcc gcc (GCC) 14.2.1 20240912 (Red Hat 14.2.1-3) CentOS Stream 10 Kernel: 5.15 Compiler: gcc gcc (GCC) 14.2.1 20250110 (Red Hat 14.2.1-8) Red Hat Enterprise Linux 8.10 Kernel: 5.15 Compiler: gcc gcc (GCC) 8.5.0 20210514 (Red Hat 8.5.0-22) Arch Linux 20250613.0.365270 Kernel: 5.15 Compiler: gcc gcc (GCC) 15.1.1 20250425 Red Hat Enterprise Linux 9.5 Kernel: 5.15 Compiler: gcc gcc (GCC) 11.5.0 20240719 (Red Hat 11.5.0-2) Ubuntu 22.04 Kernel: 5.15 Compiler: gcc gcc (Ubuntu 11.4.0-1ubuntu1~22.04) 11.4.0 openSUSE Leap 15.6 Kernel: 5.15 Compiler: gcc gcc (SUSE Linux) 7.5.0 Ubuntu 24.04 Kernel: 5.15 Compiler: gcc gcc (Ubuntu 13.3.0-6ubuntu2~24.04) 13.3.0 To view detailed results, visit: https://lab.dpdk.org/results/dashboard/tarballs/34104/ UNH-IOL DPDK Community Lab To manage your email subscriptions, visit: https://lab.dpdk.org/results/dashboard/preferences/subscriptions/