From mboxrd@z Thu Jan 1 00:00:00 1970 Return-Path: Received: from mails.dpdk.org (mails.dpdk.org [217.70.189.124]) by inbox.dpdk.org (Postfix) with ESMTP id 805D046ABC for ; Wed, 2 Jul 2025 03:39:47 +0200 (CEST) Received: from mails.dpdk.org (localhost [127.0.0.1]) by mails.dpdk.org (Postfix) with ESMTP id 7300040264; Wed, 2 Jul 2025 03:39:47 +0200 (CEST) Received: from mail-qv1-f98.google.com (mail-qv1-f98.google.com [209.85.219.98]) by mails.dpdk.org (Postfix) with ESMTP id E660A40264 for ; Wed, 2 Jul 2025 03:39:45 +0200 (CEST) Received: by mail-qv1-f98.google.com with SMTP id 6a1803df08f44-6faf66905baso47178626d6.2 for ; Tue, 01 Jul 2025 18:39:45 -0700 (PDT) DKIM-Signature: v=1; a=rsa-sha256; c=relaxed/relaxed; d=iol.unh.edu; s=unh-iol; t=1751420385; x=1752025185; darn=dpdk.org; h=cc:to:from:subject:message-id:date:from:to:cc:subject:date :message-id:reply-to; bh=FpMo6Am8pa+9OrHRsna0UB/7bbH0qGWL0avWQMiQ1B8=; b=Dc2mEQ8zR/dSlwyILkJhmBId0qzap3cqCd/Rp0tpUk0MC/6aK5tfkm+9MefmDiGvsQ lUryZOx/VGBdLrBwJX1ObvTPBaDC+BHaWGrsZS43iFQUzs3F5VYKmNMWzQGvhomchuRA dPUQlNld/dPZzsQucCVftQJ1Ro+Ee3khnc8E0= X-Google-DKIM-Signature: v=1; a=rsa-sha256; c=relaxed/relaxed; d=1e100.net; s=20230601; t=1751420385; x=1752025185; h=cc:to:from:subject:message-id:date:x-gm-message-state:from:to:cc :subject:date:message-id:reply-to; bh=FpMo6Am8pa+9OrHRsna0UB/7bbH0qGWL0avWQMiQ1B8=; b=HAHg9PTbjwTaSETEHONKaE7CBa9B4R2oYzZRK8PnQauTf7W1Z4jl6GdSyjOtJYG2Fe VHzcKyZIdn7tYfKlEynuTKhKGB5nyHvBRUl7P2f305Z/Vj2p3+Jwk1WvLdOIBCiqMI+M qsCXJYU0SbQPCmBuJhdzYAPJvOwgXn+jFFQQHacUM7uX8hHn2EDn9Hk3oqs6oTGTH6SF LzmJwfAxN4X1vALtn960FAPLRKSIJZQSdTRUAOyx34beLdccxlPyjk5wuibX/gCcYgum /cepA2tB9iSmJ+dWPfg7E+EgTHVQC6JSmQjf7STYJ047smeuihLk5hbFcsvM3FqbSPyp 2LPw== X-Gm-Message-State: AOJu0YwiB6gO+qyavFp6EhLCSPUl4ZWkMc5E0xeUfwoXh1d3y7sDHnJp RiL0b2Gh27QYNpzeX5FyvhkittwTkUsf8D2M+B7xAMjNN0Gwc2Ajc4kQi1NMD2c0MFAgW8ctZZI ZePMqjvNj+YUZPI6nneZ468EQAhSfRWx4Rq96pbn0tJ6w X-Gm-Gg: ASbGncvkMlivMeBNnz9hC+kndgw99goMISvoRW+BACClqwtt9oVAbKu624sNJInguhW tl6Dbs/Fs/HvhNhtPIUm4nFoNIJHSoDnZUDy7zQKdLLfqfMW3kTO7bZGx5af/PladOXZ1mJV5oc iVzcu27HlM2lNXYiV6fhL1GhSnSVNAVya0saBowDljAhrNcUGZnWw2kfRrPHO09aIYiHhCEJ+h0 Hr12vYT8Jflhg9D2Ip4hLOTAqCEW6FsnmZpe3MBdPCnT5sl1cUf3hFg2fbH+hz3LQLh1jt8pP5e 97u3uICkrbK8cDG/bYWysl8Ywm+4zAEl0bzjcuRkLShX1rQnMXAVlF0OuXFI1Wphc8mPtA== X-Google-Smtp-Source: AGHT+IEDVgiR/2IaFwKurLE88GtS2yKlTp9iE/jyFbqB0yn9qQfZ1DPEqa4x0MILZK5ZGSlfBqgJmKAV9M0d X-Received: by 2002:a05:6214:5001:b0:6fb:14:5e89 with SMTP id 6a1803df08f44-702b1a6bc95mr12516436d6.19.1751420385311; Tue, 01 Jul 2025 18:39:45 -0700 (PDT) Received: from postal.iol.unh.edu (postal.iol.unh.edu. [132.177.123.84]) by smtp-relay.gmail.com with ESMTPS id 6a1803df08f44-6fd771822a6sm6727956d6.14.2025.07.01.18.39.45 (version=TLS1_2 cipher=ECDHE-ECDSA-AES128-GCM-SHA256 bits=128/128); Tue, 01 Jul 2025 18:39:45 -0700 (PDT) X-Relaying-Domain: iol.unh.edu Date: Tue, 01 Jul 2025 18:39:45 -0700 (PDT) Message-ID: <68648de1.d40a0220.12a12f.4551SMTPIN_ADDED_MISSING@mx.google.com> Received: from [172.17.0.2] (unknown [172.18.0.74]) by postal.iol.unh.edu (Postfix) with ESMTP id 09E516051830; Tue, 1 Jul 2025 21:39:45 -0400 (EDT) Subject: |WARNING| [GIT MASTER] 0eb86b4533d40bcd703972421b9a201c02f37f8a From: dpdklab@iol.unh.edu To: Test Report Cc: dpdk-test-reports@iol.unh.edu Content-Type: text/plain X-BeenThere: test-report@dpdk.org X-Mailman-Version: 2.1.29 Precedence: list List-Id: automatic DPDK test reports List-Unsubscribe: , List-Archive: List-Post: List-Help: List-Subscribe: , Errors-To: test-report-bounces@dpdk.org _Testing issues_ Branch: dpdk 0eb86b4533d40bcd703972421b9a201c02f37f8a --> testing issues Upstream job id: Generic-DPDK-Compile-Meson#404427 Test environment and result as below: +-------------------------------+--------------------+-------------------+------------------+-------------------------+-------------------+----------------------+ | Environment | dpdk_meson_compile | dpdk_compile_spdk | dpdk_compile_ovs | dpdk_llvm_clang_compile | dpdk_msvc_compile | dpdk_mingw64_compile | +===============================+====================+===================+==================+=========================+===================+======================+ | CentOS Stream 9 | PASS | PASS | SKIPPED | SKIPPED | SKIPPED | SKIPPED | +-------------------------------+--------------------+-------------------+------------------+-------------------------+-------------------+----------------------+ | Debian GNU/Linux 12 | PASS | PASS | SKIPPED | SKIPPED | SKIPPED | SKIPPED | +-------------------------------+--------------------+-------------------+------------------+-------------------------+-------------------+----------------------+ | CentOS Stream 10 | PASS | SKIPPED | SKIPPED | SKIPPED | SKIPPED | SKIPPED | +-------------------------------+--------------------+-------------------+------------------+-------------------------+-------------------+----------------------+ | Fedora Linux 40 | PASS | PASS | SKIPPED | SKIPPED | SKIPPED | SKIPPED | +-------------------------------+--------------------+-------------------+------------------+-------------------------+-------------------+----------------------+ | Fedora Linux 41 | PASS | PASS | PASS | SKIPPED | SKIPPED | SKIPPED | +-------------------------------+--------------------+-------------------+------------------+-------------------------+-------------------+----------------------+ | openSUSE Leap 15.6 | PASS | SKIPPED | SKIPPED | SKIPPED | SKIPPED | SKIPPED | +-------------------------------+--------------------+-------------------+------------------+-------------------------+-------------------+----------------------+ | Red Hat Enterprise Linux 8.10 | PASS | SKIPPED | SKIPPED | SKIPPED | SKIPPED | SKIPPED | +-------------------------------+--------------------+-------------------+------------------+-------------------------+-------------------+----------------------+ | Ubuntu 24.04 | PASS | PASS | PASS | SKIPPED | SKIPPED | SKIPPED | +-------------------------------+--------------------+-------------------+------------------+-------------------------+-------------------+----------------------+ | Ubuntu 20.04 | PASS | SKIPPED | SKIPPED | SKIPPED | SKIPPED | SKIPPED | +-------------------------------+--------------------+-------------------+------------------+-------------------------+-------------------+----------------------+ | Red Hat Enterprise Linux 9.5 | PASS | SKIPPED | SKIPPED | SKIPPED | SKIPPED | SKIPPED | +-------------------------------+--------------------+-------------------+------------------+-------------------------+-------------------+----------------------+ | Ubuntu 22.04 | PASS | PASS | SKIPPED | SKIPPED | SKIPPED | SKIPPED | +-------------------------------+--------------------+-------------------+------------------+-------------------------+-------------------+----------------------+ | Arch Linux 20250613.0.365270 | PASS | SKIPPED | SKIPPED | SKIPPED | SKIPPED | SKIPPED | +-------------------------------+--------------------+-------------------+------------------+-------------------------+-------------------+----------------------+ | Alpine Linux 3.22.0 | PASS | SKIPPED | SKIPPED | SKIPPED | SKIPPED | SKIPPED | +-------------------------------+--------------------+-------------------+------------------+-------------------------+-------------------+----------------------+ | FreeBSD 14.2 | PASS | SKIPPED | SKIPPED | SKIPPED | SKIPPED | SKIPPED | +-------------------------------+--------------------+-------------------+------------------+-------------------------+-------------------+----------------------+ | Windows Server 2022 | SKIPPED | SKIPPED | SKIPPED | PASS | PASS | PASS | +-------------------------------+--------------------+-------------------+------------------+-------------------------+-------------------+----------------------+ CentOS Stream 9 Kernel: 5.15 Compiler: gcc gcc (GCC) 11.5.0 20240719 (Red Hat 11.5.0-7) Debian GNU/Linux 12 Kernel: 5.15 Compiler: gcc gcc (Debian 12.2.0-14+deb12u1) 12.2.0 CentOS Stream 10 Kernel: 5.15 Compiler: gcc gcc (GCC) 14.2.1 20250110 (Red Hat 14.2.1-8) Fedora Linux 40 Kernel: 5.15 Compiler: clang gcc (GCC) 14.2.1 20240912 (Red Hat 14.2.1-3) Fedora Linux 41 Kernel: 5.15 Compiler: clang gcc (GCC) 14.3.1 20250523 (Red Hat 14.3.1-1) openSUSE Leap 15.6 Kernel: 5.15 Compiler: gcc gcc (SUSE Linux) 7.5.0 Red Hat Enterprise Linux 8.10 Kernel: 5.15 Compiler: gcc gcc (GCC) 8.5.0 20210514 (Red Hat 8.5.0-22) Ubuntu 24.04 Kernel: 5.15 Compiler: gcc gcc (Ubuntu 13.3.0-6ubuntu2~24.04) 13.3.0 Ubuntu 20.04 Kernel: 5.15 Compiler: gcc gcc (Ubuntu 9.4.0-1ubuntu1~20.04.2) 9.4.0 Red Hat Enterprise Linux 9.5 Kernel: 5.15 Compiler: gcc gcc (GCC) 11.5.0 20240719 (Red Hat 11.5.0-2) Ubuntu 22.04 Kernel: 5.15 Compiler: gcc gcc (Ubuntu 11.4.0-1ubuntu1~22.04) 11.4.0 Arch Linux 20250613.0.365270 Kernel: 5.15 Compiler: gcc gcc (GCC) 15.1.1 20250425 Alpine Linux 3.22.0 Kernel: 5.15 Compiler: gcc gcc (Alpine 14.2.0) 14.2.0 FreeBSD 14.2 Kernel: 14.2-RELEASE Compiler: clang 18.1.6 Windows Server 2022 Kernel: 10.0.20348.2031 Compiler: clang 15.0.7, gcc 14.1.0 (MinGW), and MSVC VS 19.39.33521 To view detailed results, visit: https://lab.dpdk.org/results/dashboard/tarballs/34104/ UNH-IOL DPDK Community Lab To manage your email subscriptions, visit: https://lab.dpdk.org/results/dashboard/preferences/subscriptions/