From mboxrd@z Thu Jan 1 00:00:00 1970 Return-Path: Received: from mails.dpdk.org (mails.dpdk.org [217.70.189.124]) by inbox.dpdk.org (Postfix) with ESMTP id 95BBD46ABB for ; Wed, 2 Jul 2025 03:49:30 +0200 (CEST) Received: from mails.dpdk.org (localhost [127.0.0.1]) by mails.dpdk.org (Postfix) with ESMTP id 77AE940264; Wed, 2 Jul 2025 03:49:30 +0200 (CEST) Received: from mail-pl1-f228.google.com (mail-pl1-f228.google.com [209.85.214.228]) by mails.dpdk.org (Postfix) with ESMTP id 2ECE440264 for ; Wed, 2 Jul 2025 03:49:29 +0200 (CEST) Received: by mail-pl1-f228.google.com with SMTP id d9443c01a7336-23c703c471dso224385ad.0 for ; Tue, 01 Jul 2025 18:49:29 -0700 (PDT) DKIM-Signature: v=1; a=rsa-sha256; c=relaxed/relaxed; d=iol.unh.edu; s=unh-iol; t=1751420968; x=1752025768; darn=dpdk.org; h=references:in-reply-to:cc:to:from:subject:message-id:date:from:to :cc:subject:date:message-id:reply-to; bh=6rLcrx3Exnvac2qSrU68cifnLmMKWOx8gR58hMmjIg0=; b=i6GSL6xrDqmQA+dRlt37wpXASt0MpC5bdt6bBn2JqulHo2/7zVQcJqRyvovjIufrso N/8DgHZ8Dr7wdDfKvIW1lCJXkHqztr/0WY5jlGG9YvmMKSnn96HkTN2S6GIqTx4buxDk nGUfxfUfFrk8VrhYGcq76iote6ApXLnh2uj+U= X-Google-DKIM-Signature: v=1; a=rsa-sha256; c=relaxed/relaxed; d=1e100.net; s=20230601; t=1751420968; x=1752025768; h=references:in-reply-to:cc:to:from:subject:message-id:date :x-gm-message-state:from:to:cc:subject:date:message-id:reply-to; bh=6rLcrx3Exnvac2qSrU68cifnLmMKWOx8gR58hMmjIg0=; b=tVkaE3uSSAlIdo8aAvfbBnNge8fCo3/vGhRFpAzDiK4TG3UjWs0LZFQ8YD4LujwP8t JslARpRVhBwQVsiFqMPMj6TByceWybdN0QcE6Y4owh3KivPdnO3Ocl1irbSb/pN0b3I7 eY6jvpXaELc/cFBToIegDxJP9QxBTMqhBJpBtbqpSV1Hu5nVwQF2SNKwC/zf1GBzAnCN unUMni8ifHcG4jXOr6S2CZODiuFNaCKyAQdF/CGTc79oeVDfkod1JIozvX84TIApMb0E iMWzKWgkkw3AkkejvJ1WF6gKvBylNd252t+DozMmyP5DU31ZyRTxjs+Q5R0E47tQ84ph EVJw== X-Gm-Message-State: AOJu0Yw7qXhpYCO9m0VOpTbiYtat5TWLmqcxjCmAJP+gDNXafNud+IrK 07aoP2xMjBYpJc9BSpMJntWCKH5BtlAwDZsynjEWGU4cKgBIXfb2s+I8/89VT3PHA6PmuIY2sxm PHd4akrTyZvIsDVJAj3VbV3lGJpMrca3ftplrMMiCm8S57dpMwip7OM/wEizV X-Gm-Gg: ASbGnctqLvNZltxY7ZagUuFi4jt76Xl14wV4CiLbDb8lLrCGg9w0R99F2VTOhZ/aJlP 4Uk5Bso01qcnFLQNWE1f5Yvd8GkorbMbzLxtKQ3VdkJ7nYW6fAGHYJmUsern1ARwQxQLDmz5M9b r8zENuVWaE9FsaNdOy8DW2Qj827GjPuNBHkslEgPgxbh+67+UB1xwrlzefTKouC/51Rbywpw+Rz OwCrYjWOQbzSiJYM0/KyGKNxrDdYgwC/zZJuE+E/22CyqO4iKgMSDxT7yor6OTTkrnz+Nz7odCn LG0VnjaWHab82QZ3UdzmXWrx8y7Ty71aE1G3Wf6qX0fqcF0= X-Google-Smtp-Source: AGHT+IGXClE+7n6FX6H/Vy4ls4dQdwIB+maFMaNDa8uOezQ+Jh9z5txj1ePmYVpM2dUlhd620fwfWVCmU0lB X-Received: by 2002:a17:902:d2d0:b0:233:fd7b:5e0d with SMTP id d9443c01a7336-23c6e75991emr11045115ad.5.1751420968165; Tue, 01 Jul 2025 18:49:28 -0700 (PDT) Received: from postal.iol.unh.edu (postal.iol.unh.edu. [2606:4100:3880:1234::84]) by smtp-relay.gmail.com with ESMTPS id d9443c01a7336-23acb2f9fe0sm5910135ad.53.2025.07.01.18.49.28 (version=TLS1_2 cipher=ECDHE-ECDSA-AES128-GCM-SHA256 bits=128/128); Tue, 01 Jul 2025 18:49:28 -0700 (PDT) X-Relaying-Domain: iol.unh.edu Date: Tue, 01 Jul 2025 18:49:28 -0700 (PDT) Message-ID: <68649028.170a0220.9daec.fbf6SMTPIN_ADDED_MISSING@mx.google.com> Received: from [172.17.0.2] (unknown [172.18.0.76]) by postal.iol.unh.edu (Postfix) with ESMTP id 2E3CD6051830; Tue, 1 Jul 2025 21:49:27 -0400 (EDT) Subject: |SUCCESS| pw154903 [PATCH] ci: check C++ headers with clang From: dpdklab@iol.unh.edu To: Test Report Cc: dpdk-test-reports@iol.unh.edu In-Reply-To: <20250701113146.1268492-1-david.marchand@redhat.com> References: <20250701113146.1268492-1-david.marchand@redhat.com> Content-Type: text/plain X-BeenThere: test-report@dpdk.org X-Mailman-Version: 2.1.29 Precedence: list List-Id: automatic DPDK test reports List-Unsubscribe: , List-Archive: List-Post: List-Help: List-Subscribe: , Errors-To: test-report-bounces@dpdk.org Test-Label: iol-compile-arm64-testing Test-Status: SUCCESS http://dpdk.org/patch/154903 _Testing PASS_ Submitter: David Marchand Date: Tuesday, July 01 2025 11:31:46 DPDK git baseline: Repo:dpdk Branch: master CommitID:20460dcffd08a4680f881c39916ae783ee830374 154903 --> testing pass Upstream job id: Generic-DPDK-Compile-Meson#404312 Test environment and result as below: +------------------------------+--------------------+ | Environment | dpdk_meson_compile | +==============================+====================+ | Red Hat Enterprise Linux 9.5 | PASS | +------------------------------+--------------------+ | Ubuntu 20.04 | PASS | +------------------------------+--------------------+ | Debian GNU/Linux 12 | PASS | +------------------------------+--------------------+ | Fedora Linux 40 | PASS | +------------------------------+--------------------+ | Fedora Linux 41 | PASS | +------------------------------+--------------------+ | Ubuntu 22.04 | PASS | +------------------------------+--------------------+ | Ubuntu 24.04 | PASS | +------------------------------+--------------------+ | CentOS Stream 9 | PASS | +------------------------------+--------------------+ | CentOS Stream 10 | PASS | +------------------------------+--------------------+ Red Hat Enterprise Linux 9.5 Kernel: 5.4 Compiler: gcc gcc (GCC) 11.5.0 20240719 (Red Hat 11.5.0-2) Ubuntu 20.04 Kernel: 5.15 Compiler: aarch64-linux-gnu-gcc gcc (Ubuntu 9.4.0-1ubuntu1~20.04.2) 9.4.0 Debian GNU/Linux 12 Kernel: 5.4 Compiler: gcc gcc (Debian 12.2.0-14+deb12u1) 12.2.0 Fedora Linux 40 Kernel: 5.4 Compiler: gcc gcc (GCC) 14.2.1 20240912 (Red Hat 14.2.1-3) Fedora Linux 41 Kernel: 5.4 Compiler: gcc gcc (GCC) 14.3.1 20250523 (Red Hat 14.3.1-1) Ubuntu 22.04 Kernel: 5.4 Compiler: gcc gcc (Ubuntu 11.4.0-1ubuntu1~22.04) 11.4.0 Ubuntu 24.04 Kernel: 5.4 Compiler: gcc gcc (Ubuntu 13.3.0-6ubuntu2~24.04) 13.3.0 CentOS Stream 9 Kernel: 5.4 Compiler: gcc gcc (GCC) 11.5.0 20240719 (Red Hat 11.5.0-7) CentOS Stream 10 Kernel: 5.4 Compiler: gcc gcc (GCC) 14.2.1 20250110 (Red Hat 14.2.1-8) To view detailed results, visit: https://lab.dpdk.org/results/dashboard/patchsets/33554/ UNH-IOL DPDK Community Lab To manage your email subscriptions, visit: https://lab.dpdk.org/results/dashboard/preferences/subscriptions/