From mboxrd@z Thu Jan 1 00:00:00 1970 Return-Path: Received: from mails.dpdk.org (mails.dpdk.org [217.70.189.124]) by inbox.dpdk.org (Postfix) with ESMTP id 9C45D46ABB for ; Wed, 2 Jul 2025 03:49:51 +0200 (CEST) Received: from mails.dpdk.org (localhost [127.0.0.1]) by mails.dpdk.org (Postfix) with ESMTP id 9850E40264; Wed, 2 Jul 2025 03:49:51 +0200 (CEST) Received: from mail-pl1-f225.google.com (mail-pl1-f225.google.com [209.85.214.225]) by mails.dpdk.org (Postfix) with ESMTP id 873EF40264 for ; Wed, 2 Jul 2025 03:49:50 +0200 (CEST) Received: by mail-pl1-f225.google.com with SMTP id d9443c01a7336-2353a2bc210so36474195ad.2 for ; Tue, 01 Jul 2025 18:49:50 -0700 (PDT) DKIM-Signature: v=1; a=rsa-sha256; c=relaxed/relaxed; d=iol.unh.edu; s=unh-iol; t=1751420990; x=1752025790; darn=dpdk.org; h=references:in-reply-to:cc:to:from:subject:message-id:date:from:to :cc:subject:date:message-id:reply-to; bh=rrq7ZiIFbGekY4VQl95/odngl27SdjnO8LDMejXh16U=; b=XRYH3/LQzXWW6fgkjrMEluTKr0hb/QNU60KmIyuN+Fr9wWTaIkxuVoWIMHzycbFgNz V9KBe1BWGIs1rHx1kCct76n3BT9tufPSVVBsqr0UrQ+aW/4MPqIpxy0uWMnGfG9UhVqs EE8le8wn6VUk2BaslcwcUTt0C3CjirHErd7E8= X-Google-DKIM-Signature: v=1; a=rsa-sha256; c=relaxed/relaxed; d=1e100.net; s=20230601; t=1751420990; x=1752025790; h=references:in-reply-to:cc:to:from:subject:message-id:date :x-gm-message-state:from:to:cc:subject:date:message-id:reply-to; bh=rrq7ZiIFbGekY4VQl95/odngl27SdjnO8LDMejXh16U=; b=GAbyp1316Y1S33PAY4KeL0mTh2t2Y6tqW+XvA3g4MhCyWB+YWwVkB9OcEGxljQvHj7 JSU4LsrIKjgz5hjxAyxCThD8fq74sREz8tf+bROvXVQEmyS5/Yz4YedxdFZa56HB6F7Y 7Ws+V75BxdusVO8PTVNZb06nuI2dUXpQWJfjrwVt6v36Cjfky8Owzl1rX1wfwgbpezjY TT6+ZHSVWHxRdr6/Lmf7rGE7gHFXzWX7+FQvVtixfySZJYR/71gqy32gesV+W+fqvwUy gjyj/uXLXON3NMIwp+R5LCHd1smkEYbR+jQJ/JWAKvsOqx3nL8EeIJdcLWe8CGO2u13I 8LFQ== X-Gm-Message-State: AOJu0Yx7PbNcXUALvCMGgoasw3QpmCV4a+9YieoW83c+F67aC8dZsvdv CoS4ajDpexeIpaPe/F0JA9dL/dAYE5qUhpo/qS7jqdNZbYDcGDSRbN0LpkVLiR8XvB2HJ0m0iMK nEvIlwyFGazEPOxdPLqCkSEzb7d+hwTtKspXqPt+vjgYb X-Gm-Gg: ASbGncv4pfOZK1YGP7akq+To4uCD32lkKELFjiXJ7U6AIxzSTI+bKbdfA5RYJ0XtrKz NWPHIIpUjE2+v5y9uunOqbc4xNIwFGE6me7J4apW1TPy01L5xnsJofm3qIBTHgy3vDxHnTpj77d d5D0ZId/jYbBuuk+w/fk9CaUt/Jei/91tN6l+fPN77rsZ8Gi/TpgoCEsalZIc55NzR72BP/D9ZG COvG44JSyKrlDP4lzezDIlycogy5lLZCKdOmvHLtTvRW3JGaPaedO2rJYIiTm9c/4hLtFKpJgpV Z3qH4HXkWDX1NQNNrFHGv8Nq/KHUoieO7mLvnoOAMN58cOQrwll4Jz7NdmiBE3WF8+9naA== X-Google-Smtp-Source: AGHT+IHjLRAkLmGMrmmB2u/RK+FVDFp0HdeTcJ1KpQ+u3J7q5HGxp85QIAfo5sG/PVzlVIANqMLoITOLi6pi X-Received: by 2002:a17:903:1a84:b0:235:225d:30a2 with SMTP id d9443c01a7336-23c6e5859a1mr14013315ad.48.1751420989766; Tue, 01 Jul 2025 18:49:49 -0700 (PDT) Received: from postal.iol.unh.edu (postal.iol.unh.edu. [132.177.123.84]) by smtp-relay.gmail.com with ESMTPS id d9443c01a7336-23acb393e5csm6607525ad.122.2025.07.01.18.49.49 (version=TLS1_2 cipher=ECDHE-ECDSA-AES128-GCM-SHA256 bits=128/128); Tue, 01 Jul 2025 18:49:49 -0700 (PDT) X-Relaying-Domain: iol.unh.edu Date: Tue, 01 Jul 2025 18:49:49 -0700 (PDT) Message-ID: <6864903d.170a0220.3ab56e.48cbSMTPIN_ADDED_MISSING@mx.google.com> Received: from [172.17.0.2] (unknown [172.18.0.74]) by postal.iol.unh.edu (Postfix) with ESMTP id C2BFB6051830; Tue, 1 Jul 2025 21:49:48 -0400 (EDT) Subject: |SUCCESS| pw154913 [PATCH] test/event: disable vector adapter test From: dpdklab@iol.unh.edu To: Test Report Cc: dpdk-test-reports@iol.unh.edu In-Reply-To: <20250701131524.2493132-1-thomas@monjalon.net> References: <20250701131524.2493132-1-thomas@monjalon.net> Content-Type: text/plain X-BeenThere: test-report@dpdk.org X-Mailman-Version: 2.1.29 Precedence: list List-Id: automatic DPDK test reports List-Unsubscribe: , List-Archive: List-Post: List-Help: List-Subscribe: , Errors-To: test-report-bounces@dpdk.org Test-Label: iol-compile-arm64-testing Test-Status: SUCCESS http://dpdk.org/patch/154913 _Testing PASS_ Submitter: Thomas Monjalon Date: Tuesday, July 01 2025 13:15:24 DPDK git baseline: Repo:dpdk Branch: master CommitID:20460dcffd08a4680f881c39916ae783ee830374 154913 --> testing pass Upstream job id: Generic-DPDK-Compile-Meson#404326 Test environment and result as below: +------------------------------+--------------------+ | Environment | dpdk_meson_compile | +==============================+====================+ | Red Hat Enterprise Linux 9.5 | PASS | +------------------------------+--------------------+ | Ubuntu 20.04 | PASS | +------------------------------+--------------------+ | Debian GNU/Linux 12 | PASS | +------------------------------+--------------------+ | Fedora Linux 40 | PASS | +------------------------------+--------------------+ | Fedora Linux 41 | PASS | +------------------------------+--------------------+ | Ubuntu 22.04 | PASS | +------------------------------+--------------------+ | Ubuntu 24.04 | PASS | +------------------------------+--------------------+ | CentOS Stream 9 | PASS | +------------------------------+--------------------+ | CentOS Stream 10 | PASS | +------------------------------+--------------------+ Red Hat Enterprise Linux 9.5 Kernel: 5.4 Compiler: gcc gcc (GCC) 11.5.0 20240719 (Red Hat 11.5.0-2) Ubuntu 20.04 Kernel: 5.15 Compiler: aarch64-linux-gnu-gcc gcc (Ubuntu 9.4.0-1ubuntu1~20.04.2) 9.4.0 Debian GNU/Linux 12 Kernel: 5.4 Compiler: gcc gcc (Debian 12.2.0-14+deb12u1) 12.2.0 Fedora Linux 40 Kernel: 5.4 Compiler: gcc gcc (GCC) 14.2.1 20240912 (Red Hat 14.2.1-3) Fedora Linux 41 Kernel: 5.4 Compiler: gcc gcc (GCC) 14.3.1 20250523 (Red Hat 14.3.1-1) Ubuntu 22.04 Kernel: 5.4 Compiler: gcc gcc (Ubuntu 11.4.0-1ubuntu1~22.04) 11.4.0 Ubuntu 24.04 Kernel: 5.4 Compiler: gcc gcc (Ubuntu 13.3.0-6ubuntu2~24.04) 13.3.0 CentOS Stream 9 Kernel: 5.4 Compiler: gcc gcc (GCC) 11.5.0 20240719 (Red Hat 11.5.0-7) CentOS Stream 10 Kernel: 5.4 Compiler: gcc gcc (GCC) 14.2.1 20250110 (Red Hat 14.2.1-8) To view detailed results, visit: https://lab.dpdk.org/results/dashboard/patchsets/33556/ UNH-IOL DPDK Community Lab To manage your email subscriptions, visit: https://lab.dpdk.org/results/dashboard/preferences/subscriptions/