From mboxrd@z Thu Jan 1 00:00:00 1970 Return-Path: Received: from mails.dpdk.org (mails.dpdk.org [217.70.189.124]) by inbox.dpdk.org (Postfix) with ESMTP id AC2C946ABB for ; Wed, 2 Jul 2025 03:49:58 +0200 (CEST) Received: from mails.dpdk.org (localhost [127.0.0.1]) by mails.dpdk.org (Postfix) with ESMTP id A7B9F40264; Wed, 2 Jul 2025 03:49:58 +0200 (CEST) Received: from mail-pf1-f226.google.com (mail-pf1-f226.google.com [209.85.210.226]) by mails.dpdk.org (Postfix) with ESMTP id 8D49140264 for ; Wed, 2 Jul 2025 03:49:57 +0200 (CEST) Received: by mail-pf1-f226.google.com with SMTP id d2e1a72fcca58-74b54af901bso27022b3a.2 for ; Tue, 01 Jul 2025 18:49:57 -0700 (PDT) DKIM-Signature: v=1; a=rsa-sha256; c=relaxed/relaxed; d=iol.unh.edu; s=unh-iol; t=1751420996; x=1752025796; darn=dpdk.org; h=references:in-reply-to:cc:to:from:subject:message-id:date:from:to :cc:subject:date:message-id:reply-to; bh=4bQTjH4yri8qtqAOJmELQxCgdwwwfmqlAspBLg9n6Uw=; b=D2huYqSWNNm1882hn6KrkiLJIZrPH6yXjsn51sXVLvy0pXQ3uVEzveCQC50pJgSVwh 2Hrg0wry1ljm2kSr3UKY7OqgpylqI+7PbUNI+1PtyG5A272vHRWnt0V0DWlqqff7jmlD vk2iab5pSbVAmQyAT26V5tQRe3uhGFijjMsB0= X-Google-DKIM-Signature: v=1; a=rsa-sha256; c=relaxed/relaxed; d=1e100.net; s=20230601; t=1751420997; x=1752025797; h=references:in-reply-to:cc:to:from:subject:message-id:date :x-gm-message-state:from:to:cc:subject:date:message-id:reply-to; bh=4bQTjH4yri8qtqAOJmELQxCgdwwwfmqlAspBLg9n6Uw=; b=PSE0sQWteVxSPLiWXYU8A22I9g9Eb8rNGY9SpY1JGkfL/NRrHinKlyKoO1CFuXKUly 5PcZ8bpWNycu1NObbhYAIr1ggGG49cTSjWDalrS2RcwbtZpv13Fyg43z+ue/Bs1Oa1lv XfFj9lEKgjaL5LhnnScpd3/fY/Nvim+USaWcS8u9elZVN+eZtp2jWA+kniUXOHGN6IeN 82gfl5EkqAh0uJjr/jMitVyMNIxGFNbchOyTjSPKGpZRFtYpO5qzG4hMnvpbAtN6qbcP 09cBKl0jVUu1jYt20F8zp7JvK7eaPicjVEgoiNo8tG4bnaotj2MOK6GN0es3TgvxrNpO +bUg== X-Gm-Message-State: AOJu0YwhcBYWsG7FqdI02akSYTElRpN39trQTrMOU3Y5JUxVJtPrYSLp +oqCl1Wnl2l4FLD4lp0cGjPN3w1lQj0eZMQqaeIpmZCUMFo6Hc0ELVfWu78zHXn9uu/LUkensQw 60jwGiTrOm4CaD4iu4PRoXjoCdQJI6GZpkvV7rYkfo7NITc5yD2V3DlphW8C/ X-Gm-Gg: ASbGncsZ8mTKw47qZFfQT2P4RBJrcwT7mHR8lc04oLZ36FeK8LOE488UmW54zZ4567m 3DYyoJKrH+DQIpXn6FaKdn/yLa4LGO4G7Ju9w+4XJYgtIUW/8xgtLiL8Zs5jlHv4Gy96OdqK45x Q4FaJfsK/DQrGEMGdTEaSwvf5sTf2moR0aK3tEKfWq8oFuMooTAPMCk0b9UirP8ROtArrB7zhJ1 PYzoQZyttzalzefhyK80ObJHUR41uAAJNP1ytJ+LWzkP2lQ17+0lGX3nOZ4L6cn5unQryakg/PS 58X9Y1kM1MEc11jMHtQhB2dCz7rub1FK8xDnksYASgaFdnk= X-Google-Smtp-Source: AGHT+IG5WVevCU0zkoJknqeUzhqFjx5k+SHpdC4O+JppmayJqD1+SnwWyha1wdEbqnfFs4zLXXryGWtckScn X-Received: by 2002:a05:6a20:3c8f:b0:218:75de:d924 with SMTP id adf61e73a8af0-222d7e9bfd4mr2038428637.19.1751420996557; Tue, 01 Jul 2025 18:49:56 -0700 (PDT) Received: from postal.iol.unh.edu (postal.iol.unh.edu. [2606:4100:3880:1234::84]) by smtp-relay.gmail.com with ESMTPS id 41be03b00d2f7-b34e321c5e1sm561940a12.24.2025.07.01.18.49.56 (version=TLS1_2 cipher=ECDHE-ECDSA-AES128-GCM-SHA256 bits=128/128); Tue, 01 Jul 2025 18:49:56 -0700 (PDT) X-Relaying-Domain: iol.unh.edu Date: Tue, 01 Jul 2025 18:49:56 -0700 (PDT) Message-ID: <68649044.630a0220.6838.e527SMTPIN_ADDED_MISSING@mx.google.com> Received: from [172.17.0.3] (unknown [172.18.0.74]) by postal.iol.unh.edu (Postfix) with ESMTP id 95E6E6051830; Tue, 1 Jul 2025 21:49:55 -0400 (EDT) Subject: |SUCCESS| pw154903 [PATCH] ci: check C++ headers with clang From: dpdklab@iol.unh.edu To: Test Report Cc: dpdk-test-reports@iol.unh.edu In-Reply-To: <20250701113146.1268492-1-david.marchand@redhat.com> References: <20250701113146.1268492-1-david.marchand@redhat.com> Content-Type: text/plain X-BeenThere: test-report@dpdk.org X-Mailman-Version: 2.1.29 Precedence: list List-Id: automatic DPDK test reports List-Unsubscribe: , List-Archive: List-Post: List-Help: List-Subscribe: , Errors-To: test-report-bounces@dpdk.org Test-Label: iol-compile-arm64-testing Test-Status: SUCCESS http://dpdk.org/patch/154903 _Testing PASS_ Submitter: David Marchand Date: Tuesday, July 01 2025 11:31:46 DPDK git baseline: Repo:dpdk Branch: master CommitID:20460dcffd08a4680f881c39916ae783ee830374 154903 --> testing pass Upstream job id: Generic-DPDK-Compile-Meson#404310 Test environment and result as below: +------------------------------+--------------------+ | Environment | dpdk_meson_compile | +==============================+====================+ | Red Hat Enterprise Linux 9.5 | PASS | +------------------------------+--------------------+ | Ubuntu 20.04 | PASS | +------------------------------+--------------------+ | Debian GNU/Linux 12 | PASS | +------------------------------+--------------------+ | Fedora Linux 40 | PASS | +------------------------------+--------------------+ | Fedora Linux 41 | PASS | +------------------------------+--------------------+ | Ubuntu 22.04 | PASS | +------------------------------+--------------------+ | Ubuntu 24.04 | PASS | +------------------------------+--------------------+ | CentOS Stream 9 | PASS | +------------------------------+--------------------+ | CentOS Stream 10 | PASS | +------------------------------+--------------------+ Red Hat Enterprise Linux 9.5 Kernel: 5.4 Compiler: gcc gcc (GCC) 11.5.0 20240719 (Red Hat 11.5.0-2) Ubuntu 20.04 Kernel: 5.15 Compiler: aarch64-linux-gnu-gcc gcc (Ubuntu 9.4.0-1ubuntu1~20.04.2) 9.4.0 Debian GNU/Linux 12 Kernel: 5.4 Compiler: gcc gcc (Debian 12.2.0-14+deb12u1) 12.2.0 Fedora Linux 40 Kernel: 5.4 Compiler: gcc gcc (GCC) 14.2.1 20240912 (Red Hat 14.2.1-3) Fedora Linux 41 Kernel: 5.4 Compiler: gcc gcc (GCC) 14.3.1 20250523 (Red Hat 14.3.1-1) Ubuntu 22.04 Kernel: 5.4 Compiler: gcc gcc (Ubuntu 11.4.0-1ubuntu1~22.04) 11.4.0 Ubuntu 24.04 Kernel: 5.4 Compiler: gcc gcc (Ubuntu 13.3.0-6ubuntu2~24.04) 13.3.0 CentOS Stream 9 Kernel: 5.4 Compiler: gcc gcc (GCC) 11.5.0 20240719 (Red Hat 11.5.0-7) CentOS Stream 10 Kernel: 5.4 Compiler: gcc gcc (GCC) 14.2.1 20250110 (Red Hat 14.2.1-8) To view detailed results, visit: https://lab.dpdk.org/results/dashboard/patchsets/33554/ UNH-IOL DPDK Community Lab To manage your email subscriptions, visit: https://lab.dpdk.org/results/dashboard/preferences/subscriptions/