From mboxrd@z Thu Jan 1 00:00:00 1970 Return-Path: Received: from mails.dpdk.org (mails.dpdk.org [217.70.189.124]) by inbox.dpdk.org (Postfix) with ESMTP id D6DD046ABC for ; Wed, 2 Jul 2025 03:50:59 +0200 (CEST) Received: from mails.dpdk.org (localhost [127.0.0.1]) by mails.dpdk.org (Postfix) with ESMTP id D257A40264; Wed, 2 Jul 2025 03:50:59 +0200 (CEST) Received: from mail-pg1-f227.google.com (mail-pg1-f227.google.com [209.85.215.227]) by mails.dpdk.org (Postfix) with ESMTP id 58FDC40264 for ; Wed, 2 Jul 2025 03:50:59 +0200 (CEST) Received: by mail-pg1-f227.google.com with SMTP id 41be03b00d2f7-af51596da56so3887916a12.0 for ; Tue, 01 Jul 2025 18:50:59 -0700 (PDT) DKIM-Signature: v=1; a=rsa-sha256; c=relaxed/relaxed; d=iol.unh.edu; s=unh-iol; t=1751421058; x=1752025858; darn=dpdk.org; h=references:in-reply-to:cc:to:from:subject:message-id:date:from:to :cc:subject:date:message-id:reply-to; bh=RynVhX2na7KhsSGI0Y/YgpRBIWwXH3WNYsJbQzBhiRg=; b=Oai9wtSikE9dLddI9/J6f6xP20dOobG1FTe07Z8yap+nR0KExldI+HEbUoVufmk3qZ upjgK8vGJwf7v/BBaLsy0mWW1xaEWQ/zMDbVL1MSrI880eTzTnbS+e3gwJfSo1mGaY6A FGF7/2rQS4gtWeX9YyPnH2B6BeRUHX8lh/N74= X-Google-DKIM-Signature: v=1; a=rsa-sha256; c=relaxed/relaxed; d=1e100.net; s=20230601; t=1751421058; x=1752025858; h=references:in-reply-to:cc:to:from:subject:message-id:date :x-gm-message-state:from:to:cc:subject:date:message-id:reply-to; bh=RynVhX2na7KhsSGI0Y/YgpRBIWwXH3WNYsJbQzBhiRg=; b=Qg+sSqqyGIQe9wZMXhVRm4FI2qk+d/9/PboMREfMpJ3JKf5+0oxweXuulwSZ3K0RZJ m+a4VhSWGqP7mPjtgYqTgXZfqER0ypIKIwaPcUZwG5d+ah7ow2J8dNhbeH1R5nl+BpCM aZ84lnG501u9FJe9n/raM2lVxtpg+5IgNdVJwUCruwBN1qZ1QRSGtCn1YOb7In4pCgUf 9mvX5rRyk+RRHZJkpaO0hvV9OZ4t4AM/FZk9C4/RbHhDbAj1UJ1+AVHWVaa/eLGq4fxY wtjZJ3St16xlREkx8lrOxZigFlcAvMd98GJ2zNs13i1sGr4mHcGyD7q7096Te7ZzPJr4 ZG/Q== X-Gm-Message-State: AOJu0YyxHpmZ1NlAar1Ns5igxJA3h/IbcUqiYRoyr6feDtQTGQzowl0z 3v+lRfyuE9EZthx9B0gjlQPPVLULEJ6XFO/jfyXJBSKmuQClfmYUFj2Nlp/2mbYZZ7dlBiuTI52 BPnK4xlCg+B3G5YLppzC1HKJgyMXj+wcSS2EEunrxT9HF X-Gm-Gg: ASbGncv8HRAthKIqhgZ+fluAXQmPYuyXEVeMwlUX1xIxW0vlns3Wef97laj0OH5fHu2 cx/5yjvw2A7QR2MInh/BGnY27f4fMXPqvsvx0Dv4jNXAwR0b1z8XtfEqzKncNBymJdK/Wd9BlSU UwElAXvqFJEezLFJVwMyi8FOQm4kXIIg1KEPH4jAw6gK4clDABjnEfJOr5l9u/p8p7Sv8WvuLoe c5NsugEbUwuc934VRg8yK3e++GIIFj7iXiwcwZ2y8+t4dpksvjPM3No7TXuqST0W0jEwbs0VwKn dTkq47sEcrJ76LTR80HBGHk78W+qN3TbYyLQd7IhC6fRNW7BPRrPHNw3mnwduE1teoDjtg== X-Google-Smtp-Source: AGHT+IG3+/7bL2BRRijtWI6gVCuHW1+mXvP35AuwgN2w5qny1eeDFoC8ue/MYN0T8u42WEIwGdvMIt81mGdM X-Received: by 2002:a05:6a20:6a0e:b0:220:21f3:87ee with SMTP id adf61e73a8af0-222d7e99ab5mr2057735637.24.1751421058450; Tue, 01 Jul 2025 18:50:58 -0700 (PDT) Received: from postal.iol.unh.edu (postal.iol.unh.edu. [132.177.123.84]) by smtp-relay.gmail.com with ESMTPS id 41be03b00d2f7-b34e31f68cesm231144a12.18.2025.07.01.18.50.58 (version=TLS1_2 cipher=ECDHE-ECDSA-AES128-GCM-SHA256 bits=128/128); Tue, 01 Jul 2025 18:50:58 -0700 (PDT) X-Relaying-Domain: iol.unh.edu Date: Tue, 01 Jul 2025 18:50:58 -0700 (PDT) Message-ID: <68649082.050a0220.2a264c.c79dSMTPIN_ADDED_MISSING@mx.google.com> Received: from [172.17.0.3] (unknown [172.18.0.76]) by postal.iol.unh.edu (Postfix) with ESMTP id 6EEEE6051830; Tue, 1 Jul 2025 21:50:57 -0400 (EDT) Subject: |SUCCESS| pw154913 [PATCH] test/event: disable vector adapter test From: dpdklab@iol.unh.edu To: Test Report Cc: dpdk-test-reports@iol.unh.edu In-Reply-To: <20250701131524.2493132-1-thomas@monjalon.net> References: <20250701131524.2493132-1-thomas@monjalon.net> Content-Type: text/plain X-BeenThere: test-report@dpdk.org X-Mailman-Version: 2.1.29 Precedence: list List-Id: automatic DPDK test reports List-Unsubscribe: , List-Archive: List-Post: List-Help: List-Subscribe: , Errors-To: test-report-bounces@dpdk.org Test-Label: iol-compile-arm64-testing Test-Status: SUCCESS http://dpdk.org/patch/154913 _Testing PASS_ Submitter: Thomas Monjalon Date: Tuesday, July 01 2025 13:15:24 DPDK git baseline: Repo:dpdk Branch: master CommitID:20460dcffd08a4680f881c39916ae783ee830374 154913 --> testing pass Upstream job id: Generic-DPDK-Compile-Meson#404328 Test environment and result as below: +------------------------------+--------------------+ | Environment | dpdk_meson_compile | +==============================+====================+ | Red Hat Enterprise Linux 9.5 | PASS | +------------------------------+--------------------+ | Ubuntu 20.04 | PASS | +------------------------------+--------------------+ | Debian GNU/Linux 12 | PASS | +------------------------------+--------------------+ | Fedora Linux 40 | PASS | +------------------------------+--------------------+ | Fedora Linux 41 | PASS | +------------------------------+--------------------+ | Ubuntu 22.04 | PASS | +------------------------------+--------------------+ | Ubuntu 24.04 | PASS | +------------------------------+--------------------+ | CentOS Stream 9 | PASS | +------------------------------+--------------------+ | CentOS Stream 10 | PASS | +------------------------------+--------------------+ Red Hat Enterprise Linux 9.5 Kernel: 5.4 Compiler: gcc gcc (GCC) 11.5.0 20240719 (Red Hat 11.5.0-2) Ubuntu 20.04 Kernel: 5.15 Compiler: aarch64-linux-gnu-gcc gcc (Ubuntu 9.4.0-1ubuntu1~20.04.2) 9.4.0 Debian GNU/Linux 12 Kernel: 5.4 Compiler: gcc gcc (Debian 12.2.0-14+deb12u1) 12.2.0 Fedora Linux 40 Kernel: 5.4 Compiler: gcc gcc (GCC) 14.2.1 20240912 (Red Hat 14.2.1-3) Fedora Linux 41 Kernel: 5.4 Compiler: gcc gcc (GCC) 14.3.1 20250523 (Red Hat 14.3.1-1) Ubuntu 22.04 Kernel: 5.4 Compiler: gcc gcc (Ubuntu 11.4.0-1ubuntu1~22.04) 11.4.0 Ubuntu 24.04 Kernel: 5.4 Compiler: gcc gcc (Ubuntu 13.3.0-6ubuntu2~24.04) 13.3.0 CentOS Stream 9 Kernel: 5.4 Compiler: gcc gcc (GCC) 11.5.0 20240719 (Red Hat 11.5.0-7) CentOS Stream 10 Kernel: 5.4 Compiler: gcc gcc (GCC) 14.2.1 20250110 (Red Hat 14.2.1-8) To view detailed results, visit: https://lab.dpdk.org/results/dashboard/patchsets/33556/ UNH-IOL DPDK Community Lab To manage your email subscriptions, visit: https://lab.dpdk.org/results/dashboard/preferences/subscriptions/