From mboxrd@z Thu Jan 1 00:00:00 1970 Return-Path: Received: from mails.dpdk.org (mails.dpdk.org [217.70.189.124]) by inbox.dpdk.org (Postfix) with ESMTP id 55FCF46ABD for ; Wed, 2 Jul 2025 04:10:59 +0200 (CEST) Received: from mails.dpdk.org (localhost [127.0.0.1]) by mails.dpdk.org (Postfix) with ESMTP id 2BE8140E21; Wed, 2 Jul 2025 04:10:58 +0200 (CEST) Received: from mail-pl1-f225.google.com (mail-pl1-f225.google.com [209.85.214.225]) by mails.dpdk.org (Postfix) with ESMTP id B635040671 for ; Wed, 2 Jul 2025 04:10:54 +0200 (CEST) Received: by mail-pl1-f225.google.com with SMTP id d9443c01a7336-234fcadde3eso51263585ad.0 for ; Tue, 01 Jul 2025 19:10:54 -0700 (PDT) DKIM-Signature: v=1; a=rsa-sha256; c=relaxed/relaxed; d=iol.unh.edu; s=unh-iol; t=1751422254; x=1752027054; darn=dpdk.org; h=references:in-reply-to:cc:to:from:subject:message-id:date:from:to :cc:subject:date:message-id:reply-to; bh=PvTTU0ursLcFIozsZMk+t9k1OgaqTvYZGuP44oAvngk=; b=N/35Xbc8KhUeNZzAnrAUoeW74bIcZsvoYf+890L3cJCCn7OctytSCxRUFDyjDveNDX vBhVB6Zrrk6+L8gSYWYapBMzhgO9x/jGfOpnnDSWtMReBaHZQRsxoQmVTdz9tioS0tGx aV3tp+kDvgSKm+3eDDST0fOG7Qv0Trr1r7loU= X-Google-DKIM-Signature: v=1; a=rsa-sha256; c=relaxed/relaxed; d=1e100.net; s=20230601; t=1751422254; x=1752027054; h=references:in-reply-to:cc:to:from:subject:message-id:date :x-gm-message-state:from:to:cc:subject:date:message-id:reply-to; bh=PvTTU0ursLcFIozsZMk+t9k1OgaqTvYZGuP44oAvngk=; b=HFwBWgdT+dT739E4E/m6U/Gk3RcGQ5P+eQoKJyskk8v7+w2IRExDhorBOz2IUFEoGf h0qk1Paw6zdHsXbkca+uwgfdJX9NEQNKFSSlQy3qyH8paKkWc688vw9oUOzLK7jqRgVL g6ZS/V/Yj4ejwKq/cJV43qgVAqnKLxYsW+Erusy4/1MbfvFnTEDQfzAlEF0KbK2QdB5L uHbhZhERTdWmTqKrvm0Y+QiAEg03WC1XXX7UNlOPv4zQtltD6OT7Xf+JMN9ek34Ftiv9 BOaBwFNSU8I56y2galM4Y1MSp3UiihtepPyY5otUVqK/269zm/kq1DAgL0J4kcn+MhVl Tr1Q== X-Gm-Message-State: AOJu0YzNmYAGHbLkQDLRSTXaioYSxCTt/eiYuoM+pewwH2dqKyGGXgcu 58NJDAVQn37lmMGxZeJUbu8rAbDfFZ5L/wjGHTpUftKjiueIy4ew7JpeZNItlI7qJxNrNPZOyul hC7wdVZZSzUgLz3E1jcVg3qxmPLZOdqMQP5dmdQ2bcmSb X-Gm-Gg: ASbGncvP99lE07Br+6mHuFB9XcQFVkJpGF04TPb0GPUZOQUGkMP6QIRAu8vMRVtOkQZ cq2JTJNioY6f7VXfxhpzZ9iabMwMqfJe9zq5X1Xe2AqbTF8+bD4KWMnYMHPDh9dWBfwflY24Xt4 2PtSMSIUetCaQBXCFxz+d07uzGGAA5jD2C8TChxgBmjg4HMJRY4wIkoRGMqFpiyGsLiQpYkPZY3 47UNzD3pvHu6Jy5CGLm+8VLYox2rUr+9s5O18ImTLNkdRpQPJ8WA74BBst+tKoXvk7VjYXu4eWc WLJUZsJO1BM/4rfqP033XO9quZ0JE7rvCxomX9XtU7LXsZFKUna+3FzgK7JnAocfGGtFbw== X-Google-Smtp-Source: AGHT+IHeRsoJNvrrhej07M2o2wA0fds6z/F5572ZbdZ0a1BEGWkCjZ5icpxYSXsGmZno2seeBxv7enO3kVxH X-Received: by 2002:a17:902:f60c:b0:235:c781:c305 with SMTP id d9443c01a7336-23c6e58aa83mr16139935ad.24.1751422253907; Tue, 01 Jul 2025 19:10:53 -0700 (PDT) Received: from postal.iol.unh.edu (postal.iol.unh.edu. [132.177.123.84]) by smtp-relay.gmail.com with ESMTPS id d9443c01a7336-23acb37ef91sm6264255ad.103.2025.07.01.19.10.53 (version=TLS1_2 cipher=ECDHE-ECDSA-AES128-GCM-SHA256 bits=128/128); Tue, 01 Jul 2025 19:10:53 -0700 (PDT) X-Relaying-Domain: iol.unh.edu Date: Tue, 01 Jul 2025 19:10:53 -0700 (PDT) Message-ID: <6864952d.170a0220.1aceb6.2f19SMTPIN_ADDED_MISSING@mx.google.com> Received: from [172.17.0.2] (unknown [172.18.0.74]) by postal.iol.unh.edu (Postfix) with ESMTP id 187526051830; Tue, 1 Jul 2025 22:10:53 -0400 (EDT) Subject: |SUCCESS| pw154913 [PATCH] test/event: disable vector adapter test From: dpdklab@iol.unh.edu To: Test Report Cc: dpdk-test-reports@iol.unh.edu In-Reply-To: <20250701131524.2493132-1-thomas@monjalon.net> References: <20250701131524.2493132-1-thomas@monjalon.net> Content-Type: text/plain X-BeenThere: test-report@dpdk.org X-Mailman-Version: 2.1.29 Precedence: list List-Id: automatic DPDK test reports List-Unsubscribe: , List-Archive: List-Post: List-Help: List-Subscribe: , Errors-To: test-report-bounces@dpdk.org Test-Label: iol-compile-arm64-testing Test-Status: SUCCESS http://dpdk.org/patch/154913 _Testing PASS_ Submitter: Thomas Monjalon Date: Tuesday, July 01 2025 13:15:24 DPDK git baseline: Repo:dpdk Branch: master CommitID:20460dcffd08a4680f881c39916ae783ee830374 154913 --> testing pass Upstream job id: Generic-DPDK-Compile-Meson#404359 Test environment and result as below: +------------------------------+--------------------+ | Environment | dpdk_meson_compile | +==============================+====================+ | Red Hat Enterprise Linux 9.5 | PASS | +------------------------------+--------------------+ | Ubuntu 20.04 | PASS | +------------------------------+--------------------+ | Debian GNU/Linux 12 | PASS | +------------------------------+--------------------+ | Fedora Linux 40 | PASS | +------------------------------+--------------------+ | Fedora Linux 41 | PASS | +------------------------------+--------------------+ | Ubuntu 22.04 | PASS | +------------------------------+--------------------+ | Ubuntu 24.04 | PASS | +------------------------------+--------------------+ | CentOS Stream 9 | PASS | +------------------------------+--------------------+ | CentOS Stream 10 | PASS | +------------------------------+--------------------+ Red Hat Enterprise Linux 9.5 Kernel: 5.4 Compiler: gcc gcc (GCC) 11.5.0 20240719 (Red Hat 11.5.0-2) Ubuntu 20.04 Kernel: 5.15 Compiler: aarch64-linux-gnu-gcc gcc (Ubuntu 9.4.0-1ubuntu1~20.04.2) 9.4.0 Debian GNU/Linux 12 Kernel: 5.4 Compiler: gcc gcc (Debian 12.2.0-14+deb12u1) 12.2.0 Fedora Linux 40 Kernel: 5.4 Compiler: gcc gcc (GCC) 14.2.1 20240912 (Red Hat 14.2.1-3) Fedora Linux 41 Kernel: 5.4 Compiler: gcc gcc (GCC) 14.3.1 20250523 (Red Hat 14.3.1-1) Ubuntu 22.04 Kernel: 5.4 Compiler: gcc gcc (Ubuntu 11.4.0-1ubuntu1~22.04) 11.4.0 Ubuntu 24.04 Kernel: 5.4 Compiler: gcc gcc (Ubuntu 13.3.0-6ubuntu2~24.04) 13.3.0 CentOS Stream 9 Kernel: 5.4 Compiler: gcc gcc (GCC) 11.5.0 20240719 (Red Hat 11.5.0-7) CentOS Stream 10 Kernel: 5.4 Compiler: gcc gcc (GCC) 14.2.1 20250110 (Red Hat 14.2.1-8) To view detailed results, visit: https://lab.dpdk.org/results/dashboard/patchsets/33556/ UNH-IOL DPDK Community Lab To manage your email subscriptions, visit: https://lab.dpdk.org/results/dashboard/preferences/subscriptions/