From mboxrd@z Thu Jan 1 00:00:00 1970 Return-Path: Received: from mails.dpdk.org (mails.dpdk.org [217.70.189.124]) by inbox.dpdk.org (Postfix) with ESMTP id C3FFA46AA1 for ; Wed, 2 Jul 2025 04:41:24 +0200 (CEST) Received: from mails.dpdk.org (localhost [127.0.0.1]) by mails.dpdk.org (Postfix) with ESMTP id A6ABC4028C; Wed, 2 Jul 2025 04:41:24 +0200 (CEST) Received: from mail-pg1-f227.google.com (mail-pg1-f227.google.com [209.85.215.227]) by mails.dpdk.org (Postfix) with ESMTP id EBD424028C for ; Wed, 2 Jul 2025 04:41:22 +0200 (CEST) Received: by mail-pg1-f227.google.com with SMTP id 41be03b00d2f7-b170c99aa49so4985752a12.1 for ; Tue, 01 Jul 2025 19:41:22 -0700 (PDT) DKIM-Signature: v=1; a=rsa-sha256; c=relaxed/relaxed; d=iol.unh.edu; s=unh-iol; t=1751424082; x=1752028882; darn=dpdk.org; h=references:in-reply-to:cc:to:from:subject:message-id:date:from:to :cc:subject:date:message-id:reply-to; bh=tTOk49IuC3BurpnIjPIxXqBxDTN0h9vDU7sfEqVytBk=; b=fKOaKU3f1JUgPEA8L0OyleJI1DZVUGx0HXhsTzXKOjFxf9F/Hkb+gne+HHyfK63Bqv iOekXFXEUnHbwMlRPga/Py4c2vVE3RI3hH0H3uENZwmth1blQvv6BlgkBmPOzbIYuIdZ 8U51Ny50S1VpDYMKz6TWb0QTKZ4UgC54/cyk0= X-Google-DKIM-Signature: v=1; a=rsa-sha256; c=relaxed/relaxed; d=1e100.net; s=20230601; t=1751424082; x=1752028882; h=references:in-reply-to:cc:to:from:subject:message-id:date :x-gm-message-state:from:to:cc:subject:date:message-id:reply-to; bh=tTOk49IuC3BurpnIjPIxXqBxDTN0h9vDU7sfEqVytBk=; b=dXOJ4HwGwLfTLo9CxKvGKHv4xhecRfGteGOV0YtFTY4IfvhaAVP1fxAyu28uYx2BEH 42vH0aKubcrQNvJUyWfSEgM7wcCIIe0BLiLNV7IuXOpa6XvCVO4oZE46Zp1AGqNMmOHT +APyYxrHxL1gzMYBumHGC3HPQJJLWB3U6MI2GuhBSn3MOrDM69LzdTDNK9PA4p936SZY P6+VwBpOD0/Nal24MD7Coxo9NU0194+J7LLfhBzs90kj29pcmsSJFP0S+/w8pkOpvNbv J80KQFHsaRVaPy03vwsXEKhh1+pahIfbYExj0GKCtr78+V8VOD3CDDEFnmt1nwA+Banf ke8Q== X-Gm-Message-State: AOJu0YxinGjrAA0rBsrneJH4gjOMGvkd0B+51KaXLj9LAB3mjnAagQcX P9AU7jG2xnqiyK0TsYemRzDv3EpcqVvYRKXO2T7wSCKSrZGoWEg/16cZ/HFEqkQhtmq0dUJQAax PkBkOgXqCKkaWaXMJWpvhqYW7rbLq3QNhndfs+5XLF3ss X-Gm-Gg: ASbGncsZayfzUdoKRTLwYx/ED4DOvRoGrV079x2alFWEIbS7ZK+FuemwEmHqWysQSNM WBTblTz9rAJ17aT5Aw6yafaHoc1m7pQYDXs/zvs0RcXuvZc/nQch8Q9JpVKiZ70NKMKyX+s0AR/ x5IbwnRg6YbZOXmFF9yPkn9MXXnaX4YAcNu7IXlFMhsBWaRvtY+B+xI8rJvM7F3TCVl0qAfBVbQ qOd+z3wUEaQ+2xsRLiWcOJgicrjQWL502HTLNhJ5VG07zomJaVa+7anoB8Ft+9ELYZoR9ozq4KC guXrTsY93tg2hPmgfgw6Ns4cu0eY635u0m6p7qPw6K0PPuwvVix8PnD9AOeS0Uzt/6XFtg== X-Google-Smtp-Source: AGHT+IFg5sytCBzrgXua7zyh7o7vHEXY1TNpIYQN8hMonHdff1cRwiSMXMeMsl/Z7F4Vx6+HUoaWUFRMEc1h X-Received: by 2002:a17:90b:394b:b0:311:f30b:c18 with SMTP id 98e67ed59e1d1-31a90b68205mr1919769a91.4.1751424082032; Tue, 01 Jul 2025 19:41:22 -0700 (PDT) Received: from postal.iol.unh.edu (postal.iol.unh.edu. [132.177.123.84]) by smtp-relay.gmail.com with ESMTPS id 98e67ed59e1d1-318c139053asm396275a91.7.2025.07.01.19.41.21 (version=TLS1_2 cipher=ECDHE-ECDSA-AES128-GCM-SHA256 bits=128/128); Tue, 01 Jul 2025 19:41:22 -0700 (PDT) X-Relaying-Domain: iol.unh.edu Date: Tue, 01 Jul 2025 19:41:22 -0700 (PDT) Message-ID: <68649c52.170a0220.e08f.5851SMTPIN_ADDED_MISSING@mx.google.com> Received: from [172.17.0.2] (unknown [172.18.0.74]) by postal.iol.unh.edu (Postfix) with ESMTP id 42A386051830; Tue, 1 Jul 2025 22:41:21 -0400 (EDT) Subject: |SUCCESS| pw154915-154919 [PATCH] [5/5] riscv: override machine_args From: dpdklab@iol.unh.edu To: Test Report Cc: dpdk-test-reports@iol.unh.edu In-Reply-To: References: Content-Type: text/plain X-BeenThere: test-report@dpdk.org X-Mailman-Version: 2.1.29 Precedence: list List-Id: automatic DPDK test reports List-Unsubscribe: , List-Archive: List-Post: List-Help: List-Subscribe: , Errors-To: test-report-bounces@dpdk.org Test-Label: iol-compile-arm64-testing Test-Status: SUCCESS http://dpdk.org/patch/154919 _Testing PASS_ Submitter: None Date: Tuesday, July 01 2025 16:13:42 DPDK git baseline: Repo:dpdk Branch: master CommitID:0eb86b4533d40bcd703972421b9a201c02f37f8a 154915-154919 --> testing pass Upstream job id: Generic-DPDK-Compile-Meson#404405 Test environment and result as below: +------------------------------+--------------------+ | Environment | dpdk_meson_compile | +==============================+====================+ | Red Hat Enterprise Linux 9.5 | PASS | +------------------------------+--------------------+ | Ubuntu 20.04 | PASS | +------------------------------+--------------------+ | Debian GNU/Linux 12 | PASS | +------------------------------+--------------------+ | Fedora Linux 40 | PASS | +------------------------------+--------------------+ | Fedora Linux 41 | PASS | +------------------------------+--------------------+ | Ubuntu 22.04 | PASS | +------------------------------+--------------------+ | Ubuntu 24.04 | PASS | +------------------------------+--------------------+ | CentOS Stream 9 | PASS | +------------------------------+--------------------+ | CentOS Stream 10 | PASS | +------------------------------+--------------------+ Red Hat Enterprise Linux 9.5 Kernel: 5.4 Compiler: gcc gcc (GCC) 11.5.0 20240719 (Red Hat 11.5.0-2) Ubuntu 20.04 Kernel: 5.15 Compiler: aarch64-linux-gnu-gcc gcc (Ubuntu 9.4.0-1ubuntu1~20.04.2) 9.4.0 Debian GNU/Linux 12 Kernel: 5.4 Compiler: gcc gcc (Debian 12.2.0-14+deb12u1) 12.2.0 Fedora Linux 40 Kernel: 5.4 Compiler: gcc gcc (GCC) 14.2.1 20240912 (Red Hat 14.2.1-3) Fedora Linux 41 Kernel: 5.4 Compiler: gcc gcc (GCC) 14.3.1 20250523 (Red Hat 14.3.1-1) Ubuntu 22.04 Kernel: 5.4 Compiler: gcc gcc (Ubuntu 11.4.0-1ubuntu1~22.04) 11.4.0 Ubuntu 24.04 Kernel: 5.4 Compiler: gcc gcc (Ubuntu 13.3.0-6ubuntu2~24.04) 13.3.0 CentOS Stream 9 Kernel: 5.4 Compiler: gcc gcc (GCC) 11.5.0 20240719 (Red Hat 11.5.0-7) CentOS Stream 10 Kernel: 5.4 Compiler: gcc gcc (GCC) 14.2.1 20250110 (Red Hat 14.2.1-8) To view detailed results, visit: https://lab.dpdk.org/results/dashboard/patchsets/33558/ UNH-IOL DPDK Community Lab To manage your email subscriptions, visit: https://lab.dpdk.org/results/dashboard/preferences/subscriptions/