From: dpdklab@iol.unh.edu
To: Test Report <test-report@dpdk.org>
Cc: dpdk-test-reports@iol.unh.edu
Subject: |SUCCESS| pw154905-154912 [PATCH] [v5,9/9] bus/dpaa: optimize qman e
Date: Tue, 01 Jul 2025 19:52:16 -0700 (PDT) [thread overview]
Message-ID: <68649ee0.050a0220.177644.6f7fSMTPIN_ADDED_MISSING@mx.google.com> (raw)
In-Reply-To: <20250701113707.2793004-10-vanshika.shukla@nxp.com>
Test-Label: iol-sample-apps-testing
Test-Status: SUCCESS
http://dpdk.org/patch/154912
_Testing PASS_
Submitter: Vanshika Shukla <vanshika.shukla@nxp.com>
Date: Tuesday, July 01 2025 11:37:07
DPDK git baseline: Repo:dpdk
Branch: master
CommitID:3e081a0c03a5cb71555dba06a920d57e75dd09c9
154905-154912 --> testing pass
Upstream job id: ACVP-FIPS-testing#10364
Test environment and result as below:
+--------------+----------------------+----------------------+
| Environment | compressdev_zlib_pmd | dpdk_fips_validation |
+==============+======================+======================+
| Ubuntu 22.04 | PASS | SKIPPED |
+--------------+----------------------+----------------------+
| Ubuntu 20.04 | SKIPPED | PASS |
+--------------+----------------------+----------------------+
Ubuntu 22.04
Kernel: 5.15
Compiler: gcc gcc (Ubuntu 11.4.0-1ubuntu1~22.04) 11.4.0
Ubuntu 20.04
Kernel: 5.15
Compiler: gcc gcc (Ubuntu 9.4.0-1ubuntu1~20.04.2) 9.4.0
To view detailed results, visit:
https://lab.dpdk.org/results/dashboard/patchsets/33555/
UNH-IOL DPDK Community Lab
To manage your email subscriptions, visit:
https://lab.dpdk.org/results/dashboard/preferences/subscriptions/
prev parent reply other threads:[~2025-07-02 2:52 UTC|newest]
Thread overview: 21+ messages / expand[flat|nested] mbox.gz Atom feed top
[not found] <20250701113707.2793004-10-vanshika.shukla@nxp.com>
2025-07-01 11:05 ` |SUCCESS| pw154905-154912 [v5 9/9] bus/dpaa: optimize qman enqueue check qemudev
2025-07-01 11:10 ` qemudev
2025-07-01 11:37 ` |SUCCESS| pw154912 " checkpatch
2025-07-01 13:03 ` 0-day Robot
2025-07-01 15:13 ` |SUCCESS| pw154905-154912 [PATCH] [v5,9/9] bus/dpaa: optimize qman e dpdklab
2025-07-01 15:23 ` dpdklab
2025-07-01 15:23 ` dpdklab
2025-07-01 15:48 ` dpdklab
2025-07-01 15:53 ` dpdklab
2025-07-01 17:16 ` |PENDING| " dpdklab
2025-07-01 18:14 ` dpdklab
2025-07-01 18:51 ` dpdklab
2025-07-01 19:30 ` |SUCCESS| " dpdklab
2025-07-01 19:42 ` dpdklab
2025-07-01 21:22 ` dpdklab
2025-07-01 21:23 ` dpdklab
2025-07-01 21:23 ` dpdklab
2025-07-01 22:01 ` dpdklab
2025-07-01 22:02 ` dpdklab
2025-07-01 22:38 ` |WARNING| " dpdklab
2025-07-02 2:52 ` dpdklab [this message]
Reply instructions:
You may reply publicly to this message via plain-text email
using any one of the following methods:
* Save the following mbox file, import it into your mail client,
and reply-to-all from there: mbox
Avoid top-posting and favor interleaved quoting:
https://en.wikipedia.org/wiki/Posting_style#Interleaved_style
* Reply using the --to, --cc, and --in-reply-to
switches of git-send-email(1):
git send-email \
--in-reply-to=68649ee0.050a0220.177644.6f7fSMTPIN_ADDED_MISSING@mx.google.com \
--to=dpdklab@iol.unh.edu \
--cc=dpdk-test-reports@iol.unh.edu \
--cc=test-report@dpdk.org \
/path/to/YOUR_REPLY
https://kernel.org/pub/software/scm/git/docs/git-send-email.html
* If your mail client supports setting the In-Reply-To header
via mailto: links, try the mailto: link
Be sure your reply has a Subject: header at the top and a blank line
before the message body.
This is a public inbox, see mirroring instructions
for how to clone and mirror all data and code used for this inbox;
as well as URLs for NNTP newsgroup(s).