From mboxrd@z Thu Jan 1 00:00:00 1970 Return-Path: Received: from mails.dpdk.org (mails.dpdk.org [217.70.189.124]) by inbox.dpdk.org (Postfix) with ESMTP id 22B2646ABE for ; Wed, 2 Jul 2025 06:30:20 +0200 (CEST) Received: from mails.dpdk.org (localhost [127.0.0.1]) by mails.dpdk.org (Postfix) with ESMTP id F1F8040269; Wed, 2 Jul 2025 06:30:19 +0200 (CEST) Received: from mail-il1-f228.google.com (mail-il1-f228.google.com [209.85.166.228]) by mails.dpdk.org (Postfix) with ESMTP id C45DF40269 for ; Wed, 2 Jul 2025 06:30:18 +0200 (CEST) Received: by mail-il1-f228.google.com with SMTP id e9e14a558f8ab-3df2ccbb895so33252885ab.3 for ; Tue, 01 Jul 2025 21:30:18 -0700 (PDT) DKIM-Signature: v=1; a=rsa-sha256; c=relaxed/relaxed; d=iol.unh.edu; s=unh-iol; t=1751430618; x=1752035418; darn=dpdk.org; h=cc:to:from:subject:message-id:date:from:to:cc:subject:date :message-id:reply-to; bh=pqzg3IKlHiJ8rsV2C303fJ5DZzfwDlcBVe9lACCHd6o=; b=BTKIYpDv+nMqiVTa1DWqdF7zSamT/vEh27XBPuule62ial7idneVpwPn7wCilE7tKk FyXD7ZLhGMbUJ4HxauYL863oMIDPoXgCzsuN+e/gEKynvsTUBfxDF/YJOp3YhRaFUUcF Yp6RyrvokzHDWwbbyfQGL2eNYlPemHjIUZ+Iw= X-Google-DKIM-Signature: v=1; a=rsa-sha256; c=relaxed/relaxed; d=1e100.net; s=20230601; t=1751430618; x=1752035418; h=cc:to:from:subject:message-id:date:x-gm-message-state:from:to:cc :subject:date:message-id:reply-to; bh=pqzg3IKlHiJ8rsV2C303fJ5DZzfwDlcBVe9lACCHd6o=; b=NoM8chuI7H1Au4OmRuf0/Nyeaz0+ZH5a5xASsimF5w0VM0ViJ0zdauiUb9AQdVvReW +114nyWfLJ2EnsrQW97hWpT/iw+wXG2us7lxDSfKBVHuHY///Vo4cVglPQyOHoQXAXg4 rCLk11Gxle95CAklCygPmMXfEaTItbFtuvmpEb8HXGRvs1FXXdypzg2vdxbgUTWekmBQ PaYgoT/rpan4MsWC784DcZ6TtqtT4LefcCdbvfFEjTp4ekzCPazbnm6z+qOc+/pnMqeQ 16yKFeJmrLeIOGBv61rDPI5DfME1msMTJPJnQ6yB34b1r1ZF3eogEEUkUr/lWwfhtrS0 7O+Q== X-Gm-Message-State: AOJu0YxHMu/QtlZJAgky+EBwmBI7xJIHxAIpYa96qL8aURjHEV1LhMNZ N45S3oqEVh74bl0+iPo8fW8Mf2jMeqp08uvQ0g/v76dSDQXk5UWDzJkjn6zVXE6ThXRxPIeNYUw aoDJlbLKGOvTF/zf70qllQWHZ8VMLDBYW8xmx7+n7m/YUkmOR2N2fNuNtQKkp X-Gm-Gg: ASbGncsRQwj1nGMXGVl74XAQNKiYnv2fgswzBIggA4rAG5VJ/SkoDzxi5T5MNyhorqm 1LLo7IsYHetlKXBgHoctG9H3XbWE7Fz/1nhehDhaeMLP1uWHMMfYlE99aT1CWHfBv8fG/YY4bWP fi+1PZ2I+BmSqwg8Teylo0CYJY74DX7lqaYT+z5eh8nHer+1s8Nd5fPpWKEAsHWvpupaWqCwTzA WxegINI/nwvbFTNaNqYiGUXeVnTT8y5lK4aai3lUvufOSSpodWtYf0u1hUchY8CyjFTp4vDFTb+ lPM+sbN66XsE3HTZFOOmIt57/p4i5dv2h17ry6fng/t2kB0= X-Google-Smtp-Source: AGHT+IFU1YNyH1EpzbeHXZeRfYVLCMIK879JlnJo50SCFW9GEfZ8U7grs5dI1Q1kSqvOqcrKMaJqFSJQW7x9 X-Received: by 2002:a05:6e02:318b:b0:3dd:b523:7abe with SMTP id e9e14a558f8ab-3e054a09efamr20928175ab.18.1751430618017; Tue, 01 Jul 2025 21:30:18 -0700 (PDT) Received: from postal.iol.unh.edu (postal.iol.unh.edu. [2606:4100:3880:1234::84]) by smtp-relay.gmail.com with ESMTPS id 8926c6da1cb9f-50204aaf740sm441605173.69.2025.07.01.21.30.17 (version=TLS1_2 cipher=ECDHE-ECDSA-AES128-GCM-SHA256 bits=128/128); Tue, 01 Jul 2025 21:30:18 -0700 (PDT) X-Relaying-Domain: iol.unh.edu Date: Tue, 01 Jul 2025 21:30:18 -0700 (PDT) Message-ID: <6864b5da.050a0220.340805.721cSMTPIN_ADDED_MISSING@mx.google.com> Received: from [172.21.0.7] (unknown [172.18.0.240]) by postal.iol.unh.edu (Postfix) with ESMTP id 4E5916051830; Wed, 2 Jul 2025 00:30:17 -0400 (EDT) Subject: |SUCCESS| [GIT MASTER] 0eb86b4533d40bcd703972421b9a201c02f37f8a From: dpdklab@iol.unh.edu To: Test Report Cc: dpdk-test-reports@iol.unh.edu Content-Type: text/plain X-BeenThere: test-report@dpdk.org X-Mailman-Version: 2.1.29 Precedence: list List-Id: automatic DPDK test reports List-Unsubscribe: , List-Archive: List-Post: List-Help: List-Subscribe: , Errors-To: test-report-bounces@dpdk.org _Testing PASS_ Branch: dpdk 0eb86b4533d40bcd703972421b9a201c02f37f8a --> testing pass Upstream job id: Generic-DPDK-Compile-Meson#404437 Test environment and result as below: +------------------------------+--------------------+ | Environment | dpdk_meson_compile | +==============================+====================+ | Red Hat Enterprise Linux 9.5 | PASS | +------------------------------+--------------------+ | Ubuntu 20.04 | PASS | +------------------------------+--------------------+ | Debian GNU/Linux 12 | PASS | +------------------------------+--------------------+ | Fedora Linux 40 | PASS | +------------------------------+--------------------+ | Fedora Linux 41 | PASS | +------------------------------+--------------------+ | Ubuntu 22.04 | PASS | +------------------------------+--------------------+ | Ubuntu 24.04 | PASS | +------------------------------+--------------------+ | CentOS Stream 9 | PASS | +------------------------------+--------------------+ | CentOS Stream 10 | PASS | +------------------------------+--------------------+ Red Hat Enterprise Linux 9.5 Kernel: 5.4 Compiler: gcc gcc (GCC) 11.5.0 20240719 (Red Hat 11.5.0-2) Ubuntu 20.04 Kernel: 5.4 Compiler: gcc gcc (Ubuntu 9.4.0-1ubuntu1~20.04.2) 9.4.0 Debian GNU/Linux 12 Kernel: 5.4 Compiler: gcc gcc (Debian 12.2.0-14+deb12u1) 12.2.0 Fedora Linux 40 Kernel: 5.4 Compiler: gcc gcc (GCC) 14.2.1 20240912 (Red Hat 14.2.1-3) Fedora Linux 41 Kernel: 5.4 Compiler: clang gcc (GCC) 14.3.1 20250523 (Red Hat 14.3.1-1) Ubuntu 22.04 Kernel: 5.4 Compiler: gcc gcc (Ubuntu 11.4.0-1ubuntu1~22.04) 11.4.0 Ubuntu 24.04 Kernel: 5.4 Compiler: gcc gcc (Ubuntu 13.3.0-6ubuntu2~24.04) 13.3.0 CentOS Stream 9 Kernel: 5.4 Compiler: gcc gcc (GCC) 11.5.0 20240719 (Red Hat 11.5.0-7) CentOS Stream 10 Kernel: 5.4 Compiler: gcc gcc (GCC) 14.2.1 20250110 (Red Hat 14.2.1-8) To view detailed results, visit: https://lab.dpdk.org/results/dashboard/tarballs/34104/ UNH-IOL DPDK Community Lab To manage your email subscriptions, visit: https://lab.dpdk.org/results/dashboard/preferences/subscriptions/