From mboxrd@z Thu Jan 1 00:00:00 1970 Return-Path: Received: from mails.dpdk.org (mails.dpdk.org [217.70.189.124]) by inbox.dpdk.org (Postfix) with ESMTP id 79A9E46ABB for ; Wed, 2 Jul 2025 09:54:37 +0200 (CEST) Received: from mails.dpdk.org (localhost [127.0.0.1]) by mails.dpdk.org (Postfix) with ESMTP id 4AC0440269; Wed, 2 Jul 2025 09:54:37 +0200 (CEST) Received: from mail-yw1-f227.google.com (mail-yw1-f227.google.com [209.85.128.227]) by mails.dpdk.org (Postfix) with ESMTP id 116EB40269 for ; Wed, 2 Jul 2025 09:54:36 +0200 (CEST) Received: by mail-yw1-f227.google.com with SMTP id 00721157ae682-70e4043c5b7so40478287b3.1 for ; Wed, 02 Jul 2025 00:54:36 -0700 (PDT) DKIM-Signature: v=1; a=rsa-sha256; c=relaxed/relaxed; d=iol.unh.edu; s=unh-iol; t=1751442875; x=1752047675; darn=dpdk.org; h=references:in-reply-to:cc:to:from:subject:message-id:date:from:to :cc:subject:date:message-id:reply-to; bh=SUenfyaBPYLqK+Gt4SUPtOtmExdvRlIRFTl3CU96j0E=; b=LNeYLXmrTzWPrOHina7p0I5WAi/yBP56jqCaOO6Rd53bR69snZwQbktPmO5p45ws93 dc2qaF7MKf92+lqnr21ySXFohZmJSRVH84tpBuP1carMWD+uQ8gqWgAbqn/q/CPZXtzs pkjhC0CEEvJM65Y726QJTNgQTEkzK+h7B9h8Y= X-Google-DKIM-Signature: v=1; a=rsa-sha256; c=relaxed/relaxed; d=1e100.net; s=20230601; t=1751442875; x=1752047675; h=references:in-reply-to:cc:to:from:subject:message-id:date :x-gm-message-state:from:to:cc:subject:date:message-id:reply-to; bh=SUenfyaBPYLqK+Gt4SUPtOtmExdvRlIRFTl3CU96j0E=; b=Ol9A4gohbKAqHIpj5Moqtp+Jg0ihsjZJt4iFgpFbwPaIMClc4GBw6soO4W92KPGSe5 KnuyoTdKzkFGVSO2ZVSOgAcfx56egcBDO5IIUTKzdIzgOrDNHOvjMGMiLXSHdnhGF2jj cgw+eAksnYgex1kUyM8oHdCLtZsYCDMODrGm4ZmS447rpn1LLrDVfelwudU/RZDi0ROL dZKkAfAHlAwixf9xgJuEAgCXX7lax5PQrVjjI0HY600Qkq3eiRQ8jGwCptJdxEa4JB66 J9tPWRtjnTe4LBVVQmJNpKQIMhDltm+74F+wVgB6CDINqneYXtEcVQ2axOpVmcrcUT+z O8fA== X-Gm-Message-State: AOJu0Yx9zdY+NoffU5nRBkvpvhpQCVDjF9w8hSwRaWMEWbDjt+20EgA7 1yAoAca7y7AtpmHWfHm9dzqp9bfW3Sz0/xU93y4MhPzYegBS/2V54jaB0hhKTBi9h0GiqyUPPEs KX/ylF/H2exwupYhnf7vfrFdRD8VA2pldxM4+PbtbW1zF X-Gm-Gg: ASbGncsgymEMBoM/DYQLtONpYFZnO5SlYscE8pCXIij2EFI7zfahcP7JwQHhVZ61kit VUCDJwTIx2TDSdyAmnhxtLFOJh4BFlUxKVuVLkCPUfDp4Q5hGBycuVR/oF6H+HAIDo/KyNCSx/s vRAkwP6oaLLID+lx/Ug+nsjK3S5/Z9oKX8my/3NUdUGlQF3ZkWMRQh0FVgNw/KrMNZP1wwwVl8T aAbbD///4cV1RgUvndTOgu1Pdg0fb5tD40ABf5CHhWEc7EXboVPy/HMZw6H0LjO89LvcOQ1KGBC m5izglInZbSXXjVKxSnLC1QX+UeDA1cNq7ZsPSoDlwTPrCofZqaPZ8j+kwASlVprXPYc7g== X-Google-Smtp-Source: AGHT+IEGJ6WruBn+HyJ3zun6n+L7zu8TLL0sBBxK5KNv6ie2HGwh+ov6UmKhiNEOI/miG4N1CmaWb5sTikqg X-Received: by 2002:a05:690c:f16:b0:70d:f15d:b18f with SMTP id 00721157ae682-7164d46ab19mr23771477b3.26.1751442875318; Wed, 02 Jul 2025 00:54:35 -0700 (PDT) Received: from postal.iol.unh.edu (postal.iol.unh.edu. [132.177.123.84]) by smtp-relay.gmail.com with ESMTPS id 00721157ae682-71515be13d3sm4287157b3.9.2025.07.02.00.54.35 (version=TLS1_2 cipher=ECDHE-ECDSA-AES128-GCM-SHA256 bits=128/128); Wed, 02 Jul 2025 00:54:35 -0700 (PDT) X-Relaying-Domain: iol.unh.edu Date: Wed, 02 Jul 2025 00:54:35 -0700 (PDT) Message-ID: <6864e5bb.050a0220.177644.7c79SMTPIN_ADDED_MISSING@mx.google.com> Received: from [172.21.0.5] (unknown [172.18.0.240]) by postal.iol.unh.edu (Postfix) with ESMTP id E77526051830; Wed, 2 Jul 2025 03:54:34 -0400 (EDT) Subject: |WARNING| pw154850-154856 [PATCH] [7/7] net/ena: upgrade driver vers From: dpdklab@iol.unh.edu To: Test Report Cc: dpdk-test-reports@iol.unh.edu In-Reply-To: <20250630111624.3677-1-shaibran@amazon.com> References: <20250630111624.3677-1-shaibran@amazon.com> Content-Type: text/plain X-BeenThere: test-report@dpdk.org X-Mailman-Version: 2.1.29 Precedence: list List-Id: automatic DPDK test reports List-Unsubscribe: , List-Archive: List-Post: List-Help: List-Subscribe: , Errors-To: test-report-bounces@dpdk.org Test-Label: iol-compile-amd64-testing Test-Status: WARNING http://dpdk.org/patch/154856 _Testing issues RETEST #1_ Submitter: Brandes, Shai Date: Monday, June 30 2025 11:16:24 DPDK git baseline: Repo:dpdk Branch: master CommitID:798e267824a5b9018fff6e0dc37e9a9f1f73e8fb 154850-154856 --> testing issues Upstream job id: Windows-Compile-DPDK-Native#29504 Test environment and result as below: +-------------------------------+--------------------+-------------------+------------------+-------------------+-------------------------+----------------------+ | Environment | dpdk_meson_compile | dpdk_compile_spdk | dpdk_compile_ovs | dpdk_msvc_compile | dpdk_llvm_clang_compile | dpdk_mingw64_compile | +===============================+====================+===================+==================+===================+=========================+======================+ | Ubuntu 20.04 | PASS | SKIPPED | SKIPPED | SKIPPED | SKIPPED | SKIPPED | +-------------------------------+--------------------+-------------------+------------------+-------------------+-------------------------+----------------------+ | FreeBSD 14.2 | PASS | SKIPPED | SKIPPED | SKIPPED | SKIPPED | SKIPPED | +-------------------------------+--------------------+-------------------+------------------+-------------------+-------------------------+----------------------+ | CentOS Stream 9 | PASS | PASS | SKIPPED | SKIPPED | SKIPPED | SKIPPED | +-------------------------------+--------------------+-------------------+------------------+-------------------+-------------------------+----------------------+ | CentOS Stream 10 | PASS | SKIPPED | SKIPPED | SKIPPED | SKIPPED | SKIPPED | +-------------------------------+--------------------+-------------------+------------------+-------------------+-------------------------+----------------------+ | Debian GNU/Linux 12 | PASS | PASS | SKIPPED | SKIPPED | SKIPPED | SKIPPED | +-------------------------------+--------------------+-------------------+------------------+-------------------+-------------------------+----------------------+ | Fedora Linux 40 | PASS | PASS | SKIPPED | SKIPPED | SKIPPED | SKIPPED | +-------------------------------+--------------------+-------------------+------------------+-------------------+-------------------------+----------------------+ | Fedora Linux 41 | PASS | PASS | PASS | SKIPPED | SKIPPED | SKIPPED | +-------------------------------+--------------------+-------------------+------------------+-------------------+-------------------------+----------------------+ | openSUSE Leap 15.6 | PASS | SKIPPED | SKIPPED | SKIPPED | SKIPPED | SKIPPED | +-------------------------------+--------------------+-------------------+------------------+-------------------+-------------------------+----------------------+ | Red Hat Enterprise Linux 8.10 | PASS | SKIPPED | SKIPPED | SKIPPED | SKIPPED | SKIPPED | +-------------------------------+--------------------+-------------------+------------------+-------------------+-------------------------+----------------------+ | Red Hat Enterprise Linux 9.5 | PASS | SKIPPED | SKIPPED | SKIPPED | SKIPPED | SKIPPED | +-------------------------------+--------------------+-------------------+------------------+-------------------+-------------------------+----------------------+ | Ubuntu 22.04 | PASS | PASS | SKIPPED | SKIPPED | SKIPPED | SKIPPED | +-------------------------------+--------------------+-------------------+------------------+-------------------+-------------------------+----------------------+ | Alpine Linux 3.22.0 | PASS | SKIPPED | SKIPPED | SKIPPED | SKIPPED | SKIPPED | +-------------------------------+--------------------+-------------------+------------------+-------------------+-------------------------+----------------------+ | Ubuntu 24.04 | PASS | PASS | PASS | SKIPPED | SKIPPED | SKIPPED | +-------------------------------+--------------------+-------------------+------------------+-------------------+-------------------------+----------------------+ | Windows Server 2022 | SKIPPED | SKIPPED | SKIPPED | PASS | PASS | PASS | +-------------------------------+--------------------+-------------------+------------------+-------------------+-------------------------+----------------------+ Ubuntu 20.04 Kernel: 4.19 Compiler: gcc gcc (Ubuntu 9.4.0-1ubuntu1~20.04.2) 9.4.0 FreeBSD 14.2 Kernel: 14.2-RELEASE Compiler: clang 18.1.6 CentOS Stream 9 Kernel: 5.15 Compiler: gcc gcc (GCC) 11.5.0 20240719 (Red Hat 11.5.0-7) CentOS Stream 10 Kernel: 5.15 Compiler: gcc gcc (GCC) 14.2.1 20250110 (Red Hat 14.2.1-8) Debian GNU/Linux 12 Kernel: 5.15 Compiler: gcc gcc (Debian 12.2.0-14+deb12u1) 12.2.0 Fedora Linux 40 Kernel: 5.15 Compiler: clang gcc (GCC) 14.2.1 20240912 (Red Hat 14.2.1-3) Fedora Linux 41 Kernel: 5.15 Compiler: clang gcc (GCC) 14.3.1 20250523 (Red Hat 14.3.1-1) openSUSE Leap 15.6 Kernel: 5.15 Compiler: gcc gcc (SUSE Linux) 7.5.0 Red Hat Enterprise Linux 8.10 Kernel: 5.15 Compiler: gcc gcc (GCC) 8.5.0 20210514 (Red Hat 8.5.0-22) Red Hat Enterprise Linux 9.5 Kernel: 5.15 Compiler: gcc gcc (GCC) 11.5.0 20240719 (Red Hat 11.5.0-2) Ubuntu 22.04 Kernel: 5.15 Compiler: gcc gcc (Ubuntu 11.4.0-1ubuntu1~22.04) 11.4.0 Alpine Linux 3.22.0 Kernel: 5.15 Compiler: gcc gcc (Alpine 14.2.0) 14.2.0 Ubuntu 24.04 Kernel: 5.15 Compiler: gcc gcc (Ubuntu 13.3.0-6ubuntu2~24.04) 13.3.0 Windows Server 2022 Kernel: 10.0.20348.2031 Compiler: clang 15.0.7, gcc 14.1.0 (MinGW), and MSVC VS 19.39.33521 To view detailed results, visit: https://lab.dpdk.org/results/dashboard/patchsets/33543/ UNH-IOL DPDK Community Lab To manage your email subscriptions, visit: https://lab.dpdk.org/results/dashboard/preferences/subscriptions/