From mboxrd@z Thu Jan 1 00:00:00 1970 Return-Path: Received: from mails.dpdk.org (mails.dpdk.org [217.70.189.124]) by inbox.dpdk.org (Postfix) with ESMTP id 7FF9546AD8 for ; Wed, 2 Jul 2025 19:26:37 +0200 (CEST) Received: from mails.dpdk.org (localhost [127.0.0.1]) by mails.dpdk.org (Postfix) with ESMTP id 731174028E; Wed, 2 Jul 2025 19:26:37 +0200 (CEST) Received: from mail-io1-f97.google.com (mail-io1-f97.google.com [209.85.166.97]) by mails.dpdk.org (Postfix) with ESMTP id F1E5A4028E for ; Wed, 2 Jul 2025 19:26:35 +0200 (CEST) Received: by mail-io1-f97.google.com with SMTP id ca18e2360f4ac-87640a9e237so380247639f.2 for ; Wed, 02 Jul 2025 10:26:35 -0700 (PDT) DKIM-Signature: v=1; a=rsa-sha256; c=relaxed/relaxed; d=iol.unh.edu; s=unh-iol; t=1751477195; x=1752081995; darn=dpdk.org; h=references:in-reply-to:cc:to:from:subject:message-id:date:from:to :cc:subject:date:message-id:reply-to; bh=jtQzc/XCHZDU95RhxEXQ1ZgNY2AIz0yZ1YBOApJP2oQ=; b=VjdhvvjOqCCifHMdEG5iql/3ykStGBgkn56y0FlPqgL+to4diy4/+wnSFQTCOTF2KN nlY7ywjsS5HZLrtQCsFVaPMF8kdMzL/GCE5GoHLYc7NZ2MrfrhcQMDtRh4L2ctk0PWS5 71bhuMsWVp6PFIFBoaoYpH7vdF8/LgcM/NM2k= X-Google-DKIM-Signature: v=1; a=rsa-sha256; c=relaxed/relaxed; d=1e100.net; s=20230601; t=1751477195; x=1752081995; h=references:in-reply-to:cc:to:from:subject:message-id:date :x-gm-message-state:from:to:cc:subject:date:message-id:reply-to; bh=jtQzc/XCHZDU95RhxEXQ1ZgNY2AIz0yZ1YBOApJP2oQ=; b=as85GiBrWLQoQMhV9Ffa8wZ3IsA4TaVMOfzPXtR13pBc/CSY1d3F0pBwdVB2p27xJE oNkH0/YbQ0AkMMxcD/UlL8HawXgpPeyySZWPx4KRsMNsz+UE1b+Elj+81r9dElihfXbD fZ3YvBRWgSvpqUgD7v6OF0qcxHHVsog78nz0JKnNaTiNnT9qlEnvIJuzAV9ttzrVri2m 81gHw3ETPkbuRbFNNXPZ+79JTeqNsBUDPjNUsAxuuXb5Pr9nuIVLyd76Oj7UQjTv7DTb DX/rF5AA91FbRnIrIQPXNG55aEkpAYQgqyEs8yHP/HQ1Ccw++6rd0iGdAp/5xdB1VYAv z+FA== X-Gm-Message-State: AOJu0Yy4h7EXJmVDAajaHPG4hQ8e/3J8gorqrc4o9ShTCXlP7K0EOj9D Hy/ZgzacHEG8uhY4B2Ad8vHzZTq1GQ6sDD3m+vfohpJUhiIfsUUsCfaoKD7N+u94CC9iJp271Yp Rm+Ku3y2C0EHgoj9RKE2jRelafQa7I9D67rNcHLTcKMa6 X-Gm-Gg: ASbGncvN5lgaWpEAClx1Hz+WGYfErQ+O1zHpm03TqBpSzsCBfgMsKJnY9fqNIvqtwCB DJ4et34e65ySx1F1tfUGby/PzVuRQURETefMXNMJ2BGsLvjHyoFgpmk7PKDGabCcJpnbKko0Mt7 AtHFwsZNaed1bAfzlVCM3rmzDiawJKIHEYk6KAwBHpDAnEIkKmPozwogz41qGToOF/NIdtsogRW bpYIpXLWjxhW0L7+Mhk/t1O7X5h+qaCdtdKGMq1jMrVrnn1imL+vMwOt6HY4gKGVC5QAYhzBh2n 2+h5fzu8OjcOTqumERmHChxwgBInutVGLdPC9LvFtAND0Nid/wNQizVu2pzcx6vJj9OF0g== X-Google-Smtp-Source: AGHT+IE5xN0SFRKuGcVy6bxjQNz8AjJ5UgeCfMFFz2XGaE8RNk82JdDGg9EdJ6KkDFH4kCuHWOLMGHWxBB9S X-Received: by 2002:a05:6214:451e:b0:6fb:1db:e9e7 with SMTP id 6a1803df08f44-702bc89da4emr2762846d6.10.1751477183449; Wed, 02 Jul 2025 10:26:23 -0700 (PDT) Received: from postal.iol.unh.edu (postal.iol.unh.edu. [132.177.123.84]) by smtp-relay.gmail.com with ESMTPS id 6a1803df08f44-6fd772a1d5dsm7395576d6.61.2025.07.02.10.26.23 (version=TLS1_2 cipher=ECDHE-ECDSA-AES128-GCM-SHA256 bits=128/128); Wed, 02 Jul 2025 10:26:23 -0700 (PDT) X-Relaying-Domain: iol.unh.edu Date: Wed, 02 Jul 2025 10:26:23 -0700 (PDT) Message-ID: <68656bbf.050a0220.7e334.7470SMTPIN_ADDED_MISSING@mx.google.com> Received: from [172.21.0.5] (unknown [172.18.0.240]) by postal.iol.unh.edu (Postfix) with ESMTP id 2AB9C6051830; Wed, 2 Jul 2025 13:26:23 -0400 (EDT) Subject: |SUCCESS| pw154966 [PATCH] net/mlx5: fix crash when using meter in t From: dpdklab@iol.unh.edu To: Test Report Cc: dpdk-test-reports@iol.unh.edu In-Reply-To: <20250702123617.1814996-1-14pwcse1224@uetpeshawar.edu.pk> References: <20250702123617.1814996-1-14pwcse1224@uetpeshawar.edu.pk> Content-Type: text/plain X-BeenThere: test-report@dpdk.org X-Mailman-Version: 2.1.29 Precedence: list List-Id: automatic DPDK test reports List-Unsubscribe: , List-Archive: List-Post: List-Help: List-Subscribe: , Errors-To: test-report-bounces@dpdk.org Test-Label: iol-unit-arm64-testing Test-Status: SUCCESS http://dpdk.org/patch/154966 _Testing PASS_ Submitter: Khadem Ullah <14pwcse1224@uetpeshawar.edu.pk> Date: Wednesday, July 02 2025 12:36:17 DPDK git baseline: Repo:dpdk Branch: master CommitID:5c0c1a13c34aa57c6e18f9ba852a9b5807c58b72 154966 --> testing pass Upstream job id: Generic-Unit-Test-DPDK#351803 Test environment and result as below: +------------------------------+------------------------------+--------------+---------------------------+----------------+ | Environment | cryptodev_sw_snow3g_autotest | lpm_autotest | cryptodev_sw_zuc_autotest | dpdk_unit_test | +==============================+==============================+==============+===========================+================+ | Debian 12 (arm) | PASS | SKIPPED | PASS | SKIPPED | +------------------------------+------------------------------+--------------+---------------------------+----------------+ | Ubuntu 20.04 | SKIPPED | PASS | SKIPPED | PASS | +------------------------------+------------------------------+--------------+---------------------------+----------------+ | CentOS Stream 9 | SKIPPED | SKIPPED | SKIPPED | PASS | +------------------------------+------------------------------+--------------+---------------------------+----------------+ | CentOS Stream 10 | SKIPPED | SKIPPED | SKIPPED | PASS | +------------------------------+------------------------------+--------------+---------------------------+----------------+ | Debian GNU/Linux 12 | SKIPPED | SKIPPED | SKIPPED | PASS | +------------------------------+------------------------------+--------------+---------------------------+----------------+ | Fedora Linux 40 | SKIPPED | SKIPPED | SKIPPED | PASS | +------------------------------+------------------------------+--------------+---------------------------+----------------+ | Fedora Linux 41 | SKIPPED | SKIPPED | SKIPPED | PASS | +------------------------------+------------------------------+--------------+---------------------------+----------------+ | Red Hat Enterprise Linux 9.5 | SKIPPED | SKIPPED | SKIPPED | PASS | +------------------------------+------------------------------+--------------+---------------------------+----------------+ | Ubuntu 22.04 | SKIPPED | SKIPPED | SKIPPED | PASS | +------------------------------+------------------------------+--------------+---------------------------+----------------+ | Ubuntu 24.04 | SKIPPED | SKIPPED | SKIPPED | PASS | +------------------------------+------------------------------+--------------+---------------------------+----------------+ Debian 12 (arm) Kernel: Depends on container host Compiler: gcc (Debian 12.2.0-14) 12.2.0 Ubuntu 20.04 Kernel: 5.4 Compiler: gcc gcc (Ubuntu 9.4.0-1ubuntu1~20.04.2) 9.4.0 CentOS Stream 9 Kernel: 5.4 Compiler: gcc gcc (GCC) 11.5.0 20240719 (Red Hat 11.5.0-7) CentOS Stream 10 Kernel: 5.4 Compiler: gcc gcc (GCC) 14.2.1 20250110 (Red Hat 14.2.1-8) Debian GNU/Linux 12 Kernel: 5.4 Compiler: gcc gcc (Debian 12.2.0-14+deb12u1) 12.2.0 Fedora Linux 40 Kernel: 5.4 Compiler: clang gcc (GCC) 14.2.1 20240912 (Red Hat 14.2.1-3) Fedora Linux 41 Kernel: 5.4 Compiler: clang gcc (GCC) 14.3.1 20250523 (Red Hat 14.3.1-1) Red Hat Enterprise Linux 9.5 Kernel: 5.4 Compiler: gcc gcc (GCC) 11.5.0 20240719 (Red Hat 11.5.0-2) Ubuntu 22.04 Kernel: 5.4 Compiler: gcc gcc (Ubuntu 11.4.0-1ubuntu1~22.04) 11.4.0 Ubuntu 24.04 Kernel: 5.4 Compiler: gcc gcc (Ubuntu 13.3.0-6ubuntu2~24.04) 13.3.0 To view detailed results, visit: https://lab.dpdk.org/results/dashboard/patchsets/33567/ UNH-IOL DPDK Community Lab To manage your email subscriptions, visit: https://lab.dpdk.org/results/dashboard/preferences/subscriptions/