From mboxrd@z Thu Jan 1 00:00:00 1970 Return-Path: Received: from mails.dpdk.org (mails.dpdk.org [217.70.189.124]) by inbox.dpdk.org (Postfix) with ESMTP id CF60B46AD8 for ; Wed, 2 Jul 2025 19:51:04 +0200 (CEST) Received: from mails.dpdk.org (localhost [127.0.0.1]) by mails.dpdk.org (Postfix) with ESMTP id CAF0F4028E; Wed, 2 Jul 2025 19:51:04 +0200 (CEST) Received: from mail-yw1-f227.google.com (mail-yw1-f227.google.com [209.85.128.227]) by mails.dpdk.org (Postfix) with ESMTP id 384D64028E for ; Wed, 2 Jul 2025 19:51:04 +0200 (CEST) Received: by mail-yw1-f227.google.com with SMTP id 00721157ae682-708d90aa8f9so73526127b3.3 for ; Wed, 02 Jul 2025 10:51:04 -0700 (PDT) DKIM-Signature: v=1; a=rsa-sha256; c=relaxed/relaxed; d=iol.unh.edu; s=unh-iol; t=1751478663; x=1752083463; darn=dpdk.org; h=references:in-reply-to:cc:to:from:subject:message-id:date:from:to :cc:subject:date:message-id:reply-to; bh=+JTjES/URXrEizEm0zxrghu8yum2+2eMpx589gWhsnA=; b=VYMLAF8rvpCrOpOYRkGKVkeG1Rlstz7vd/GiPnmLcNXDgSsja/jHioBpKv5/RwakWM cvH1PzTv0NHXnez/xHTa+HG9pBPS3FTfecdoUZqEspGdkuWWEmIl/kLPaDHNJ5Ve1Pzz gcG+vi1CTH00tbrhq3+ItSawvwfXGUDshKYPk= X-Google-DKIM-Signature: v=1; a=rsa-sha256; c=relaxed/relaxed; d=1e100.net; s=20230601; t=1751478663; x=1752083463; h=references:in-reply-to:cc:to:from:subject:message-id:date :x-gm-message-state:from:to:cc:subject:date:message-id:reply-to; bh=+JTjES/URXrEizEm0zxrghu8yum2+2eMpx589gWhsnA=; b=rDjfTL5YRXdqChr/MOpoEcQJ0BO031eBVH2PZxg8dkT5EbukC2pau4GYgRBBjddKSr K8bM+uOtA2c/Z0AJqTT9OW226GE+0LP1ht+li4f7Q0rmZDBqt3xQ0aH/+kEApZ/hQfhs tTMClOtUD/LWS5OJDF/9unsOYwwbQi6p+aSGQxwoeq+bZx2mcjZiBhBdB8Yv1JYkoEPg /rGcnYStXbmp2eYKTiamEQiSYsGeILMNGlPTXvdRdVuRnZi+rR0rlJPwm21JThMrrJ4W jnPD9cus1Ztxzda+usC5tzTTIPShYZJCWPziZBkQo+IkGL+qDmwgYIOgW49BDOpYcicK fo+g== X-Gm-Message-State: AOJu0YxCe5GSkHYnrKwzXjvDrtnSyBE10SqUtyNDAs5u0iu9TUUXZ2tF 0efumLjMUOTpCPgrai6COT59H4IO0x40mxnqu5Tczl08iXiksBDF3ZSRbcdJTWPaa3o8CMgo7Wl jDcDz61pwey4UWknXQ+rYylKbNss/Z39TtBtRmHic7bkz X-Gm-Gg: ASbGnctTZepyGTZCb8ylyQTVbZJNjj6dtVvfLgxcEYuNw/ufDxOPzhGfwav4LQfvbHq pqtO6OGWa0pW6Ap01uXkeK+VUzg9ZCWtfenlKxHtlIrTLmSOJ2Fwhv9rnma0ZUic0hTC6COX8oX MjpjU0BtoilxQKcaVnqDAKMno+Dx9SyIQhiQcUSbyoSl3u8G2KhG0KjuUtqkr0XKzkGiHkqTsqe 2JYX30msENwUoszM7POwGaZHoAEZo/wpohjCdFT1Y0ym81At2QccTGqbRkIuyOsY3crmTe67oQJ sfufY07qfYWZnd7p+3tmcNXnKyGypqwMI13JFAyA9A3DesReaVpQYNCDus8QXy0dfa2Xsg== X-Google-Smtp-Source: AGHT+IF9aKyqABfd3Z/Z4ZeSvXzA9WAqpuanRYVQF21qLVSqaTq+f77lIof6A5Agh1/bHnPeWa92+1S5ewSE X-Received: by 2002:a05:690c:46c9:b0:70f:6ec6:62b3 with SMTP id 00721157ae682-7164d52355emr51473837b3.26.1751478663429; Wed, 02 Jul 2025 10:51:03 -0700 (PDT) Received: from postal.iol.unh.edu (postal.iol.unh.edu. [132.177.123.84]) by smtp-relay.gmail.com with ESMTPS id 00721157ae682-71515be13a9sm4730477b3.5.2025.07.02.10.51.03 (version=TLS1_2 cipher=ECDHE-ECDSA-AES128-GCM-SHA256 bits=128/128); Wed, 02 Jul 2025 10:51:03 -0700 (PDT) X-Relaying-Domain: iol.unh.edu Date: Wed, 02 Jul 2025 10:51:03 -0700 (PDT) Message-ID: <68657187.050a0220.65032.a22eSMTPIN_ADDED_MISSING@mx.google.com> Received: from [172.21.0.5] (unknown [172.18.0.240]) by postal.iol.unh.edu (Postfix) with ESMTP id 18F4A604D420; Wed, 2 Jul 2025 13:51:03 -0400 (EDT) Subject: |SUCCESS| pw154966 [PATCH] net/mlx5: fix crash when using meter in t From: dpdklab@iol.unh.edu To: Test Report Cc: dpdk-test-reports@iol.unh.edu In-Reply-To: <20250702123617.1814996-1-14pwcse1224@uetpeshawar.edu.pk> References: <20250702123617.1814996-1-14pwcse1224@uetpeshawar.edu.pk> Content-Type: text/plain X-BeenThere: test-report@dpdk.org X-Mailman-Version: 2.1.29 Precedence: list List-Id: automatic DPDK test reports List-Unsubscribe: , List-Archive: List-Post: List-Help: List-Subscribe: , Errors-To: test-report-bounces@dpdk.org Test-Label: iol-unit-amd64-testing Test-Status: SUCCESS http://dpdk.org/patch/154966 _Testing PASS_ Submitter: Khadem Ullah <14pwcse1224@uetpeshawar.edu.pk> Date: Wednesday, July 02 2025 12:36:17 DPDK git baseline: Repo:dpdk Branch: master CommitID:5c0c1a13c34aa57c6e18f9ba852a9b5807c58b72 154966 --> testing pass Upstream job id: Generic-Unit-Test-DPDK#351802 Test environment and result as below: +-------------------------------+----------------+ | Environment | dpdk_unit_test | +===============================+================+ | CentOS Stream 10 | PASS | +-------------------------------+----------------+ | CentOS Stream 9 | PASS | +-------------------------------+----------------+ | Fedora Linux 40 | PASS | +-------------------------------+----------------+ | Fedora Linux 41 | PASS | +-------------------------------+----------------+ | Ubuntu 20.04 | PASS | +-------------------------------+----------------+ | Red Hat Enterprise Linux 9.5 | PASS | +-------------------------------+----------------+ | Debian GNU/Linux 12 | PASS | +-------------------------------+----------------+ | Red Hat Enterprise Linux 8.10 | PASS | +-------------------------------+----------------+ | Ubuntu 22.04 | PASS | +-------------------------------+----------------+ | Ubuntu 24.04 | PASS | +-------------------------------+----------------+ | Windows Server 2022 | PASS | +-------------------------------+----------------+ CentOS Stream 10 Kernel: 5.15 Compiler: gcc gcc (GCC) 14.2.1 20250110 (Red Hat 14.2.1-8) CentOS Stream 9 Kernel: 5.15 Compiler: gcc gcc (GCC) 11.5.0 20240719 (Red Hat 11.5.0-7) Fedora Linux 40 Kernel: 5.15 Compiler: clang gcc (GCC) 14.2.1 20240912 (Red Hat 14.2.1-3) Fedora Linux 41 Kernel: 5.15 Compiler: clang gcc (GCC) 14.3.1 20250523 (Red Hat 14.3.1-1) Ubuntu 20.04 Kernel: 5.15 Compiler: gcc gcc (Ubuntu 9.4.0-1ubuntu1~20.04.2) 9.4.0 Red Hat Enterprise Linux 9.5 Kernel: 5.15 Compiler: gcc gcc (GCC) 11.5.0 20240719 (Red Hat 11.5.0-2) Debian GNU/Linux 12 Kernel: 5.15 Compiler: gcc gcc (Debian 12.2.0-14+deb12u1) 12.2.0 Red Hat Enterprise Linux 8.10 Kernel: 5.15 Compiler: gcc gcc (GCC) 8.5.0 20210514 (Red Hat 8.5.0-22) Ubuntu 22.04 Kernel: 5.15 Compiler: gcc gcc (Ubuntu 11.4.0-1ubuntu1~22.04) 11.4.0 Ubuntu 24.04 Kernel: 5.15 Compiler: gcc gcc (Ubuntu 13.3.0-6ubuntu2~24.04) 13.3.0 Windows Server 2022 Kernel: 10.0.20348.2031 Compiler: clang 15.0.7, gcc 14.1.0 (MinGW), and MSVC VS 19.39.33521 To view detailed results, visit: https://lab.dpdk.org/results/dashboard/patchsets/33567/ UNH-IOL DPDK Community Lab To manage your email subscriptions, visit: https://lab.dpdk.org/results/dashboard/preferences/subscriptions/