From mboxrd@z Thu Jan 1 00:00:00 1970 Return-Path: Received: from mails.dpdk.org (mails.dpdk.org [217.70.189.124]) by inbox.dpdk.org (Postfix) with ESMTP id A057F46AD5 for ; Wed, 2 Jul 2025 20:40:03 +0200 (CEST) Received: from mails.dpdk.org (localhost [127.0.0.1]) by mails.dpdk.org (Postfix) with ESMTP id 9B2D24064C; Wed, 2 Jul 2025 20:40:03 +0200 (CEST) Received: from mail-yb1-f225.google.com (mail-yb1-f225.google.com [209.85.219.225]) by mails.dpdk.org (Postfix) with ESMTP id 4C3954064C for ; Wed, 2 Jul 2025 20:40:02 +0200 (CEST) Received: by mail-yb1-f225.google.com with SMTP id 3f1490d57ef6-e7d9d480e6cso3686914276.2 for ; Wed, 02 Jul 2025 11:40:02 -0700 (PDT) DKIM-Signature: v=1; a=rsa-sha256; c=relaxed/relaxed; d=iol.unh.edu; s=unh-iol; t=1751481601; x=1752086401; darn=dpdk.org; h=references:in-reply-to:cc:to:from:subject:message-id:date:from:to :cc:subject:date:message-id:reply-to; bh=1Rf/rT5dHKFPia3Kl8MV7bLnnQfQU2tUqJXYRdHCMsQ=; b=clalcMiry7J22NR1GPE0f6+ewilSkSrSTRPB8KgTE270QQPx1O3jWEq9+nQntcorch skZwZ0S4HFpfrtJFPEYzIuWInIYpEGdBlskOxs3KpBOxKLhpu0C8cyMJ9c0m7uP2Ko3h oWiu0CmolcWTlZkhCBKcOj50MpUMwQxBOlPo4= X-Google-DKIM-Signature: v=1; a=rsa-sha256; c=relaxed/relaxed; d=1e100.net; s=20230601; t=1751481601; x=1752086401; h=references:in-reply-to:cc:to:from:subject:message-id:date :x-gm-message-state:from:to:cc:subject:date:message-id:reply-to; bh=1Rf/rT5dHKFPia3Kl8MV7bLnnQfQU2tUqJXYRdHCMsQ=; b=fPkfZkoYGgk/W5XpJ53yPq5KkZ57nTsn39diVbDKqLsFlB6n3ojXGBjzuFTURv1z0U cIa2heAFDjdcC/yibj/oDKVsy58haEo8ycaqgb+Ud/GEbwFjosJxX2SCdmwB1XrNMxaD 6/sozeKVGC8AgCPQmgdIutqfsfK42YYzkx1lK0tXMCKXVn+1gNd5hzFaUiwj+AI5H34/ tn3BNdxFMUhTg+6as9W6m68yNtiPsGK3jNc3mG6dm/ZENPM93RqjHI1LvMudKuJ+dEhg c4Gi7rqEy7MueSgZQoMDRYW6ypUEy1l/Yljg0Mnh3q1hc4rLWloaT8HbKWF0NIkpdNlT BTGw== X-Gm-Message-State: AOJu0YwFcvn0O/X9PyLhbRRyit/eJNBkP7GGjhJnGwf6dj3jsdy6ZJ0A hXF/jvWsTzyF7w3nNZhf4+kSL3AY8orLshdMQz4h2IyIh4VyXuQDn7rcA6oYTY+T8ysxE0Xta3W oIaxc/Nkfn4zKwk83YoCmg3wcMEcTvf1e/RiSHXv/usRS X-Gm-Gg: ASbGnctKBQ9NWQ1wTvdNId+MNMC4qb/7c3doq339vYdNeAibLuvhoy5hWM1+twk4+tq yEEHCWcO6OhCdhcU5ifVEI+rghAdw1Ecqy0OPN5L4vO9NXjNhwJ4v0DlxDLtHn/i/jbK4TyF8Pe zlO2ikH3yTirn/Y+/m/tD/LGgpaky99dA7xSqqGnZJArhbBmykVStPKeWruN+LER2qoE119dBdF mAEiJ2R/nDzoJNtPk6jZOOpuBaQULYMcbR+nutI8+k5AhXh4tUKduldEjt8IimuuWYrXQdvrVvn IHk8nmQLfInMioegjRmexaErbn2vV45NvzPD8hBNeVrfLHB/KO19e6wN+zgkl85vGOWIEg== X-Google-Smtp-Source: AGHT+IG2AhcWx4ckgQ599lF+JKmzyB2VwCtMVez6WwqBRJ7do+5oN9zde1Al0Y/hg59BVmhMRPz/PPO5jNgJ X-Received: by 2002:a05:690c:6281:b0:70e:53:6741 with SMTP id 00721157ae682-7164d46625amr55013537b3.28.1751481601591; Wed, 02 Jul 2025 11:40:01 -0700 (PDT) Received: from postal.iol.unh.edu (postal.iol.unh.edu. [132.177.123.84]) by smtp-relay.gmail.com with ESMTPS id 00721157ae682-71515cd1080sm3923317b3.47.2025.07.02.11.40.01 (version=TLS1_2 cipher=ECDHE-ECDSA-AES128-GCM-SHA256 bits=128/128); Wed, 02 Jul 2025 11:40:01 -0700 (PDT) X-Relaying-Domain: iol.unh.edu Date: Wed, 02 Jul 2025 11:40:01 -0700 (PDT) Message-ID: <68657d01.050a0220.79395.5098SMTPIN_ADDED_MISSING@mx.google.com> Received: from [172.21.0.5] (unknown [172.18.0.240]) by postal.iol.unh.edu (Postfix) with ESMTP id 3AF73604D420; Wed, 2 Jul 2025 14:40:01 -0400 (EDT) Subject: |SUCCESS| pw154953-154957 [PATCH] [v8,5/5] net/dpaa2: enable softwar From: dpdklab@iol.unh.edu To: Test Report Cc: dpdk-test-reports@iol.unh.edu In-Reply-To: <20250702095144.3087250-6-g.singh@nxp.com> References: <20250702095144.3087250-6-g.singh@nxp.com> Content-Type: text/plain X-BeenThere: test-report@dpdk.org X-Mailman-Version: 2.1.29 Precedence: list List-Id: automatic DPDK test reports List-Unsubscribe: , List-Archive: List-Post: List-Help: List-Subscribe: , Errors-To: test-report-bounces@dpdk.org Test-Label: iol-unit-arm64-testing Test-Status: SUCCESS http://dpdk.org/patch/154957 _Testing PASS_ Submitter: Gagandeep Singh Date: Wednesday, July 02 2025 09:51:44 DPDK git baseline: Repo:dpdk Branch: master CommitID:b18c543ec30729ccc7708a6e064a1f9db5d8c11f 154953-154957 --> testing pass Upstream job id: Generic-Unit-Test-DPDK#351816 Test environment and result as below: +------------------------------+--------------+------------------------------+---------------------------+----------------+ | Environment | lpm_autotest | cryptodev_sw_snow3g_autotest | cryptodev_sw_zuc_autotest | dpdk_unit_test | +==============================+==============+==============================+===========================+================+ | Ubuntu 20.04 | PASS | SKIPPED | SKIPPED | PASS | +------------------------------+--------------+------------------------------+---------------------------+----------------+ | Debian 12 (arm) | SKIPPED | PASS | PASS | SKIPPED | +------------------------------+--------------+------------------------------+---------------------------+----------------+ | CentOS Stream 9 | SKIPPED | SKIPPED | SKIPPED | PASS | +------------------------------+--------------+------------------------------+---------------------------+----------------+ | CentOS Stream 10 | SKIPPED | SKIPPED | SKIPPED | PASS | +------------------------------+--------------+------------------------------+---------------------------+----------------+ | Debian GNU/Linux 12 | SKIPPED | SKIPPED | SKIPPED | PASS | +------------------------------+--------------+------------------------------+---------------------------+----------------+ | Fedora Linux 40 | SKIPPED | SKIPPED | SKIPPED | PASS | +------------------------------+--------------+------------------------------+---------------------------+----------------+ | Fedora Linux 41 | SKIPPED | SKIPPED | SKIPPED | PASS | +------------------------------+--------------+------------------------------+---------------------------+----------------+ | Red Hat Enterprise Linux 9.5 | SKIPPED | SKIPPED | SKIPPED | PASS | +------------------------------+--------------+------------------------------+---------------------------+----------------+ | Ubuntu 24.04 | SKIPPED | SKIPPED | SKIPPED | PASS | +------------------------------+--------------+------------------------------+---------------------------+----------------+ | Ubuntu 22.04 | SKIPPED | SKIPPED | SKIPPED | PASS | +------------------------------+--------------+------------------------------+---------------------------+----------------+ Ubuntu 20.04 Kernel: 5.4 Compiler: gcc gcc (Ubuntu 9.4.0-1ubuntu1~20.04.2) 9.4.0 Debian 12 (arm) Kernel: Depends on container host Compiler: gcc (Debian 12.2.0-14) 12.2.0 CentOS Stream 9 Kernel: 5.4 Compiler: gcc gcc (GCC) 11.5.0 20240719 (Red Hat 11.5.0-7) CentOS Stream 10 Kernel: 5.4 Compiler: gcc gcc (GCC) 14.2.1 20250110 (Red Hat 14.2.1-8) Debian GNU/Linux 12 Kernel: 5.4 Compiler: gcc gcc (Debian 12.2.0-14+deb12u1) 12.2.0 Fedora Linux 40 Kernel: 5.4 Compiler: gcc gcc (GCC) 14.2.1 20240912 (Red Hat 14.2.1-3) Fedora Linux 41 Kernel: 5.4 Compiler: gcc gcc (GCC) 14.3.1 20250523 (Red Hat 14.3.1-1) Red Hat Enterprise Linux 9.5 Kernel: 5.4 Compiler: gcc gcc (GCC) 11.5.0 20240719 (Red Hat 11.5.0-2) Ubuntu 24.04 Kernel: 5.4 Compiler: gcc gcc (Ubuntu 13.3.0-6ubuntu2~24.04) 13.3.0 Ubuntu 22.04 Kernel: 5.4 Compiler: gcc gcc (Ubuntu 11.4.0-1ubuntu1~22.04) 11.4.0 To view detailed results, visit: https://lab.dpdk.org/results/dashboard/patchsets/33565/ UNH-IOL DPDK Community Lab To manage your email subscriptions, visit: https://lab.dpdk.org/results/dashboard/preferences/subscriptions/