From mboxrd@z Thu Jan 1 00:00:00 1970 Return-Path: Received: from mails.dpdk.org (mails.dpdk.org [217.70.189.124]) by inbox.dpdk.org (Postfix) with ESMTP id BC3A646AD5 for ; Wed, 2 Jul 2025 20:40:24 +0200 (CEST) Received: from mails.dpdk.org (localhost [127.0.0.1]) by mails.dpdk.org (Postfix) with ESMTP id B3C634064C; Wed, 2 Jul 2025 20:40:24 +0200 (CEST) Received: from mail-io1-f99.google.com (mail-io1-f99.google.com [209.85.166.99]) by mails.dpdk.org (Postfix) with ESMTP id 087074064C for ; Wed, 2 Jul 2025 20:40:24 +0200 (CEST) Received: by mail-io1-f99.google.com with SMTP id ca18e2360f4ac-872886ed65aso588549039f.1 for ; Wed, 02 Jul 2025 11:40:23 -0700 (PDT) DKIM-Signature: v=1; a=rsa-sha256; c=relaxed/relaxed; d=iol.unh.edu; s=unh-iol; t=1751481623; x=1752086423; darn=dpdk.org; h=references:in-reply-to:cc:to:from:subject:message-id:date:from:to :cc:subject:date:message-id:reply-to; bh=d1QSfcrUjdz59hhISqvMQhnHn36dU6Omjhhc2w6Bj2M=; b=HTBDEZwW6+hzb3PJBqOV3STNGaxzyCP4BfMKun+y1C6vlN92L/1dWAca1XKARwRGjx L4dUPe0KfY2Yk/vTEuPfMwFraL6FyH7chLHISjhMCRD1ptT/zkpHKVEtAk5l9REoSyqk tB2l19zbMC8sYipoXucDhm/UitWQN1lCDxwgM= X-Google-DKIM-Signature: v=1; a=rsa-sha256; c=relaxed/relaxed; d=1e100.net; s=20230601; t=1751481623; x=1752086423; h=references:in-reply-to:cc:to:from:subject:message-id:date :x-gm-message-state:from:to:cc:subject:date:message-id:reply-to; bh=d1QSfcrUjdz59hhISqvMQhnHn36dU6Omjhhc2w6Bj2M=; b=ru03hvj8mg3BQrrRtfGfVZ1vYctwsh/zEgt1Q9lXoJjiGcpBaFGo18MgVDTEuf7D5N DbYHCOaMqFnTHIANHVDZPdfDjllaLlxbmkPeuvBVQ4KI/r0OsWdofzIzqQaQtnYI0Med 0z+Fe9vhqbHn6IStd0ZHC3TToPcaIMhPATtjeWb0APIc4MIkOP3mVWq8Zl6ZcVwmDVI7 FDFlYTp2mVvfN1XOu9CkOHaqfmUUC0BvCC4QRIHKrl8Sj3ls0T2UAbCqplTMCfu4WurS 9TH1GVQCCUBODJVbPnLx8HZDV/MWciXYu4qezexxrwNymegsrCF/LiEUE7hxxP8902Il ZJww== X-Gm-Message-State: AOJu0Yw2jG21OJCtwJa01UuZLNuJJ5JRy7BPy9FxMM5ImBDz7LIBptOD VgLmyODowUXk0K9ZpAaoVCZeN5R3U1UI2PGpuUwIv4eK2Qe7ic2Q5Nn0H2A7AQ2+gpIAnT2vw/r MG10T3Z7+ghV7LQmvAWzBaMm8xYnmObbNSKJFE+CCqmq0 X-Gm-Gg: ASbGncsS4qGrPMIsQzT2R2yLt5Lc5vWhcfvr30nuwc5NOgZHKjS1+p/7OEg0gYLWbcN 02ZAZzecQiGgv4UfA2Qc5qwkPHx18gmgh2GhUiBV0qdDDoBTpyTrQqh2Y/LToKiyxqcPlrSJV1Z wQgJI6ZDtyW9+koGnnKyQmeODevkWrcV3j7JU/7LeE+BF+ft/IYuTyduNKP4g5ZAfYKIE6LimGy BHfIWNGC2KmtCIog1fGWfaCJ5HyI2Fnkv3OkEIQdGMeEaAExMDPYt/wv9yreIWziMnUA6P8ZEV1 14NVyQscjiZ/3ltEixcNk/n2qfqpIJqPXl5W6ZpOo3gpXPY+gnCtCdW1fy+MRz07wQE91w== X-Google-Smtp-Source: AGHT+IGgDhaMQ1z/KqMlkE+LWLyudGGTeAZeuamRJEWnTH3CgZstVimPUXtFIE2vQOidL0BZJd3P4ZYMrbJI X-Received: by 2002:a05:6602:26d4:b0:86d:a29:c7f7 with SMTP id ca18e2360f4ac-876c6a33453mr573002839f.8.1751481623334; Wed, 02 Jul 2025 11:40:23 -0700 (PDT) Received: from postal.iol.unh.edu (postal.iol.unh.edu. [132.177.123.84]) by smtp-relay.gmail.com with ESMTPS id ca18e2360f4ac-87687b2283asm51072039f.24.2025.07.02.11.40.23 (version=TLS1_2 cipher=ECDHE-ECDSA-AES128-GCM-SHA256 bits=128/128); Wed, 02 Jul 2025 11:40:23 -0700 (PDT) X-Relaying-Domain: iol.unh.edu Date: Wed, 02 Jul 2025 11:40:23 -0700 (PDT) Message-ID: <68657d17.050a0220.314196.c390SMTPIN_ADDED_MISSING@mx.google.com> Received: from [172.21.0.6] (unknown [172.18.0.240]) by postal.iol.unh.edu (Postfix) with ESMTP id D2D5E604D420; Wed, 2 Jul 2025 14:40:22 -0400 (EDT) Subject: |SUCCESS| pw154953-154957 [PATCH] [v8,5/5] net/dpaa2: enable softwar From: dpdklab@iol.unh.edu To: Test Report Cc: dpdk-test-reports@iol.unh.edu In-Reply-To: <20250702095144.3087250-6-g.singh@nxp.com> References: <20250702095144.3087250-6-g.singh@nxp.com> Content-Type: text/plain X-BeenThere: test-report@dpdk.org X-Mailman-Version: 2.1.29 Precedence: list List-Id: automatic DPDK test reports List-Unsubscribe: , List-Archive: List-Post: List-Help: List-Subscribe: , Errors-To: test-report-bounces@dpdk.org Test-Label: iol-unit-arm64-testing Test-Status: SUCCESS http://dpdk.org/patch/154957 _Testing PASS_ Submitter: Gagandeep Singh Date: Wednesday, July 02 2025 09:51:44 DPDK git baseline: Repo:dpdk Branch: master CommitID:b18c543ec30729ccc7708a6e064a1f9db5d8c11f 154953-154957 --> testing pass Upstream job id: Generic-Unit-Test-DPDK#351820 Test environment and result as below: +------------------------------+--------------+------------------------------+---------------------------+----------------+ | Environment | lpm_autotest | cryptodev_sw_snow3g_autotest | cryptodev_sw_zuc_autotest | dpdk_unit_test | +==============================+==============+==============================+===========================+================+ | Ubuntu 20.04 | PASS | SKIPPED | SKIPPED | PASS | +------------------------------+--------------+------------------------------+---------------------------+----------------+ | Debian 12 (arm) | SKIPPED | PASS | PASS | SKIPPED | +------------------------------+--------------+------------------------------+---------------------------+----------------+ | CentOS Stream 9 | SKIPPED | SKIPPED | SKIPPED | PASS | +------------------------------+--------------+------------------------------+---------------------------+----------------+ | CentOS Stream 10 | SKIPPED | SKIPPED | SKIPPED | PASS | +------------------------------+--------------+------------------------------+---------------------------+----------------+ | Debian GNU/Linux 12 | SKIPPED | SKIPPED | SKIPPED | PASS | +------------------------------+--------------+------------------------------+---------------------------+----------------+ | Fedora Linux 40 | SKIPPED | SKIPPED | SKIPPED | PASS | +------------------------------+--------------+------------------------------+---------------------------+----------------+ | Fedora Linux 41 | SKIPPED | SKIPPED | SKIPPED | PASS | +------------------------------+--------------+------------------------------+---------------------------+----------------+ | Red Hat Enterprise Linux 9.5 | SKIPPED | SKIPPED | SKIPPED | PASS | +------------------------------+--------------+------------------------------+---------------------------+----------------+ | Ubuntu 24.04 | SKIPPED | SKIPPED | SKIPPED | PASS | +------------------------------+--------------+------------------------------+---------------------------+----------------+ | Ubuntu 22.04 | SKIPPED | SKIPPED | SKIPPED | PASS | +------------------------------+--------------+------------------------------+---------------------------+----------------+ Ubuntu 20.04 Kernel: 5.4 Compiler: gcc gcc (Ubuntu 9.4.0-1ubuntu1~20.04.2) 9.4.0 Debian 12 (arm) Kernel: Depends on container host Compiler: gcc (Debian 12.2.0-14) 12.2.0 CentOS Stream 9 Kernel: 5.4 Compiler: gcc gcc (GCC) 11.5.0 20240719 (Red Hat 11.5.0-7) CentOS Stream 10 Kernel: 5.4 Compiler: gcc gcc (GCC) 14.2.1 20250110 (Red Hat 14.2.1-8) Debian GNU/Linux 12 Kernel: 5.4 Compiler: gcc gcc (Debian 12.2.0-14+deb12u1) 12.2.0 Fedora Linux 40 Kernel: 5.4 Compiler: gcc gcc (GCC) 14.2.1 20240912 (Red Hat 14.2.1-3) Fedora Linux 41 Kernel: 5.4 Compiler: gcc gcc (GCC) 14.3.1 20250523 (Red Hat 14.3.1-1) Red Hat Enterprise Linux 9.5 Kernel: 5.4 Compiler: gcc gcc (GCC) 11.5.0 20240719 (Red Hat 11.5.0-2) Ubuntu 24.04 Kernel: 5.4 Compiler: gcc gcc (Ubuntu 13.3.0-6ubuntu2~24.04) 13.3.0 Ubuntu 22.04 Kernel: 5.4 Compiler: gcc gcc (Ubuntu 11.4.0-1ubuntu1~22.04) 11.4.0 To view detailed results, visit: https://lab.dpdk.org/results/dashboard/patchsets/33565/ UNH-IOL DPDK Community Lab To manage your email subscriptions, visit: https://lab.dpdk.org/results/dashboard/preferences/subscriptions/