From mboxrd@z Thu Jan 1 00:00:00 1970 Return-Path: Received: from mails.dpdk.org (mails.dpdk.org [217.70.189.124]) by inbox.dpdk.org (Postfix) with ESMTP id BD4DD46ADC for ; Wed, 2 Jul 2025 22:25:02 +0200 (CEST) Received: from mails.dpdk.org (localhost [127.0.0.1]) by mails.dpdk.org (Postfix) with ESMTP id 975CA4064C; Wed, 2 Jul 2025 22:25:02 +0200 (CEST) Received: from mail-oa1-f97.google.com (mail-oa1-f97.google.com [209.85.160.97]) by mails.dpdk.org (Postfix) with ESMTP id E40E74064C for ; Wed, 2 Jul 2025 22:25:01 +0200 (CEST) Received: by mail-oa1-f97.google.com with SMTP id 586e51a60fabf-2f75f1c7206so312125fac.0 for ; Wed, 02 Jul 2025 13:25:01 -0700 (PDT) DKIM-Signature: v=1; a=rsa-sha256; c=relaxed/relaxed; d=iol.unh.edu; s=unh-iol; t=1751487901; x=1752092701; darn=dpdk.org; h=references:in-reply-to:cc:to:from:subject:message-id:date:from:to :cc:subject:date:message-id:reply-to; bh=FBEViN1agMu2fiG+jtHKhBQ47wuA2Dh2J/vF7qm7wjE=; b=gMUyGUZrxjegKiv+YsRgv4iD5UNe3x8xuFZqX0VUbcVEL+/e6uJjAyGhebE6RosCkk 827CdUR1FJCGgpcfNoKT5DKuIwPi9MgGxzIOFRLVSxciPBqIhB3FK5tz7u6YCiStOw6M XNs+Cn24VkXJmh3nuGGM0K83h1Xqz4gEGhkNw= X-Google-DKIM-Signature: v=1; a=rsa-sha256; c=relaxed/relaxed; d=1e100.net; s=20230601; t=1751487901; x=1752092701; h=references:in-reply-to:cc:to:from:subject:message-id:date :x-gm-message-state:from:to:cc:subject:date:message-id:reply-to; bh=FBEViN1agMu2fiG+jtHKhBQ47wuA2Dh2J/vF7qm7wjE=; b=xTvhpkqhdGZL6ZZOFcBTCBXfRwhyDCNH08R+n5AUVFwOS4ihGqbPG/CAQPbw2pD5i5 4/vgJcuKVeq2KWyDxwBGybW3dcdMSkPUQOhI+P43/5bVK7+rAgfl2U1ux7jIGRO4fYzX 5x2KTut/uLlcMENKlywVeMfidp7hoON8XYkrNpGMZi7onQ0I6FwW8+9yYEP1zisewSkj L6IvazN4XWbiB3KiJEkPrc9DwbfJB8j9zMm2Gy5UAVs8Cbp/FBCYhOJqg2In9vgurERN 2IwGM9u7ECg39wBxaMHJ5lyLtObVbcGFp/1aZJd1QXNuof5v98GGcT5w11YaHFLC2oHi HUeg== X-Gm-Message-State: AOJu0Yz1tG0Lphn+1CzkW0vsEzkDptnhsxWAPkp8DdJeRS5e3H85RrQA sEC4snm3POp6nXJTslm+fa0xLRA07UjyPPuyyBWNk3nLPPgJ0B5CGkgwHTRBYRF4kBpFIjBjbgu dFcDuF6huEyp1uSYrIynyoYrw4BcSAc5c430j28pMpOI3Vw57Etd9mkr5jSa8 X-Gm-Gg: ASbGncuvX6uMoipds21zSLQtOvn+Vo7qsP7/FLIjdPq2q+5rBkRgLO4MBDAXySGe9Rf wbYG/WhBEVUKH9szHmg41ayRKkzv7jzBJMfvg3LC/YFRTneneeSzqwQ4HuSbHVC3UlJs+Kog6K6 rkY4kIG0f6GROcmtbWPIMksaX2E334VatAWZt+NMxQjE5KM5LrgUHFGglU6apmTGoHNxTg98Ta9 AqMxv8OHlcCMhr51Ndx8U8gdac7dVplQXYmT/pcwRocsj1mstw2OQmE+BL3Kgf5ODZ4Vn8NWbXe AXHUJYT+MDncSptcJjYEpiXwJQRHzmN2Qrg9GE0kpgZmDDs= X-Google-Smtp-Source: AGHT+IHkUi4L2g5ehnF9zCQshw1vfRp7Hi5YSPjcumGnlStMCbdaDwwgmhREPyAMF3vOUm+XLkKN2zNxdYs0 X-Received: by 2002:a05:6871:452:b0:2eb:87a9:7fc1 with SMTP id 586e51a60fabf-2f76c9d1d9emr686644fac.27.1751487901044; Wed, 02 Jul 2025 13:25:01 -0700 (PDT) Received: from postal.iol.unh.edu (postal.iol.unh.edu. [2606:4100:3880:1234::84]) by smtp-relay.gmail.com with ESMTPS id 586e51a60fabf-2efd4dc421fsm789702fac.10.2025.07.02.13.25.00 (version=TLS1_2 cipher=ECDHE-ECDSA-AES128-GCM-SHA256 bits=128/128); Wed, 02 Jul 2025 13:25:01 -0700 (PDT) X-Relaying-Domain: iol.unh.edu Date: Wed, 02 Jul 2025 13:25:01 -0700 (PDT) Message-ID: <6865959d.050a0220.3085ee.f259SMTPIN_ADDED_MISSING@mx.google.com> Received: from [172.21.0.8] (unknown [172.18.0.240]) by postal.iol.unh.edu (Postfix) with ESMTP id 7DDA26051830; Wed, 2 Jul 2025 16:25:00 -0400 (EDT) Subject: |SUCCESS| pw154966 [PATCH] net/mlx5: fix crash when using meter in t From: dpdklab@iol.unh.edu To: Test Report Cc: dpdk-test-reports@iol.unh.edu In-Reply-To: <20250702123617.1814996-1-14pwcse1224@uetpeshawar.edu.pk> References: <20250702123617.1814996-1-14pwcse1224@uetpeshawar.edu.pk> Content-Type: text/plain X-BeenThere: test-report@dpdk.org X-Mailman-Version: 2.1.29 Precedence: list List-Id: automatic DPDK test reports List-Unsubscribe: , List-Archive: List-Post: List-Help: List-Subscribe: , Errors-To: test-report-bounces@dpdk.org Test-Label: iol-abi-testing Test-Status: SUCCESS http://dpdk.org/patch/154966 _Testing PASS_ Submitter: Khadem Ullah <14pwcse1224@uetpeshawar.edu.pk> Date: Wednesday, July 02 2025 12:36:17 DPDK git baseline: Repo:dpdk Branch: master CommitID:5c0c1a13c34aa57c6e18f9ba852a9b5807c58b72 154966 --> testing pass Upstream job id: Generic-DPDK-Compile-ABI#132700 Test environment and result as below: +-------------------------------+----------+ | Environment | abi_test | +===============================+==========+ | CentOS Stream 9 | PASS | +-------------------------------+----------+ | Fedora Linux 41 | PASS | +-------------------------------+----------+ | Debian GNU/Linux 12 | PASS | +-------------------------------+----------+ | Red Hat Enterprise Linux 8.10 | PASS | +-------------------------------+----------+ | Fedora Linux 40 | PASS | +-------------------------------+----------+ | Red Hat Enterprise Linux 9.5 | PASS | +-------------------------------+----------+ | CentOS Stream 10 | PASS | +-------------------------------+----------+ | openSUSE Leap 15.6 | PASS | +-------------------------------+----------+ | Ubuntu 24.04 | PASS | +-------------------------------+----------+ | Ubuntu 22.04 | PASS | +-------------------------------+----------+ CentOS Stream 9 Kernel: 5.15 Compiler: gcc gcc (GCC) 11.5.0 20240719 (Red Hat 11.5.0-7) Fedora Linux 41 Kernel: 5.15 Compiler: gcc gcc (GCC) 14.3.1 20250523 (Red Hat 14.3.1-1) Debian GNU/Linux 12 Kernel: 5.15 Compiler: gcc gcc (Debian 12.2.0-14+deb12u1) 12.2.0 Red Hat Enterprise Linux 8.10 Kernel: 5.15 Compiler: gcc gcc (GCC) 8.5.0 20210514 (Red Hat 8.5.0-22) Fedora Linux 40 Kernel: 5.15 Compiler: clang gcc (GCC) 14.2.1 20240912 (Red Hat 14.2.1-3) Red Hat Enterprise Linux 9.5 Kernel: 5.15 Compiler: gcc gcc (GCC) 11.5.0 20240719 (Red Hat 11.5.0-2) CentOS Stream 10 Kernel: 5.15 Compiler: gcc gcc (GCC) 14.2.1 20250110 (Red Hat 14.2.1-8) openSUSE Leap 15.6 Kernel: 5.15 Compiler: gcc gcc (SUSE Linux) 7.5.0 Ubuntu 24.04 Kernel: 5.15 Compiler: gcc gcc (Ubuntu 13.3.0-6ubuntu2~24.04) 13.3.0 Ubuntu 22.04 Kernel: 5.15 Compiler: gcc gcc (Ubuntu 11.4.0-1ubuntu1~22.04) 11.4.0 To view detailed results, visit: https://lab.dpdk.org/results/dashboard/patchsets/33567/ UNH-IOL DPDK Community Lab To manage your email subscriptions, visit: https://lab.dpdk.org/results/dashboard/preferences/subscriptions/